BEGIN:VCALENDAR
VERSION:2.0
PRODID:-//I Love Babylon, NY - ECPv6.15.20//NONSGML v1.0//EN
CALSCALE:GREGORIAN
METHOD:PUBLISH
X-WR-CALNAME:I Love Babylon, NY
X-ORIGINAL-URL:https://ilovebabylon.com
X-WR-CALDESC:Events for I Love Babylon, NY
REFRESH-INTERVAL;VALUE=DURATION:PT1H
X-Robots-Tag:noindex
X-PUBLISHED-TTL:PT1H
BEGIN:VTIMEZONE
TZID:America/New_York
BEGIN:DAYLIGHT
TZOFFSETFROM:-0500
TZOFFSETTO:-0400
TZNAME:EDT
DTSTART:20250309T070000
END:DAYLIGHT
BEGIN:STANDARD
TZOFFSETFROM:-0400
TZOFFSETTO:-0500
TZNAME:EST
DTSTART:20251102T060000
END:STANDARD
BEGIN:DAYLIGHT
TZOFFSETFROM:-0500
TZOFFSETTO:-0400
TZNAME:EDT
DTSTART:20260308T070000
END:DAYLIGHT
BEGIN:STANDARD
TZOFFSETFROM:-0400
TZOFFSETTO:-0500
TZNAME:EST
DTSTART:20261101T060000
END:STANDARD
BEGIN:DAYLIGHT
TZOFFSETFROM:-0500
TZOFFSETTO:-0400
TZNAME:EDT
DTSTART:20270314T070000
END:DAYLIGHT
BEGIN:STANDARD
TZOFFSETFROM:-0400
TZOFFSETTO:-0500
TZNAME:EST
DTSTART:20271107T060000
END:STANDARD
END:VTIMEZONE
BEGIN:VEVENT
DTSTART;TZID=America/New_York:20260105T104000
DTEND;TZID=America/New_York:20260105T113000
DTSTAMP:20260423T065727
CREATED:20251231T102911Z
LAST-MODIFIED:20260104T143824Z
UID:10007319-1767609600-1767612600@ilovebabylon.com
SUMMARY:Breathwork & Soundbath every Monday morning
DESCRIPTION:Join Jenna and Denise for our Monday Morning Breathwork & Sound Bath 10:40-11:30am—a gentle yet powerful reset for mind\, body\, and spirit. This calming session begins with guided breathwork to help release tension\, ground your energy\, and create space for clarity and focus. As your breath settles\, you’ll be immersed in the soothing tones of crystal singing bowls\, chimes\, and gentle frequencies\, designed to realign your energy and promote deep relaxation. Start your week feeling refreshed\, centered\, and ready to move through your days with greater ease and presence. Please bring a yoga mat and wear comfortable clothing. No experience is required. Included in yoga studio membership or non members by donation\, pay what you’d like.📍Held at Third Season Yoga\, 233 Broadway\, Amityville\, NY \nSign up at Thirdseasonyoga.com \n#aromatherapy #reiki #reikihealing #areikimaster #wellness #wellnessjourney #healing #harmony #selflove #balance #suffolkcounty #nassaucounty #aromatherapy #aroma #selfcare #bekind #bewell #bemindful #monarchnature #selfesteemboost #reikienergy #reikipractitioner #2025 #soundhealing #meditation
URL:https://ilovebabylon.com/event/breathwork-soundbath-every-monday-morning-3/
LOCATION:Third Season Yoga\, Third Season Yoga
END:VEVENT
BEGIN:VEVENT
DTSTART;TZID=America/New_York:20260105T110000
DTEND;TZID=America/New_York:20260105T140000
DTSTAMP:20260423T065727
CREATED:20251231T102914Z
LAST-MODIFIED:20260104T143829Z
UID:10007320-1767610800-1767621600@ilovebabylon.com
SUMMARY:Frosted Sodas and Floats Tasting Event
DESCRIPTION:Come try our new Frosted Sodas and Floats! We will be sampling multiple sodas on Launch Day between 11:00 am – 2:00 pm.
URL:https://ilovebabylon.com/event/frosted-sodas-and-floats-tasting-event/
LOCATION:1991 Broadhollow Rd\, Farmingdale\, NY\, 1991 Broadhollow Rd\, Farmingdale\, NY
END:VEVENT
BEGIN:VEVENT
DTSTART;TZID=America/New_York:20260105T183000
DTEND;TZID=America/New_York:20260105T213000
DTSTAMP:20260423T065728
CREATED:20251231T102919Z
LAST-MODIFIED:20260104T143833Z
UID:10007321-1767637800-1767648600@ilovebabylon.com
SUMMARY:Krush Open Jam at The Warehouse
DESCRIPTION:Krush Open Jam at The Warehouse \nMonday January 5\, 2026 \nStep into the spotlight and let the music flow! \nKrush hosts local musicians\, vocalists\, and music lovers as they come together to create something special.  \nBring your instrument\, your voice\, or just your passion for live music — and join a rotating lineup of talented players for an evening of spontaneous jams and good vibes! \nEnjoy great food\, cold drinks\, and an electric atmosphere where creativity and community meet! \nTickets available at: www.thewarehouseli.com/calendar \nDoors 6:30/Sign-ups 6:45 \nCome early to grab your spot and soak up the sound!
URL:https://ilovebabylon.com/event/krush-open-jam-at-the-warehouse/
LOCATION:The Warehouse Live Music & Events\, The Warehouse Live Music & Events
END:VEVENT
BEGIN:VEVENT
DTSTART;TZID=America/New_York:20260105T193000
DTEND;TZID=America/New_York:20260105T223000
DTSTAMP:20260423T065728
CREATED:20260104T143837Z
LAST-MODIFIED:20260104T143837Z
UID:10007398-1767641400-1767652200@ilovebabylon.com
SUMMARY:One Piece Card Game Local Tournament
DESCRIPTION:7:00PM Signups7:30PM Start$10.00 EntryFull Credit Prize PoolPromo to every player signed up!Join us every Monday & Thursday! \nhttps://www.facebook.com/events/1472144757231158/?event_time_id=1472144817231152
URL:https://ilovebabylon.com/event/one-piece-card-game-local-tournament-3/
LOCATION:1883-B Deer Park Avenue\, Deer Park\, NY\, United States\, New York 11729\, 1883-B Deer Park Avenue\, Deer Park\, NY\, United States\, New York 11729
END:VEVENT
BEGIN:VEVENT
DTSTART;TZID=America/New_York:20260105T193000
DTEND;TZID=America/New_York:20260105T230000
DTSTAMP:20260423T065728
CREATED:20260104T143840Z
LAST-MODIFIED:20260104T143840Z
UID:10007399-1767641400-1767654000@ilovebabylon.com
SUMMARY:Pokemon TCG League Tournament
DESCRIPTION:$10.00 EntryFull Store Credit Prize Pool1 Prize Pack per Player*7:30PM StartStandard Constructed FormatA Complete Play!Pokemon Player ID is required(Create an account on Pokemon.com and link your Player ID!)*While Supplies Last \nhttps://www.facebook.com/events/1565548781102617/?event_time_id=1565548844435944
URL:https://ilovebabylon.com/event/pokemon-tcg-league-tournament-3/
LOCATION:1883-B Deer Park Avenue\, Deer Park\, NY\, United States\, New York 11729\, 1883-B Deer Park Avenue\, Deer Park\, NY\, United States\, New York 11729
END:VEVENT
BEGIN:VEVENT
DTSTART;TZID=America/New_York:20260105T193000
DTEND;TZID=America/New_York:20260105T230000
DTSTAMP:20260423T065728
CREATED:20260104T143842Z
LAST-MODIFIED:20260104T143842Z
UID:10007400-1767641400-1767654000@ilovebabylon.com
SUMMARY:SuperShow Tournament
DESCRIPTION:Every MondayEntry: $5.00Registration at 7:00PMRound 1 at 7:30PMFull Credit Prize Pool! \nhttps://www.facebook.com/events/1484388959481342/?event_time_id=1484389069481331
URL:https://ilovebabylon.com/event/supershow-tournament-2/
LOCATION:1883-B Deer Park Avenue\, Deer Park\, NY\, United States\, New York 11729\, 1883-B Deer Park Avenue\, Deer Park\, NY\, United States\, New York 11729
END:VEVENT
END:VCALENDAR