BEGIN:VCALENDAR
VERSION:2.0
PRODID:-//I Love Babylon, NY - ECPv6.15.20//NONSGML v1.0//EN
CALSCALE:GREGORIAN
METHOD:PUBLISH
X-WR-CALNAME:I Love Babylon, NY
X-ORIGINAL-URL:https://ilovebabylon.com
X-WR-CALDESC:Events for I Love Babylon, NY
REFRESH-INTERVAL;VALUE=DURATION:PT1H
X-Robots-Tag:noindex
X-PUBLISHED-TTL:PT1H
BEGIN:VTIMEZONE
TZID:America/New_York
BEGIN:DAYLIGHT
TZOFFSETFROM:-0500
TZOFFSETTO:-0400
TZNAME:EDT
DTSTART:20250309T070000
END:DAYLIGHT
BEGIN:STANDARD
TZOFFSETFROM:-0400
TZOFFSETTO:-0500
TZNAME:EST
DTSTART:20251102T060000
END:STANDARD
BEGIN:DAYLIGHT
TZOFFSETFROM:-0500
TZOFFSETTO:-0400
TZNAME:EDT
DTSTART:20260308T070000
END:DAYLIGHT
BEGIN:STANDARD
TZOFFSETFROM:-0400
TZOFFSETTO:-0500
TZNAME:EST
DTSTART:20261101T060000
END:STANDARD
BEGIN:DAYLIGHT
TZOFFSETFROM:-0500
TZOFFSETTO:-0400
TZNAME:EDT
DTSTART:20270314T070000
END:DAYLIGHT
BEGIN:STANDARD
TZOFFSETFROM:-0400
TZOFFSETTO:-0500
TZNAME:EST
DTSTART:20271107T060000
END:STANDARD
END:VTIMEZONE
BEGIN:VEVENT
DTSTART;TZID=America/New_York:20260203T150000
DTEND;TZID=America/New_York:20260206T180000
DTSTAMP:20260423T045425
CREATED:20260204T175956Z
LAST-MODIFIED:20260302T140053Z
UID:10007625-1770130800-1770400800@ilovebabylon.com
SUMMARY:Toddler time $80 Monthly Pass - Feb
DESCRIPTION:Come down Thursdays or Fridays at 10 AM all February (president week is Monday and Friday) and hang out with Miss Liz\, for crafting\, open play\, toddler stations\, sensory activities\, and much more! With this pass\, you get weekly access for February for only $20 per class. Come down for an hour of fun and a mess.
URL:https://ilovebabylon.com/event/toddler-time-80-monthly-pass-feb/
LOCATION:The Color Palette Lindenhurst\, 51 West Hoffman Ave.\, Lindenhurst\, NY\, 11757\, US
CATEGORIES:Arts and Crafts
END:VEVENT
BEGIN:VEVENT
DTSTART;TZID=America/New_York:20260203T180000
DTEND;TZID=America/New_York:20260203T210000
DTSTAMP:20260423T045425
CREATED:20260125T214007Z
LAST-MODIFIED:20260130T191129Z
UID:10007526-1770141600-1770152400@ilovebabylon.com
SUMMARY:Come meet Zakk Wylde
DESCRIPTION:Artist – Zakk Wylde \nTitle – Engines Of Demolition \nEvent – In-Store Autograph Signing & Photo Op \nDate – Tuesday\, February 3rd\, 2026 \nEvent Start Time – 6PM \nPURCHASE HERE: https://tinyurl.com/22zsxyb4 \nWe are so excited to announce that ZAKK WYLDE will be coming to Looney Tunes to celebrate the release of the new Black Label Society album\, “Engines Of Demolition.” This will be an autograph signing & photo op! To get into this event you have to PRE ORDER the new CD or RECORD LP from us to get a special wristband to attend this event. \nYOU WILL GET A PICTURE WITH ZAKK AND AN AUTOGRAPH!!!  \nSo this is how the AUTOGRAPH WILL WORK!!! PLEASE READ!!!  \nThis event is a month before the new album comes out on March 27th. You will have to come back to the store on or after March 27th to pick up your CD or LP you order. We will not ship these. We are making a FREE POSTER for you so you can get that signed.ZAKK will sign that poster for you!! No other items can we signed!! No exceptions. Do not bring old albums or guitars they will not be signed.  \nYou can pre order the CD or LP here online or at the store to get your wristband. If you order online there is a $5 paypal fee. Of course there is no fee if you do it in the store. \nEVERY SINGLE PERSON THAT ATTENDS MUST HAVE THEIR OWN WRISTBAND!!! \n**Also if you order online please choose IN-STORE PICK UP as your shipping option. NO orders will ship. There is a paypal fee but NO ORDERS SHIP regardless of what shipping option you pick. You can pick up your wristband at the store the day of the event.  \nPLEASE READ BELOW BEFORE YOU ORDER!!! \nHOWEVER MANY CDS OR LPS YOU BUY…. THATS HOW MANY WRISTBANDS YOU GET. \nEVERY CD AND LP COMES WITH ONE WRISTBAND. \nEVERY SINGLE PERSON NEEDS TO BUY A CD OR LP TO ATTEND EVENT. \nONE WRISTBAND FOR ONE PERSON. YOU CAN NOT BRING A GUEST. \nWHEN YOU ORDER ONLINE YOUR ORDER WILL BE AT STORE DAY OF EVENT FOR PICK UP – PICK THAT UP BEFORE GETTING ONLINE! AFTER YOU HAVE WRISTBAND YOU GET ONLINE OUTSIDE THE STORE \nNO CAMERAS AT THE PHOTO TABLE. WE WILL TAKE YOUR PICTURE AND POST THEM ON OUR FACEBOOK PAGE.  \nALL SALES ARE FINAL!!! THERE ARE NO REFUNDS AFTER PURCHASE!!!  \nTHERE ARE NO EXCEPTIONS TO THESE RULES. IF YOU CAN NOT COMPLY TO THESE\, PLEASE DO NOT PURCHASE A WRISTBAND.
URL:https://ilovebabylon.com/event/come-meet-zakk-wylde/
LOCATION:31 Brookvale Ave\, West Babylon\, NY\, United States\, New York 11704\, 31 Brookvale Ave\, West Babylon\, NY\, United States\, New York 11704
ORGANIZER;CN="Looney Tunes Music and More":MAILTO:noreply@facebookmail.com
END:VEVENT
BEGIN:VEVENT
DTSTART;TZID=America/New_York:20260203T183000
DTEND;TZID=America/New_York:20260203T213000
DTSTAMP:20260423T045425
CREATED:20260130T190724Z
LAST-MODIFIED:20260130T191131Z
UID:10007617-1770143400-1770154200@ilovebabylon.com
SUMMARY:The Magic of Motown
DESCRIPTION:Join film historian Keith Crocker for an engaging look at the legacy of Berry Gordy’s iconic Motown Records. Founded in Detroit in January 1959\, Motown grew into one of the most successful Black-owned businesses and a powerhouse in American music history. You’ll explore the stories behind the hits—and find yourself toe-tapping along to the unforgettable Motown sound!
URL:https://ilovebabylon.com/event/the-magic-of-motown/
LOCATION:50 Deauville Blvd\, Copiague\, NY\, United States\, New York 11726\, 50 Deauville Blvd\, Copiague\, NY\, United States\, New York 11726
END:VEVENT
BEGIN:VEVENT
DTSTART;TZID=America/New_York:20260203T190000
DTEND;TZID=America/New_York:20260203T210000
DTSTAMP:20260423T045425
CREATED:20260125T214009Z
LAST-MODIFIED:20260130T191135Z
UID:10007527-1770145200-1770152400@ilovebabylon.com
SUMMARY:Detox the Mind Through Meditation
DESCRIPTION:Experiencing the Soul Part I \nThese workshops are Part 1 of a Multi-Part Series entitled Experiencing the Soul.Meditation can be the key that unlocks the inner doorway to a life of deep inner peace. It has been practiced for thousands of years and is the core of all great spiritual traditions. By learning how to “tap inside\,” as Emerson put it\, each of us can mine the unlimited wealth lying dormant inside us. \nPresenter: Andrew Vidich\, PhD \n7-Part Workshop SeriesMissed the last one? No worries – each workshop is designed so you can attend independently. \nDate: Tuesday\, February 3Time: 7 – 9 pm Location: Science of Spirituality Meditation Center79 County Line Road\, Amityville\, NY 11701 \nEvent is free of charge! All are welcome!  \nFor more information contact:Stephanie631-822-7979infotristate@sos.org
URL:https://ilovebabylon.com/event/detox-the-mind-through-meditation/
LOCATION:79 County Line Rd\, Amityville\, NY 11701\, 79 County Line Rd\, Amityville\, NY 11701
END:VEVENT
END:VCALENDAR