BEGIN:VCALENDAR
VERSION:2.0
PRODID:-//I Love Babylon, NY - ECPv6.15.20//NONSGML v1.0//EN
CALSCALE:GREGORIAN
METHOD:PUBLISH
X-WR-CALNAME:I Love Babylon, NY
X-ORIGINAL-URL:https://ilovebabylon.com
X-WR-CALDESC:Events for I Love Babylon, NY
REFRESH-INTERVAL;VALUE=DURATION:PT1H
X-Robots-Tag:noindex
X-PUBLISHED-TTL:PT1H
BEGIN:VTIMEZONE
TZID:America/New_York
BEGIN:DAYLIGHT
TZOFFSETFROM:-0500
TZOFFSETTO:-0400
TZNAME:EDT
DTSTART:20250309T070000
END:DAYLIGHT
BEGIN:STANDARD
TZOFFSETFROM:-0400
TZOFFSETTO:-0500
TZNAME:EST
DTSTART:20251102T060000
END:STANDARD
BEGIN:DAYLIGHT
TZOFFSETFROM:-0500
TZOFFSETTO:-0400
TZNAME:EDT
DTSTART:20260308T070000
END:DAYLIGHT
BEGIN:STANDARD
TZOFFSETFROM:-0400
TZOFFSETTO:-0500
TZNAME:EST
DTSTART:20261101T060000
END:STANDARD
BEGIN:DAYLIGHT
TZOFFSETFROM:-0500
TZOFFSETTO:-0400
TZNAME:EDT
DTSTART:20270314T070000
END:DAYLIGHT
BEGIN:STANDARD
TZOFFSETFROM:-0400
TZOFFSETTO:-0500
TZNAME:EST
DTSTART:20271107T060000
END:STANDARD
END:VTIMEZONE
BEGIN:VEVENT
DTSTART;TZID=America/New_York:20260203T150000
DTEND;TZID=America/New_York:20260206T180000
DTSTAMP:20260423T045337
CREATED:20260204T175956Z
LAST-MODIFIED:20260302T140053Z
UID:10007625-1770130800-1770400800@ilovebabylon.com
SUMMARY:Toddler time $80 Monthly Pass - Feb
DESCRIPTION:Come down Thursdays or Fridays at 10 AM all February (president week is Monday and Friday) and hang out with Miss Liz\, for crafting\, open play\, toddler stations\, sensory activities\, and much more! With this pass\, you get weekly access for February for only $20 per class. Come down for an hour of fun and a mess.
URL:https://ilovebabylon.com/event/toddler-time-80-monthly-pass-feb/
LOCATION:The Color Palette Lindenhurst\, 51 West Hoffman Ave.\, Lindenhurst\, NY\, 11757\, US
CATEGORIES:Arts and Crafts
END:VEVENT
BEGIN:VEVENT
DTSTART;TZID=America/New_York:20260204T110000
DTEND;TZID=America/New_York:20260204T120000
DTSTAMP:20260423T045337
CREATED:20260125T214011Z
LAST-MODIFIED:20260130T191137Z
UID:10007528-1770202800-1770206400@ilovebabylon.com
SUMMARY:Parent Support Meeting
DESCRIPTION:God and Family First LEAH\, a chapter of Homeschool New York/ LEAH invites you to a parent support meeting\, open to all homeschooling families during the Library’s homeschool program time. Being held in the Wellwood RoomSign your child up for the program (fiero coding class) if space permits or bring your younger/olderchildren to the meeting prepared with quiet activities- we can probably borrow some games from the Library. Any/all topics and questions welcome
URL:https://ilovebabylon.com/event/parent-support-meeting/
LOCATION:Lindenhurst Memorial Library\, 1 Lee Ave\, Lindenhurst\, NY\, 11757-5399\, US
END:VEVENT
BEGIN:VEVENT
DTSTART;TZID=America/New_York:20260204T113000
DTEND;TZID=America/New_York:20260204T143000
DTSTAMP:20260423T045337
CREATED:20260125T214015Z
LAST-MODIFIED:20260130T191139Z
UID:10007529-1770204600-1770215400@ilovebabylon.com
SUMMARY:Monthly Book Club with Jackie & Monica
DESCRIPTION:February 4-Part 5 11:30AM-12:45PMBy Donation In-Studio Only  \nThe Untethered Soul By Michael Singer“What would it be like to free yourself from limitations and soar beyond your boundaries? What can you do each day to discover inner peace and serenity? The Untethered Soul offers simple yet profound answers to these questions. \nCopublished with the Institute of Noetic Sciences (IONS) The Untethered Soul begins by walking you through your relationship with your thoughts and emotions\, helping you uncover the source and fluctuations of your inner energy. It then delves into what you can do to free yourself from the habitual thoughts\, emotions\, and energy patterns that limit your consciousness. Finally\, with perfect clarity\, this book opens the door to a life lived in the freedom of your innermost being.”
URL:https://ilovebabylon.com/event/monthly-book-club-with-jackie-monica-2/
LOCATION:107 E Main St\, Babylon\, NY\, 107 E Main St\, Babylon\, NY
END:VEVENT
BEGIN:VEVENT
DTSTART;TZID=America/New_York:20260204T150000
DTEND;TZID=America/New_York:20260204T180000
DTSTAMP:20260423T045337
CREATED:20260130T190738Z
LAST-MODIFIED:20260130T191141Z
UID:10007618-1770217200-1770228000@ilovebabylon.com
SUMMARY:Singapore: The Sparkling Little City State
DESCRIPTION:Two hundred years ago\, a treaty led to the founding of the British colony of Singapore. Since gaining independence in 1965\, it has rapidly modernized into a wealthy global financial hub. Today\, Singapore is known for its sleek architecture\, vibrant cultural districts\, and strict laws. Join educator Sheila Taub to explore why Singapore is a top destination when visiting Southeast Asia.
URL:https://ilovebabylon.com/event/singapore-the-sparkling-little-city-state/
LOCATION:50 Deauville Blvd\, Copiague\, NY\, United States\, New York 11726\, 50 Deauville Blvd\, Copiague\, NY\, United States\, New York 11726
END:VEVENT
BEGIN:VEVENT
DTSTART;TZID=America/New_York:20260204T183000
DTEND;TZID=America/New_York:20260204T213000
DTSTAMP:20260423T045337
CREATED:20260130T190740Z
LAST-MODIFIED:20260302T140057Z
UID:10007619-1770229800-1770240600@ilovebabylon.com
SUMMARY:Multi layer heart
DESCRIPTION:Eat\, craft and have a blast. Feb 4\, 2026 at 6:30pm Edgewood Bar & Grill We are creating a 8×8 multi layer heart!Seats are limited. Grab the girls and claim your spot today! \nhttps://square.link/u/k538hmEo \nDM me if you have any questions!Thanks
URL:https://ilovebabylon.com/event/multi-layer-heart/
LOCATION:Edgewood Bar & Grill\, 511a Commack Road\, Deer Park\, NY\, 11729\, US
CATEGORIES:Arts and Crafts
END:VEVENT
END:VCALENDAR