BEGIN:VCALENDAR
VERSION:2.0
PRODID:-//I Love Babylon, NY - ECPv6.15.20//NONSGML v1.0//EN
CALSCALE:GREGORIAN
METHOD:PUBLISH
X-ORIGINAL-URL:https://ilovebabylon.com
X-WR-CALDESC:Events for I Love Babylon, NY
REFRESH-INTERVAL;VALUE=DURATION:PT1H
X-Robots-Tag:noindex
X-PUBLISHED-TTL:PT1H
BEGIN:VTIMEZONE
TZID:America/New_York
BEGIN:DAYLIGHT
TZOFFSETFROM:-0500
TZOFFSETTO:-0400
TZNAME:EDT
DTSTART:20250309T070000
END:DAYLIGHT
BEGIN:STANDARD
TZOFFSETFROM:-0400
TZOFFSETTO:-0500
TZNAME:EST
DTSTART:20251102T060000
END:STANDARD
BEGIN:DAYLIGHT
TZOFFSETFROM:-0500
TZOFFSETTO:-0400
TZNAME:EDT
DTSTART:20260308T070000
END:DAYLIGHT
BEGIN:STANDARD
TZOFFSETFROM:-0400
TZOFFSETTO:-0500
TZNAME:EST
DTSTART:20261101T060000
END:STANDARD
BEGIN:DAYLIGHT
TZOFFSETFROM:-0500
TZOFFSETTO:-0400
TZNAME:EDT
DTSTART:20270314T070000
END:DAYLIGHT
BEGIN:STANDARD
TZOFFSETFROM:-0400
TZOFFSETTO:-0500
TZNAME:EST
DTSTART:20271107T060000
END:STANDARD
END:VTIMEZONE
BEGIN:VEVENT
DTSTART;TZID=America/New_York:20260203T150000
DTEND;TZID=America/New_York:20260206T180000
DTSTAMP:20260423T190047
CREATED:20260204T175956Z
LAST-MODIFIED:20260302T140053Z
UID:10007625-1770130800-1770400800@ilovebabylon.com
SUMMARY:Toddler time $80 Monthly Pass - Feb
DESCRIPTION:Come down Thursdays or Fridays at 10 AM all February (president week is Monday and Friday) and hang out with Miss Liz\, for crafting\, open play\, toddler stations\, sensory activities\, and much more! With this pass\, you get weekly access for February for only $20 per class. Come down for an hour of fun and a mess.
URL:https://ilovebabylon.com/event/toddler-time-80-monthly-pass-feb/
LOCATION:The Color Palette Lindenhurst\, 51 West Hoffman Ave.\, Lindenhurst\, NY\, 11757\, US
CATEGORIES:Arts and Crafts
END:VEVENT
BEGIN:VEVENT
DTSTART;TZID=America/New_York:20260205T183000
DTEND;TZID=America/New_York:20260205T213000
DTSTAMP:20260423T190047
CREATED:20260130T190744Z
LAST-MODIFIED:20260302T140100Z
UID:10007620-1770316200-1770327000@ilovebabylon.com
SUMMARY:Valentine’s Day Trio of Crafts
DESCRIPTION:Get ready to get crafty with Rinette. Create three fabulous craft projects to brighten your home. First decoupage a candle and a soap dispenser then paint a pair of wooden hearts. Please bring a glue gun\, scissors\, flat paint brush and a small house iron.
URL:https://ilovebabylon.com/event/valentines-day-trio-of-crafts/
LOCATION:50 Deauville Blvd\, Copiague\, NY\, United States\, New York 11726\, 50 Deauville Blvd\, Copiague\, NY\, United States\, New York 11726
CATEGORIES:Arts and Crafts
END:VEVENT
BEGIN:VEVENT
DTSTART;TZID=America/New_York:20260205T190000
DTEND;TZID=America/New_York:20260205T220000
DTSTAMP:20260423T190047
CREATED:20260125T214017Z
LAST-MODIFIED:20260204T175952Z
UID:10007530-1770318000-1770328800@ilovebabylon.com
SUMMARY:Lisette Melendez Record Release Party presented by Ladybug Records and Power 78.7 at The Warehouse
DESCRIPTION:Lisette Melendez Record Release Party presented by Ladybug Records and Power 78.7 at The Warehouse \nThursday February 5\, 2026 \nJoin Lisette Melendez and Celebrate her ‘Recalibrate’ Record Release at The Warehouse!  \nThe Freestyle Superstar performs her New Music AND her Classic Hits! \nDJ MDW keeps the party going All Night! \nPresented by Ladybug Records and Power 78.7 Radio  \nTickets and VIP Meet & Greet Packages available now at: www.thewarehouseli.com/calendar \nDoors 7pm
URL:https://ilovebabylon.com/event/lisette-melendez-record-release-party-presented-by-ladybug-records-and-power-78-7-at-the-warehouse/
LOCATION:The Warehouse Live Music & Events\, The Warehouse Live Music & Events
END:VEVENT
BEGIN:VEVENT
DTSTART;TZID=America/New_York:20260205T190000
DTEND;TZID=America/New_York:20260205T220000
DTSTAMP:20260423T190047
CREATED:20260125T214019Z
LAST-MODIFIED:20260204T175954Z
UID:10007531-1770318000-1770328800@ilovebabylon.com
SUMMARY:Lisette Melendez record release party “ RECALIBRATE “
DESCRIPTION:Lady Bug records & Power 78.7 Radio present Lisette Melendez record release party “ RECALIBRATE “ music by DJ MDW MEET & GREET tickets also available
URL:https://ilovebabylon.com/event/lisette-melendez-record-release-party-recalibrate/
LOCATION:The Warehouse Live Music & Events\, The Warehouse Live Music & Events
END:VEVENT
END:VCALENDAR