BEGIN:VCALENDAR
VERSION:2.0
PRODID:-//I Love Babylon, NY - ECPv6.15.20//NONSGML v1.0//EN
CALSCALE:GREGORIAN
METHOD:PUBLISH
X-ORIGINAL-URL:https://ilovebabylon.com
X-WR-CALDESC:Events for I Love Babylon, NY
REFRESH-INTERVAL;VALUE=DURATION:PT1H
X-Robots-Tag:noindex
X-PUBLISHED-TTL:PT1H
BEGIN:VTIMEZONE
TZID:America/New_York
BEGIN:DAYLIGHT
TZOFFSETFROM:-0500
TZOFFSETTO:-0400
TZNAME:EDT
DTSTART:20250309T070000
END:DAYLIGHT
BEGIN:STANDARD
TZOFFSETFROM:-0400
TZOFFSETTO:-0500
TZNAME:EST
DTSTART:20251102T060000
END:STANDARD
BEGIN:DAYLIGHT
TZOFFSETFROM:-0500
TZOFFSETTO:-0400
TZNAME:EDT
DTSTART:20260308T070000
END:DAYLIGHT
BEGIN:STANDARD
TZOFFSETFROM:-0400
TZOFFSETTO:-0500
TZNAME:EST
DTSTART:20261101T060000
END:STANDARD
BEGIN:DAYLIGHT
TZOFFSETFROM:-0500
TZOFFSETTO:-0400
TZNAME:EDT
DTSTART:20270314T070000
END:DAYLIGHT
BEGIN:STANDARD
TZOFFSETFROM:-0400
TZOFFSETTO:-0500
TZNAME:EST
DTSTART:20271107T060000
END:STANDARD
END:VTIMEZONE
BEGIN:VEVENT
DTSTART;TZID=America/New_York:20260212T110000
DTEND;TZID=America/New_York:20260216T210000
DTSTAMP:20260425T073559
CREATED:20260212T190025Z
LAST-MODIFIED:20260212T190025Z
UID:10007652-1770894000-1771275600@ilovebabylon.com
SUMMARY:Get Up to $5\,000 Over Book Value for Your Trade In Today!
DESCRIPTION:🚙✨ Thinking about upgrading your drive? Now’s a great time to explore what your trade-in could be worth. \nFor a limited time at Hyundai of 110\, customers who trade in and move up to a new Hyundai may qualify for up to $5\,000 over book value toward their next vehicle. It’s an excellent opportunity to explore new Hyundai models with modern technology\, comfort\, and performance—while getting strong value for what you drive today. \n📍 2100 Broadhollow Rd.\, Farmingdale\, NY 11735 \n 📞 848-208-1067 \n🕒 Hours: Mon–Fri: 9:00 AM – 9:00 PM Saturday: 9:00 AM – 6:00 PM Sunday: 11:00 AM – 5:00 PM \nInventory is always changing\, so visit us in person or reach out to learn more about current availability and details. \n👉 Stop by Hyundai of 110 and see what’s possible today. \nhttps://www.hyundaiof110.com/carfax-trade-in.htm
URL:https://ilovebabylon.com/event/get-up-to-5000-over-book-value-for-your-trade-in-today/
LOCATION:2100 Broadhollow Rd.\, Farmingdale\, NY\, United States\, New York 11735\, 2100 Broadhollow Rd.\, Farmingdale\, NY\, United States\, New York 11735
END:VEVENT
BEGIN:VEVENT
DTSTART;TZID=America/New_York:20260213T150000
DTEND;TZID=America/New_York:20260217T020000
DTSTAMP:20260425T073559
CREATED:20260212T190043Z
LAST-MODIFIED:20260212T190043Z
UID:10007654-1770994800-1771293600@ilovebabylon.com
SUMMARY:Farmingdale Floor Sample BLOWOUT | Friday thru Monday!
DESCRIPTION:💥 FLOOR SAMPLE SALE 💥 \nSomething fresh\, luxurious and exciting is coming this spring – and we need to CLEAR THE FLOOR! \n✅ Up to 60% off over 100 floor sample pieces🔥 Full-room deals up to 50% off💥 Accessories up to 75% off💳 24 months interest-free financing (minimum purchase may be required) \nLimited selection\, first come first served. Shop Farmingdale | 2/13-2/16.
URL:https://ilovebabylon.com/event/farmingdale-floor-sample-blowout-friday-thru-monday/
LOCATION:1648 Broadhollow Rd\, Farmingdale\, NY 11735\, 1648 Broadhollow Rd\, Farmingdale\, NY 11735
END:VEVENT
BEGIN:VEVENT
DTSTART;TZID=America/New_York:20260216T090000
DTEND;TZID=America/New_York:20260220T230000
DTSTAMP:20260425T073559
CREATED:20260125T214428Z
LAST-MODIFIED:20260217T190035Z
UID:10007585-1771232400-1771628400@ilovebabylon.com
SUMMARY:February break camp
DESCRIPTION:Now enrolling for February break winter camp for ages 2-8￼
URL:https://ilovebabylon.com/event/february-break-camp/
LOCATION:155 Farmingdale road (Route 109)\, West Babylon\, NY\, 155 Farmingdale road (Route 109)\, West Babylon\, NY
END:VEVENT
BEGIN:VEVENT
DTSTART;TZID=America/New_York:20260216T120000
DTEND;TZID=America/New_York:20260216T160000
DTSTAMP:20260425T073559
CREATED:20260125T214432Z
LAST-MODIFIED:20260212T190324Z
UID:10007586-1771243200-1771257600@ilovebabylon.com
SUMMARY:Paint\, Slime Time and Make Bracelets - WALK-INS with no reservations required.
DESCRIPTION:Paint\, slime time and bracelet making at Creative Touch MONDAY\, February 16th from 12pm-4pm for walk-ins with no reservations required.Spacious Long Island art studio with plenty of free parking 631-601-6681 http://CreativeTouchLI.com76 E Sunrise Highway Lindenhurst
URL:https://ilovebabylon.com/event/paint-slime-time-and-make-bracelets-walk-ins-with-no-reservations-required-6/
LOCATION:76 E Sunrise\, Lindenhurst\, NY\, United States\, New York 11757\, 76 E Sunrise\, Lindenhurst\, NY\, United States\, New York 11757
END:VEVENT
BEGIN:VEVENT
DTSTART;TZID=America/New_York:20260216T123000
DTEND;TZID=America/New_York:20260216T163000
DTSTAMP:20260425T073559
CREATED:20260212T190328Z
LAST-MODIFIED:20260212T190328Z
UID:10007688-1771245000-1771259400@ilovebabylon.com
SUMMARY:Nerf Battles Mini Camp
DESCRIPTION:Nerf Battle Mini Camp!!Monday\, Feb. 16th (President’s Day)12:30 PM – 4:30 PM \nFor kids ages 4 – 12. \nHere’s what your child will enjoy:⚡️ High-energy Nerf Battles (blasters\, darts\, goggles & wrist bands provided)🍕Pizza for lunch🍿 Snacks🎥 A kid-friendly movie to recharge between activities🌟 A safe\, supervised\, and FUN environment with our staff \n👉 Parents do NOT have to stay.Drop your child off and enjoy 4 hours to yourself. \nSpace is limited so be sure to reserve your child’s spot soon. \nEarly Bird Price:(sign up by Feb. 9th)$90 per child \nSign up after Feb. 9th:$110 per child \nWHAT TO BRING:📍Kids should wear comfortable clothing.📍Carry in a separate\, clean pair of sneakers to change into in our lobby when you arrive.📍Each child should bring their own water bottle.📍If your child does not eat pizza\, they should bring their own lunch. \nLocation:MAX Martial Arts & Fitness1741 Broadhollow Rd.Farmingdale\, NY 11735Call or text: 631-270-4772
URL:https://ilovebabylon.com/event/nerf-battles-mini-camp/
LOCATION:1741 Broad Hollow Rd\, Farmingdale\, NY\, United States\, New York 11735\, 1741 Broad Hollow Rd\, Farmingdale\, NY\, United States\, New York 11735
END:VEVENT
END:VCALENDAR