BEGIN:VCALENDAR
VERSION:2.0
PRODID:-//I Love Babylon, NY - ECPv6.15.20//NONSGML v1.0//EN
CALSCALE:GREGORIAN
METHOD:PUBLISH
X-WR-CALNAME:I Love Babylon, NY
X-ORIGINAL-URL:https://ilovebabylon.com
X-WR-CALDESC:Events for I Love Babylon, NY
REFRESH-INTERVAL;VALUE=DURATION:PT1H
X-Robots-Tag:noindex
X-PUBLISHED-TTL:PT1H
BEGIN:VTIMEZONE
TZID:America/New_York
BEGIN:DAYLIGHT
TZOFFSETFROM:-0500
TZOFFSETTO:-0400
TZNAME:EDT
DTSTART:20250309T070000
END:DAYLIGHT
BEGIN:STANDARD
TZOFFSETFROM:-0400
TZOFFSETTO:-0500
TZNAME:EST
DTSTART:20251102T060000
END:STANDARD
BEGIN:DAYLIGHT
TZOFFSETFROM:-0500
TZOFFSETTO:-0400
TZNAME:EDT
DTSTART:20260308T070000
END:DAYLIGHT
BEGIN:STANDARD
TZOFFSETFROM:-0400
TZOFFSETTO:-0500
TZNAME:EST
DTSTART:20261101T060000
END:STANDARD
BEGIN:DAYLIGHT
TZOFFSETFROM:-0500
TZOFFSETTO:-0400
TZNAME:EDT
DTSTART:20270314T070000
END:DAYLIGHT
BEGIN:STANDARD
TZOFFSETFROM:-0400
TZOFFSETTO:-0500
TZNAME:EST
DTSTART:20271107T060000
END:STANDARD
END:VTIMEZONE
BEGIN:VEVENT
DTSTART;TZID=America/New_York:20260227T120000
DTEND;TZID=America/New_York:20260305T230000
DTSTAMP:20260423T185955
CREATED:20260226T184330Z
LAST-MODIFIED:20260226T184330Z
UID:10007741-1772193600-1772751600@ilovebabylon.com
SUMMARY:Magic The Gathering - TMNT PreRelease Weekend!
DESCRIPTION:COWABUNGA!!!!! \nMagic’s newest set\, Teenage Mutant Ninja Turtles is Here! \nJoin us February 27th through March 1st 2026 for our Sealed PreReleases! Please select the Entry from among the choices! \nFriday\, February 27th – 7:30pm Start\, $40.00 Entry – Sealed Deck Format \nSaturday\, February 18th – 1:00pm Start\, $40.00 Entry – Sealed Deck Format \nSunday\, March 1st – 4:00pm Start\, $40.00 Entry* – 2-Headed Giant Sealed Deck Format \nIf you are NOT planning on playing in an event\, please see our separate reservation for our At-Home PreRelease option. These purchases are for attending and participating in our Sealed events.  \n*2 Player teams are necessary\, totaling $80.00 per team. If you do not have a teammate\, one will randomly be assigned for you.  \nSealed Deck Format is where you build a 40 card deck from a PreRelease Kit- a box containing 6 booster packs and a promo card. \n2-Headed Giant Sealed Deck Format is where you and a teammate build two 40 card decks from 2 PreRelease Kits\, combining the pool of all cards in each kit. Games in this format are 2 vs 2\, and teams start with 30 life instead of 20.  \nWe will have extra kits while supplies last for take home pre-release events. A Wizards ID is required (If you have a MTG Arena account\, it’s the same!). Reserve a Kit today on our website!Reserve your Pre-Release Kit and 2 Play Boosters ahead of time as an At-Home Pre-Release option! Please note that this will NOT serve as entry into any sealed events on February 27th\, February 28th\, or March 1st 2026.  \nBy reserving your At-Home Pre-Release Kit\, you can come in anytime between February 27th and March 5th to pick up your pre-release kit and 2 Play Boosters. A Wizards account will be required\, however we will have a code you can enter into your Wizards Companion app. \nMiss out on the Prerelease Kit? We will also be offering a Play Booster Special- 8 Play Booster Packs and a random Promo card pull from a prior set for $40.00; this is an instore offer\, and a wizards account will also be required.
URL:https://ilovebabylon.com/event/magic-the-gathering-tmnt-prerelease-weekend/
LOCATION:1883-B Deer Park Avenue\, Deer Park\, NY\, United States\, New York 11729\, 1883-B Deer Park Avenue\, Deer Park\, NY\, United States\, New York 11729
END:VEVENT
BEGIN:VEVENT
DTSTART;TZID=America/New_York:20260302T130000
DTEND;TZID=America/New_York:20260302T160000
DTSTAMP:20260423T185955
CREATED:20260301T074854Z
LAST-MODIFIED:20260301T074854Z
UID:10007869-1772456400-1772467200@ilovebabylon.com
SUMMARY:Impact show
DESCRIPTION:You’re Invited to the Official Impact Show – Episode 1 \nThe ZIGO CARE FOUNDATION proudly presents the first episode of The Official Impact Show\, focused on Humanitarian Leadership and Real Impact Stories. \nJoin A. Terry Teaway (Host) and Isaiah Philip Kudah (Co-Host) as they engage special guest Gaye Banbagidar Yahkwenneh in a meaningful conversation about leadership\, service\, and creating real change in our communities. \n� Sunday\, March 2\, 2025� 6:00 PM� Live on Facebook (ZIGO CARE FOUNDATION PAGE) \nThis is more than just a show. It is a platform for insight\, inspiration\, and practical impact. Be part of the conversation. Be part of the change. \nWe look forward to having you join us live.
URL:https://ilovebabylon.com/event/impact-show/
LOCATION:Doe Street\, Doe Street
END:VEVENT
BEGIN:VEVENT
DTSTART;TZID=America/New_York:20260302T130000
DTEND;TZID=America/New_York:20260302T170000
DTSTAMP:20260423T185955
CREATED:20260226T184517Z
LAST-MODIFIED:20260302T140140Z
UID:10007767-1772456400-1772470800@ilovebabylon.com
SUMMARY:Dr. Seuss Bistro Cafe & Sensory Experience
DESCRIPTION:This March is Dr. Seuss Month! Join us at our Dr. Seuss Breakfast Bistro and Sensory Discovery. Dine in\, in our Dramatic Play Bistro or join the Bistro staff as waiters\, cashier or dish washers.Role play is an essential and fun way to learn\, fine motor skills\, language development\, math\, and so much more.Explore our favorite Dr. Seuss books at our sensory stations where we bring books to life.Enjoy story time\, a craft or stem out with some fun and messy Oobleck! Each day is sure to be full of fun and learning! Don’t miss out! Join us today! Drop off options available! 💕
URL:https://ilovebabylon.com/event/dr-seuss-bistro-cafe-sensory-experience/
LOCATION:Lindenhurst\, NY\, Lindenhurst\, NY\, 11757\, US
CATEGORIES:Arts and Crafts
END:VEVENT
END:VCALENDAR