BEGIN:VCALENDAR
VERSION:2.0
PRODID:-//I Love Babylon, NY - ECPv6.15.20//NONSGML v1.0//EN
CALSCALE:GREGORIAN
METHOD:PUBLISH
X-ORIGINAL-URL:https://ilovebabylon.com
X-WR-CALDESC:Events for I Love Babylon, NY
REFRESH-INTERVAL;VALUE=DURATION:PT1H
X-Robots-Tag:noindex
X-PUBLISHED-TTL:PT1H
BEGIN:VTIMEZONE
TZID:America/New_York
BEGIN:DAYLIGHT
TZOFFSETFROM:-0500
TZOFFSETTO:-0400
TZNAME:EDT
DTSTART:20250309T070000
END:DAYLIGHT
BEGIN:STANDARD
TZOFFSETFROM:-0400
TZOFFSETTO:-0500
TZNAME:EST
DTSTART:20251102T060000
END:STANDARD
BEGIN:DAYLIGHT
TZOFFSETFROM:-0500
TZOFFSETTO:-0400
TZNAME:EDT
DTSTART:20260308T070000
END:DAYLIGHT
BEGIN:STANDARD
TZOFFSETFROM:-0400
TZOFFSETTO:-0500
TZNAME:EST
DTSTART:20261101T060000
END:STANDARD
BEGIN:DAYLIGHT
TZOFFSETFROM:-0500
TZOFFSETTO:-0400
TZNAME:EDT
DTSTART:20270314T070000
END:DAYLIGHT
BEGIN:STANDARD
TZOFFSETFROM:-0400
TZOFFSETTO:-0500
TZNAME:EST
DTSTART:20271107T060000
END:STANDARD
END:VTIMEZONE
BEGIN:VEVENT
DTSTART;TZID=America/New_York:20260227T120000
DTEND;TZID=America/New_York:20260305T230000
DTSTAMP:20260423T190059
CREATED:20260226T184330Z
LAST-MODIFIED:20260226T184330Z
UID:10007741-1772193600-1772751600@ilovebabylon.com
SUMMARY:Magic The Gathering - TMNT PreRelease Weekend!
DESCRIPTION:COWABUNGA!!!!! \nMagic’s newest set\, Teenage Mutant Ninja Turtles is Here! \nJoin us February 27th through March 1st 2026 for our Sealed PreReleases! Please select the Entry from among the choices! \nFriday\, February 27th – 7:30pm Start\, $40.00 Entry – Sealed Deck Format \nSaturday\, February 18th – 1:00pm Start\, $40.00 Entry – Sealed Deck Format \nSunday\, March 1st – 4:00pm Start\, $40.00 Entry* – 2-Headed Giant Sealed Deck Format \nIf you are NOT planning on playing in an event\, please see our separate reservation for our At-Home PreRelease option. These purchases are for attending and participating in our Sealed events.  \n*2 Player teams are necessary\, totaling $80.00 per team. If you do not have a teammate\, one will randomly be assigned for you.  \nSealed Deck Format is where you build a 40 card deck from a PreRelease Kit- a box containing 6 booster packs and a promo card. \n2-Headed Giant Sealed Deck Format is where you and a teammate build two 40 card decks from 2 PreRelease Kits\, combining the pool of all cards in each kit. Games in this format are 2 vs 2\, and teams start with 30 life instead of 20.  \nWe will have extra kits while supplies last for take home pre-release events. A Wizards ID is required (If you have a MTG Arena account\, it’s the same!). Reserve a Kit today on our website!Reserve your Pre-Release Kit and 2 Play Boosters ahead of time as an At-Home Pre-Release option! Please note that this will NOT serve as entry into any sealed events on February 27th\, February 28th\, or March 1st 2026.  \nBy reserving your At-Home Pre-Release Kit\, you can come in anytime between February 27th and March 5th to pick up your pre-release kit and 2 Play Boosters. A Wizards account will be required\, however we will have a code you can enter into your Wizards Companion app. \nMiss out on the Prerelease Kit? We will also be offering a Play Booster Special- 8 Play Booster Packs and a random Promo card pull from a prior set for $40.00; this is an instore offer\, and a wizards account will also be required.
URL:https://ilovebabylon.com/event/magic-the-gathering-tmnt-prerelease-weekend/
LOCATION:1883-B Deer Park Avenue\, Deer Park\, NY\, United States\, New York 11729\, 1883-B Deer Park Avenue\, Deer Park\, NY\, United States\, New York 11729
END:VEVENT
BEGIN:VEVENT
DTSTART;TZID=America/New_York:20260303T003000
DTEND;TZID=America/New_York:20260303T030000
DTSTAMP:20260423T190059
CREATED:20260301T074903Z
LAST-MODIFIED:20260301T074903Z
UID:10007870-1772497800-1772506800@ilovebabylon.com
SUMMARY:American Idol Hollywood Week Watch Party
DESCRIPTION:I’ll be at @themaineventny this Monday! Everyone is welcome to come watch 🙂
URL:https://ilovebabylon.com/event/american-idol-hollywood-week-watch-party/
LOCATION:The Main Event – Farmingdale\, The Main Event - Farmingdale
END:VEVENT
BEGIN:VEVENT
DTSTART;TZID=America/New_York:20260303T120000
DTEND;TZID=America/New_York:20260303T150000
DTSTAMP:20260423T190059
CREATED:20260301T074907Z
LAST-MODIFIED:20260301T074907Z
UID:10007871-1772539200-1772550000@ilovebabylon.com
SUMMARY:Cousins Maine Lobster 🦞at Natural Remedies CBD Dispensary Deer Park
DESCRIPTION:🦞🌟Get ready for an amazing event with our food truck\, serving up the freshest Maine lobster delights directly to you🦞 \n📆 Save the Date:🗓 Tuesday\, March 3⏰12:00 – 3:00pm📍1951 Deer Pk Ave\, Deer Park\, NY 11729 \n📲 Spread the word and lock in the date for an indulgent lobster feast! 📱 For a seamless experience\, grab our Cousins Maine Lobster mobile app. Simply set your location to New York\, NY and let the lobster love commence at 12:00 PM! 🦞 \n🔄 Collect points with each order and revel in the joy of lobster! For a contactless breeze\, we welcome major Debit & Credit cards\, including contactless payments. Please note\, we’re going cashless at the truck. \nLet the lobster celebration kick off! Can’t wait to see you there for a day filled with delectable delights and unforgettable lobster memories! 🚚🦞
URL:https://ilovebabylon.com/event/cousins-maine-lobster-%f0%9f%a6%9eat-natural-remedies-cbd-dispensary-deer-park/
LOCATION:1951 Deer Pk Ave\, Deer Park\, NY 11729\, 1951 Deer Pk Ave\, Deer Park\, NY 11729
END:VEVENT
BEGIN:VEVENT
DTSTART;TZID=America/New_York:20260303T170000
DTEND;TZID=America/New_York:20260303T200000
DTSTAMP:20260423T190059
CREATED:20260226T184518Z
LAST-MODIFIED:20260302T135231Z
UID:10007768-1772557200-1772568000@ilovebabylon.com
SUMMARY:Lasting Love Night
DESCRIPTION:Join us for a beautiful night of connection\, celebration\, and storytelling as we recognize couples who have built a lifetime together. \nTuesday\, March 3rd5:00 PM – 8:00 PMVerona Ristorante1255 Melville Rd\, Farmingdale\, NY 11735 \nThis is a FREE dinner event for the first 30 couples who register. \nThe evening will feature:• Live music by Jules• Dinner\, dessert\, wine & beer• Thoughtful gifts for each couple• An opportunity to share love stories and connect with other long-married couples \nSpots are limited and registration is required. \nRegister here: https://forms.gle/hsZ6JikH6Frwptny6 \nWe look forward to honoring these incredible love stories with our community.
URL:https://ilovebabylon.com/event/lasting-love-night/
LOCATION:Verona Ristorante\, Verona Ristorante
CATEGORIES:Music
END:VEVENT
BEGIN:VEVENT
DTSTART;TZID=America/New_York:20260303T173000
DTEND;TZID=America/New_York:20260303T210000
DTSTAMP:20260423T190059
CREATED:20260125T215208Z
LAST-MODIFIED:20260301T074914Z
UID:10007602-1772559000-1772571600@ilovebabylon.com
SUMMARY:The Long Island Business Mixer...Farmingdale/Melville/Huntington
DESCRIPTION:Tickets are just $10 now with Promo Code: BCDISCOUNT- RSVP Now and Save.Cost is $20 w/out Promo Code & $30 at the Door.  \n**Admission Fee Covers Entry\, Food for Early Birds\, Discount Drinks and Great Special. \nhttps://www.eventbrite.com/e/long-island-business-mixer-monday-february-23rd-2026-tickets-1979227618085Promo Code: “BCDISCOUNT” \nAn amazing Business Networking Event combined with a terrific Hospitality Night. Bringing Local Businesses\, Networking Groups\, Chambers of Commerce\, Restaurant Owners\, Managers\, Staff and the Public together under one roof. \nThe opportunities for engagement\, networking\, and building key relationships are unprecedented! \n﻿Hope you see you Tuesday\, 5:30pm at The Main Event (Farmingdale) to help us continue this event series!!!
URL:https://ilovebabylon.com/event/the-long-island-business-mixer-farmingdale-melville-huntington-2/
LOCATION:The Main Event NY\, 1815 Broadhollow Rd Ste 6\, Farmingdale\, NY\, 11735\, US
END:VEVENT
BEGIN:VEVENT
DTSTART;TZID=America/New_York:20260303T190000
DTEND;TZID=America/New_York:20260303T210000
DTSTAMP:20260423T190059
CREATED:20260226T184526Z
LAST-MODIFIED:20260301T074916Z
UID:10007769-1772564400-1772571600@ilovebabylon.com
SUMMARY:Detox the Mind Through Meditation
DESCRIPTION:Experiencing the Soul Part IV \nThese workshops are Part 4 of a Multi-Part Series entitled Experiencing the Soul.Meditation can be the key that unlocks the inner doorway to a life of deep inner peace. It has been practiced for thousands of years and is the core of all great spiritual traditions. By learning how to “tap inside\,” as Emerson put it\, each of us can mine the unlimited wealth lying dormant inside us. \nPresenter: Andrew Vidich\, PhD \n7-Part Workshop SeriesMissed the last one? No worries – each workshop is designed so you can attend independently. \nDate: Tuesday\, March 3Time: 7 – 9 pm Location: Science of Spirituality Meditation Center79 County Line Road\, Amityville\, NY 11701 \nEvent is free of charge! All are welcome!  \nFor more information contact:Stephanie631-822-7979infotristate@sos.org
URL:https://ilovebabylon.com/event/detox-the-mind-through-meditation-3/
LOCATION:79 County Line Rd\, Amityville\, NY 11701\, 79 County Line Rd\, Amityville\, NY 11701
END:VEVENT
BEGIN:VEVENT
DTSTART;TZID=America/New_York:20260303T190000
DTEND;TZID=America/New_York:20260303T220000
DTSTAMP:20260423T190059
CREATED:20260301T074919Z
LAST-MODIFIED:20260301T074919Z
UID:10007872-1772564400-1772575200@ilovebabylon.com
SUMMARY:Spring Renewal Through Meditation
DESCRIPTION:Start the spring season with a reflection of new possibilities\, growth and renewal as Arvind Naik long time meditator and meditation instructor shares a simple\, yet powerful meditation technique leading to the deepest levels of peace and joy.
URL:https://ilovebabylon.com/event/spring-renewal-through-meditation/
LOCATION:50 Deauville Blvd\, Copiague\, NY\, United States\, New York 11726\, 50 Deauville Blvd\, Copiague\, NY\, United States\, New York 11726
END:VEVENT
END:VCALENDAR