BEGIN:VCALENDAR
VERSION:2.0
PRODID:-//I Love Babylon, NY - ECPv6.15.20//NONSGML v1.0//EN
CALSCALE:GREGORIAN
METHOD:PUBLISH
X-ORIGINAL-URL:https://ilovebabylon.com
X-WR-CALDESC:Events for I Love Babylon, NY
REFRESH-INTERVAL;VALUE=DURATION:PT1H
X-Robots-Tag:noindex
X-PUBLISHED-TTL:PT1H
BEGIN:VTIMEZONE
TZID:America/New_York
BEGIN:DAYLIGHT
TZOFFSETFROM:-0500
TZOFFSETTO:-0400
TZNAME:EDT
DTSTART:20250309T070000
END:DAYLIGHT
BEGIN:STANDARD
TZOFFSETFROM:-0400
TZOFFSETTO:-0500
TZNAME:EST
DTSTART:20251102T060000
END:STANDARD
BEGIN:DAYLIGHT
TZOFFSETFROM:-0500
TZOFFSETTO:-0400
TZNAME:EDT
DTSTART:20260308T070000
END:DAYLIGHT
BEGIN:STANDARD
TZOFFSETFROM:-0400
TZOFFSETTO:-0500
TZNAME:EST
DTSTART:20261101T060000
END:STANDARD
BEGIN:DAYLIGHT
TZOFFSETFROM:-0500
TZOFFSETTO:-0400
TZNAME:EDT
DTSTART:20270314T070000
END:DAYLIGHT
BEGIN:STANDARD
TZOFFSETFROM:-0400
TZOFFSETTO:-0500
TZNAME:EST
DTSTART:20271107T060000
END:STANDARD
END:VTIMEZONE
BEGIN:VEVENT
DTSTART;TZID=America/New_York:20260322T100000
DTEND;TZID=America/New_York:20260322T130000
DTSTAMP:20260420T132450
CREATED:20260226T185211Z
LAST-MODIFIED:20260301T075553Z
UID:10007840-1774173600-1774184400@ilovebabylon.com
SUMMARY:March Pack Walk 💚☘️🐕
DESCRIPTION:Everyone is welcome to attend with or with pet. All breeds welcome
URL:https://ilovebabylon.com/event/march-pack-walk-%f0%9f%92%9a%e2%98%98%ef%b8%8f%f0%9f%90%95/
LOCATION:Belmont Lake State Park\, 625 Belmont Ave\, Babylon\, NY\, 11704\, US
END:VEVENT
BEGIN:VEVENT
DTSTART;TZID=America/New_York:20260322T110000
DTEND;TZID=America/New_York:20260322T140000
DTSTAMP:20260420T132450
CREATED:20260226T185214Z
LAST-MODIFIED:20260301T075556Z
UID:10007841-1774177200-1774188000@ilovebabylon.com
SUMMARY:Beatles Brunch at the Warehouse
DESCRIPTION:This is the makeup date for our snowed out show. Brunch is optional……. Tix available here:  https://www-152p.bookeo.com/bookeo/b_viewTime.html?bsid=6prhku3krppc734n&backNav=true&ncs=mpxl4wpwke&ncs2=ey3hehaerx
URL:https://ilovebabylon.com/event/beatles-brunch-at-the-warehouse/
LOCATION:The Warehouse Live Music & Events\, The Warehouse Live Music & Events
END:VEVENT
BEGIN:VEVENT
DTSTART;TZID=America/New_York:20260322T120000
DTEND;TZID=America/New_York:20260322T150000
DTSTAMP:20260420T132450
CREATED:20260226T185216Z
LAST-MODIFIED:20260301T075600Z
UID:10007842-1774180800-1774191600@ilovebabylon.com
SUMMARY:Bunnimi Beauty presents She is the Moment Luncheon
DESCRIPTION:BUNNIM BEAUTYPRESENTSIT’S HER MOMENTLUNCHEON \nA curated bilingual International Women’sMonth experience featuring inspiring speakers\, hand-selected vendors and sponsors\, and unforgettable raffles
URL:https://ilovebabylon.com/event/bunnimi-beauty-presents-she-is-the-moment-luncheon/
LOCATION:The Piermont\, The Piermont
END:VEVENT
BEGIN:VEVENT
DTSTART;TZID=America/New_York:20260322T130000
DTEND;TZID=America/New_York:20260322T160000
DTSTAMP:20260420T132450
CREATED:20260226T185220Z
LAST-MODIFIED:20260301T075604Z
UID:10007843-1774184400-1774195200@ilovebabylon.com
SUMMARY:ARK Member Experience: Knitting Community Day with La Shondra Hatter
DESCRIPTION:🖤 ARK Member Experience: Knitting Community Day with La Shondra Hatter 🖤 \nWe’re excited to support La Shondra Hatter of Woven Intent who’s creating a beautiful community-centered creative experience — and she created a special ARK member ticket just for us! (Scroll down and click more prices) \n✨ Community Day — Knit • Connect • Give Back ✨📅 Sunday\, March 22⏰ 1:00 PM – 4:00 PM📍 2005 Broadhollow Rd\, Farmingdale\, NY \nThis one-day-only event is all about slowing down\, connecting\, and creating with intention. Whether you’re brand new to knitting or just craving something cozy + creative\, this experience is for you. \nWhat to expect:• Beginner-friendly chunky knit projects (all materials included)• Raffles + community giveaways• A warm\, welcoming creative space• Giving back — a portion of proceeds supports community impact \n🎟️ Exclusive ARK Member Ticket: $40 \n👉 Register here: https://www.wovenintent.com/event-details/community-day \n👕 ARK Style Request:Please wear your ARK t-shirt to show love + support!If you don’t have one yet\, please wear black 🖤 \nSpots are limited — grab yours early! \nLet’s show up\, support a fellow ARK member\, and create something beautiful together 🖤✨ \n#ARKSocialClub #CommunityFirst #CreateWithIntention #SupportLocal #WovenIntent
URL:https://ilovebabylon.com/event/ark-member-experience-knitting-community-day-with-la-shondra-hatter/
LOCATION:Raymour & Flanigan Furniture and Mattress Store\, Raymour & Flanigan Furniture and Mattress Store
ORGANIZER;CN="Iyasah Cerna":MAILTO:organizewithiyasah@gmail_com
END:VEVENT
BEGIN:VEVENT
DTSTART;TZID=America/New_York:20260322T133000
DTEND;TZID=America/New_York:20260322T163000
DTSTAMP:20260420T132450
CREATED:20260226T185222Z
LAST-MODIFIED:20260301T075608Z
UID:10007844-1774186200-1774197000@ilovebabylon.com
SUMMARY:Women Warriors RC Fundrasier with Madame O's Naughty BINGO
DESCRIPTION:MADAME O’S NAUGHTY BINGO Brunch hosted by Women Warriors RC$30 Pp includes first Mimosa or Bloody Mary\, Brunch and BINGOTONS OF AMAZING PRIZESAND GIVEAWAYS21+
URL:https://ilovebabylon.com/event/women-warriors-rc-fundrasier-with-madame-os-naughty-bingo/
LOCATION:680 Sunrise Hwy West Babylon\, 680 Sunrise Hwy West Babylon
END:VEVENT
BEGIN:VEVENT
DTSTART;TZID=America/New_York:20260322T143000
DTEND;TZID=America/New_York:20260322T173000
DTSTAMP:20260420T132450
CREATED:20260226T185228Z
LAST-MODIFIED:20260301T075611Z
UID:10007845-1774189800-1774200600@ilovebabylon.com
SUMMARY:Afternoon At the Races - Brumidi Lodge
DESCRIPTION:We are so grateful to Constantino Brumidi Lodge #2211 for hosting Afternoon at the Races in support of Paws of War ❤️🐾 \nOn Sunday\, March 22\, 2026 at 2:30 pm\, they are bringing the community together for an amusing and lively family event filled with eight exciting races\, six spirited “thoroughbreds\,” buffet style dinner\, raffles\, and so much fun all to help support our mission. \nA portion of the proceeds will benefit the Paws of War Mobile Vet Clinic\, helping us provide critical medical care to the beloved service animals of veterans and first responders. Because of supporters like this\, we are able to keep this life saving clinic on the road and continue serving those who have sacrificed so much for us. \n📍 Constantino Brumidi Lodge2075 Deer Park Avenue\, Deer Park\, NY \n📞 Tickets and Info: Cosimo 631-338-7055Accepting Cash\, Checks\, Venmo and ZellePayment due by March 7
URL:https://ilovebabylon.com/event/afternoon-at-the-races-brumidi-lodge/
LOCATION:Brumidi Lodge\, 2075 Deer Park Avenue\, Deer Park\, NY\, US
END:VEVENT
BEGIN:VEVENT
DTSTART;TZID=America/New_York:20260322T160000
DTEND;TZID=America/New_York:20260322T190000
DTSTAMP:20260420T132450
CREATED:20260226T185232Z
LAST-MODIFIED:20260301T075615Z
UID:10007846-1774195200-1774206000@ilovebabylon.com
SUMMARY:BOWIE STATION feat. ED RYAN at 🎉🎶Sunday Funday House Party The Warehouse
DESCRIPTION:Sunday Funday With The Boys!!! ⚡️💜⚡️
URL:https://ilovebabylon.com/event/bowie-station-feat-ed-ryan-at-%f0%9f%8e%89%f0%9f%8e%b6sunday-funday-house-party-the-warehouse/
LOCATION:The Warehouse Live Music & Events\, The Warehouse Live Music & Events
END:VEVENT
BEGIN:VEVENT
DTSTART;TZID=America/New_York:20260322T160000
DTEND;TZID=America/New_York:20260322T190000
DTSTAMP:20260420T132450
CREATED:20260226T185234Z
LAST-MODIFIED:20260302T135900Z
UID:10007847-1774195200-1774206000@ilovebabylon.com
SUMMARY:BOWIE STATION feat. ED RYAN Sunday Funday House Party!! At The Warehouse 🎉🎶✨️✨️💜⚡️
DESCRIPTION:Hi Everybody! \nIt’s been a month since my foot surgery\, and I’m healing up just fine\, says the Doc. Just have to keep the “boot” on for another couple of weeks\, but it will be off in time for when… \nBOWIE STATION Rocks DARYL’S HOUSEin Pawling\, NY onFRIDAY FEBRUARY 27th8:00pm Showtime We would LOVE to Pack The House\, being it’s our first time there and wanting to impress\, so if you can make the trip Please Do So!!Every show is different!Get your tickets here:https://www.ticketweb.com/event/bowie-station-david-daryls-house-tickets/14567703?pl=darylLet All The Children Boogie! \nI’m also excited to play a FULL ACOUSTIC DUO GIG withTOM SANFILIPPO onSUNDAY FEB. 22nd at McGRATH’S in Farmingdale 4:00 – 7:00pm \nAlso\, there is an attached flyer for a Benefit Dance for the Parish Outreach Program sponsored by the Ladies AOH of Div.2 in BABYLON onSUNDAY FEBRUARY 15th3:00 – 7:00pmThis is an afternoon of Music\, Raffles\, Dancing\, Drinking\, Dining & Auctions all to raise money for their Parish Outreach.It’s only $40 per head\, Drinks & Food included. I am providing the Music.***All are Welcome\, but you MUST MAKE A RESERVATION BY FEB. 10th.***DETAILS are ALL on the ATTACHED FLYER \nNow here’s my Solo Performance Calendar for FEBRUARY 2026 \nTHURSDAY FEB 5thTHE 3RD RAIL on Pettit Ave in Bellmore 7:00 – 10:00pm \nFRIDAY FEB. 6thBELFAST GASTRO PUB on Wellwood Ave in Lindenhurst 6:00 – 9:00pm \nSATURDAY FEB 7thMcGRATH’S on Main St in Farmingdale 4:00 – 7:00pm \nWEDNESDAY FEB 11thBUNKER HILL AMERICAN TAP ROOM on Wantagh Ave in Wantagh 7:00 – 10:00pm \nTHURSDAY FEB 12thTHE 3RD RAIL on Pettit Ave in Bellmore 7:00 – 10:00pm \nFRIDAY FEB 13thMcGRATH’S on Main St in Farmingdale 4:00 – 7:00pm \n***VALENTINE’S DAY***SATURDAY FEB 14thMcGRATH’S in Farmingdale 4:00 – 7:00pm \nSUNDAY FEB 15thAOH DIV. 2 PARISH OUTREACH FUNDRAISER Located at 27 Locust Ave in Babylon3:00 – 7:00pmMusic by Ed RyanRESERVATIONS A MUST SEE ATTACHED FLYER \nTHURSDAY FEB 19thTHE 3RD RAIL on Pettit Ave in Bellmore 7:00 – 10:00pm \nFRIDAY FEB 20thPADDY POWER on Merrick Ave in Merrick 5:00 – 9:00pm \nSATURDAY FEB 21stBELFAST GASTRO PUB on Wellwood Ave in Lindenhurst 6:00 – 9:00pm \nSUNDAY FEB 22ndMcGRATH’S on Main St in Farmingdale 4:00 – 7:00pm***ACOUSTIC DUO with TOM SANFILIPPO*** \nWEDNESDAY FEB 25thBUNKER HILL on Wantagh Ave in Wantagh 7:00 – 10:00pm***GEORGE HARRISON BIRTHDAY SHOW*** \nTHURSDAY FEB 26thTHE 3RD RAIL on Pettit Ave in Bellmore 7:00 – 10:00pm \nFRIDAY FEB 27thBOWIE STATION atDARYL’S HOUSE in Pawling NY 8:00pm ShowtimeTickets: https://www.ticketweb.com/event/bowie-station-david-daryls-house-tickets/14567703?pl=daryl \nThat’s it for now!Hope to see you soon!Much Love\,Ed & Rain
URL:https://ilovebabylon.com/event/bowie-station-feat-ed-ryan-sunday-funday-house-party-at-the-warehouse-%f0%9f%8e%89%f0%9f%8e%b6%e2%9c%a8%ef%b8%8f%e2%9c%a8%ef%b8%8f%f0%9f%92%9c%e2%9a%a1%ef%b8%8f/
LOCATION:The Warehouse Live Music Pub & Grub\, The Warehouse Live Music Pub & Grub
CATEGORIES:Community,Fundraiser,Music
END:VEVENT
BEGIN:VEVENT
DTSTART;TZID=America/New_York:20260322T173000
DTEND;TZID=America/New_York:20260322T203000
DTSTAMP:20260420T132450
CREATED:20260323T123734Z
LAST-MODIFIED:20260323T123734Z
UID:10007933-1774200600-1774211400@ilovebabylon.com
SUMMARY:Sunday Dinner w/Mid-Life Crisis at Pino Wine Bar
DESCRIPTION:The meltdown continues!Come eat\, drink & be merry with us at the lovely Pino Wine Bar & Bistro! We get our crowd singing & dancing to tunes you rarely hear!
URL:https://ilovebabylon.com/event/sunday-dinner-w-mid-life-crisis-at-pino-wine-bar/
LOCATION:Lindenhurts NY\, Lindenhurts NY
END:VEVENT
END:VCALENDAR