BEGIN:VCALENDAR
VERSION:2.0
PRODID:-//I Love Babylon, NY - ECPv6.15.20//NONSGML v1.0//EN
CALSCALE:GREGORIAN
METHOD:PUBLISH
X-WR-CALNAME:I Love Babylon, NY
X-ORIGINAL-URL:https://ilovebabylon.com
X-WR-CALDESC:Events for I Love Babylon, NY
REFRESH-INTERVAL;VALUE=DURATION:PT1H
X-Robots-Tag:noindex
X-PUBLISHED-TTL:PT1H
BEGIN:VTIMEZONE
TZID:America/New_York
BEGIN:DAYLIGHT
TZOFFSETFROM:-0500
TZOFFSETTO:-0400
TZNAME:EDT
DTSTART:20250309T070000
END:DAYLIGHT
BEGIN:STANDARD
TZOFFSETFROM:-0400
TZOFFSETTO:-0500
TZNAME:EST
DTSTART:20251102T060000
END:STANDARD
BEGIN:DAYLIGHT
TZOFFSETFROM:-0500
TZOFFSETTO:-0400
TZNAME:EDT
DTSTART:20260308T070000
END:DAYLIGHT
BEGIN:STANDARD
TZOFFSETFROM:-0400
TZOFFSETTO:-0500
TZNAME:EST
DTSTART:20261101T060000
END:STANDARD
BEGIN:DAYLIGHT
TZOFFSETFROM:-0500
TZOFFSETTO:-0400
TZNAME:EDT
DTSTART:20270314T070000
END:DAYLIGHT
BEGIN:STANDARD
TZOFFSETFROM:-0400
TZOFFSETTO:-0500
TZNAME:EST
DTSTART:20271107T060000
END:STANDARD
END:VTIMEZONE
BEGIN:VEVENT
DTSTART;TZID=America/New_York:20260323T183000
DTEND;TZID=America/New_York:20260323T213000
DTSTAMP:20260420T120528
CREATED:20260323T123736Z
LAST-MODIFIED:20260323T123736Z
UID:10007934-1774290600-1774301400@ilovebabylon.com
SUMMARY:March General Meeting - Open to All who Wish to Attend
DESCRIPTION:Come meet North Babylon’s Businesses and see what is in store for the Community. \nThis month the Chamber has Linda Nuszan from the Beading Hearts and Peter Coli from the Suffolk Civilian Police Academy as our guest speakers. \nCivilian Police Academy \nThe Civilian Police Academy is an award winning educational program which invites Suffolk County residents to receive specialized training given at their Police Academy for the purpose of bringing the Police Department and the community closer together. It opens up the lines of communication and builds trust between the police and the community.The mission of the Academy is to familiarize civilians with the operation\, procedures and policies of our Department and better acquaint them with the role of police officers in their community. Students will be exposed to a variety of different learning and hands-on experiences related to police work.There is NO physical component to the program – anyone can apply regardless of their physical capabilities. \nBeading Hearts \nWe are a bereavement support group that is peer run and professionally supported. We help those to cope with the life-altering effects of the traumatic loss of a loved one to substance use or an overdose death.
URL:https://ilovebabylon.com/event/march-general-meeting-open-to-all-who-wish-to-attend/
LOCATION:Mangia Pizza\, 785 Deer Park Ave\, North Babylon\, NY\, 11703-4303\, US
END:VEVENT
BEGIN:VEVENT
DTSTART;TZID=America/New_York:20260323T193000
DTEND;TZID=America/New_York:20260323T223000
DTSTAMP:20260420T120528
CREATED:20260226T185236Z
LAST-MODIFIED:20260323T123738Z
UID:10007848-1774294200-1774305000@ilovebabylon.com
SUMMARY:Journey Cross & Crucifixion at Our Lady of Perepetual Help\, Lindenhurst
DESCRIPTION:Location: Our Lady of Perpetual Help\, LindenhurstWhen: Monmay\, March 23 at 7:30PMGood Will Offering \nEnter the Journey at one of our upcoming presentations. Step back in time and walk alongside Christ in Journey Cross & Crucifixion\, a powerful live reenactment of the Stations of the Cross that brings the Passion story vividly to life. This immersive experience combines heartfelt music\, soul-stirring singing\, and graceful liturgical dance to guide you on a journey that transcends time. You’ll feel as though you are witnessing these moments for the first time\, becoming one with Christ and the people who walked with Him. \nThrough a seamless blend of music\, narration\, dialogue\, and poignant silences\, the Journey draws you into the emotional depths of the Passion. You’ll experience the devastation and heartbreak of Mary\, the inner turmoil of Simon\, John’s profound isolation\, Pilate’s battle between justice and self-preservation\, and the unimaginable suffering of Jesus as He carries the Cross to Calvary. \nFor over 30 years\, this deeply moving Lenten tradition has touched hearts in churches and schools across Long Island. Volunteer actors\, singers\, and musicians bring their talents to this extraordinary dramatic prayer service\, offering a unique opportunity to reflect on the Passion story in a way that is both personal and transformative. Join us for this unforgettable prayerful experience.
URL:https://ilovebabylon.com/event/journey-cross-crucifixion-at-our-lady-of-perepetual-help-lindenhurst/
LOCATION:Our Lady of Perpetual Help\, Our Lady of Perpetual Help
CATEGORIES:Music
END:VEVENT
END:VCALENDAR