BEGIN:VCALENDAR
VERSION:2.0
PRODID:-//I Love Babylon, NY - ECPv6.15.20//NONSGML v1.0//EN
CALSCALE:GREGORIAN
METHOD:PUBLISH
X-ORIGINAL-URL:https://ilovebabylon.com
X-WR-CALDESC:Events for I Love Babylon, NY
REFRESH-INTERVAL;VALUE=DURATION:PT1H
X-Robots-Tag:noindex
X-PUBLISHED-TTL:PT1H
BEGIN:VTIMEZONE
TZID:America/New_York
BEGIN:DAYLIGHT
TZOFFSETFROM:-0500
TZOFFSETTO:-0400
TZNAME:EDT
DTSTART:20250309T070000
END:DAYLIGHT
BEGIN:STANDARD
TZOFFSETFROM:-0400
TZOFFSETTO:-0500
TZNAME:EST
DTSTART:20251102T060000
END:STANDARD
BEGIN:DAYLIGHT
TZOFFSETFROM:-0500
TZOFFSETTO:-0400
TZNAME:EDT
DTSTART:20260308T070000
END:DAYLIGHT
BEGIN:STANDARD
TZOFFSETFROM:-0400
TZOFFSETTO:-0500
TZNAME:EST
DTSTART:20261101T060000
END:STANDARD
BEGIN:DAYLIGHT
TZOFFSETFROM:-0500
TZOFFSETTO:-0400
TZNAME:EDT
DTSTART:20270314T070000
END:DAYLIGHT
BEGIN:STANDARD
TZOFFSETFROM:-0400
TZOFFSETTO:-0500
TZNAME:EST
DTSTART:20271107T060000
END:STANDARD
END:VTIMEZONE
BEGIN:VEVENT
DTSTART;TZID=America/New_York:20260326T213000
DTEND;TZID=America/New_York:20260327T003000
DTSTAMP:20260420T065428
CREATED:20260226T185255Z
LAST-MODIFIED:20260323T123803Z
UID:10007853-1774560600-1774571400@ilovebabylon.com
SUMMARY:Obscured By Floyd at The Warehouse
DESCRIPTION:Obscured By Floyd (Tribute Performance) \n An evening of PINK FLOYDClassics \,with song selections from there biggest albums.
URL:https://ilovebabylon.com/event/obscured-by-floyd-at-the-warehouse-2/
LOCATION:The Warehouse Live Music & Events\, The Warehouse Live Music & Events
END:VEVENT
BEGIN:VEVENT
DTSTART;TZID=America/New_York:20260326T220000
DTEND;TZID=America/New_York:20260327T010000
DTSTAMP:20260420T065428
CREATED:20251231T103610Z
LAST-MODIFIED:20260323T123805Z
UID:10007396-1774562400-1774573200@ilovebabylon.com
SUMMARY:The Warehouse of Amityville
DESCRIPTION:Obscured By Floyd -Tribute performance at The Warehouse of Amityville\, Thur.\, Jan. 29th\, 7pm. Advance tickets are available at www.thewarehouseli.com. Please join us for an evening of Pink Floyd classics. Like\, share\, follow.
URL:https://ilovebabylon.com/event/the-warehouse-of-amityville/
LOCATION:The Warehouse Live Music & Events\, The Warehouse Live Music & Events
END:VEVENT
BEGIN:VEVENT
DTSTART;TZID=America/New_York:20260326T220000
DTEND;TZID=America/New_York:20260327T010000
DTSTAMP:20260420T065428
CREATED:20260226T185302Z
LAST-MODIFIED:20260323T123807Z
UID:10007854-1774562400-1774573200@ilovebabylon.com
SUMMARY:The Warehouse
DESCRIPTION:Obscured By Floyd(Pink Floyd Tribute)
URL:https://ilovebabylon.com/event/the-warehouse/
LOCATION:The Warehouse Live Music & Events\, The Warehouse Live Music & Events
END:VEVENT
BEGIN:VEVENT
DTSTART;TZID=America/New_York:20260327T180000
DTEND;TZID=America/New_York:20260327T220000
DTSTAMP:20260420T065428
CREATED:20260323T123809Z
LAST-MODIFIED:20260323T123809Z
UID:10007939-1774634400-1774648800@ilovebabylon.com
SUMMARY:Joe Louis & The Groove LIVE at Lilys Babylon
DESCRIPTION:Hello Everybody! COME join us Friday March 27th at Lilys in Babylon for an unforgettable night of Rhythm\, Blues & Soul. You DO NOT want to miss this one🎶💕 We’ll see you there! Bring your friends and family! \nYours Truly – Joe Louis
URL:https://ilovebabylon.com/event/joe-louis-the-groove-live-at-lilys-babylon/
LOCATION:Online Event\, West Babylon\, NY\, US
END:VEVENT
BEGIN:VEVENT
DTSTART;TZID=America/New_York:20260327T183000
DTEND;TZID=America/New_York:20260327T213000
DTSTAMP:20260420T065428
CREATED:20260226T185304Z
LAST-MODIFIED:20260323T123811Z
UID:10007855-1774636200-1774647000@ilovebabylon.com
SUMMARY:Tigers Jaw\, Hot Flash Heat Wave @ AMH
DESCRIPTION:Friday March 27th 2026 \nTigers JawHot Flash Heat Wave \n@ AMH198 Broadway\, Amityville NY \n$27 ADV / $30 DOS6:30 PM Under 16 w/ parent / legal guardianPurchase Tickets: https://www.etix.com/ticket/servlet/s/38221036
URL:https://ilovebabylon.com/event/tigers-jaw-hot-flash-heat-wave-amh/
LOCATION:198 Broadway Amityville\, NY 11701-2727\, 198 Broadway Amityville\, NY 11701-2727
END:VEVENT
BEGIN:VEVENT
DTSTART;TZID=America/New_York:20260327T183000
DTEND;TZID=America/New_York:20260327T213000
DTSTAMP:20260420T065428
CREATED:20260226T185307Z
LAST-MODIFIED:20260323T123813Z
UID:10007856-1774636200-1774647000@ilovebabylon.com
SUMMARY:Tigers Jaw Tickets
DESCRIPTION:Tigers Jaw bring raw emotion and nostalgic energy with every soaring chorus 🎶 \nA heartfelt set packed with indie rock anthems and singalong moments. \n#TigersJaw #IndieRock #EmoRevival #LiveMusic #ConcertVibes #MusicScene
URL:https://ilovebabylon.com/event/tigers-jaw-tickets/
LOCATION:Amityville Music Hall\, 198 Broadway\, Amityville\, NY\, US
CATEGORIES:Music
END:VEVENT
BEGIN:VEVENT
DTSTART;TZID=America/New_York:20260327T183000
DTEND;TZID=America/New_York:20260327T213000
DTSTAMP:20260420T065428
CREATED:20260323T123814Z
LAST-MODIFIED:20260323T123814Z
UID:10007940-1774636200-1774647000@ilovebabylon.com
SUMMARY:Island Cornhole
DESCRIPTION:Next Friday 3/27/26 Cesspool Pro’s55 Brook AveDeer Park
URL:https://ilovebabylon.com/event/island-cornhole/
LOCATION:Deer Park Ave\, Deer Park Ave
END:VEVENT
BEGIN:VEVENT
DTSTART;TZID=America/New_York:20260327T190000
DTEND;TZID=America/New_York:20260327T213000
DTSTAMP:20260420T065428
CREATED:20260226T185311Z
LAST-MODIFIED:20260323T123820Z
UID:10007857-1774638000-1774647000@ilovebabylon.com
SUMMARY:Mystic at The Warehouse!
DESCRIPTION:Always a great time at The Warehouse in Amityville! Great tunes\, come rock out with us!Tickets available in advance at www.thewarehouseli.com
URL:https://ilovebabylon.com/event/mystic-at-the-warehouse-2/
LOCATION:The Warehouse Live Music & Events\, The Warehouse Live Music & Events
END:VEVENT
BEGIN:VEVENT
DTSTART;TZID=America/New_York:20260327T190000
DTEND;TZID=America/New_York:20260327T220000
DTSTAMP:20260420T065428
CREATED:20260226T185313Z
LAST-MODIFIED:20260323T123822Z
UID:10007858-1774638000-1774648800@ilovebabylon.com
SUMMARY:The Thin Blue Punchline Comedy Show benefit hosted by Still Blue Inc. and Blue Tribe Warrior Sisters
DESCRIPTION:The Thin Blue Punchline \nA Night of Comedy for a CauseLaughter with a purpose. \nThe Thin Blue Punchline is more than a comedy show — it’s a night of food\, fun\, and unforgettable laughs in support of the men and women who serve and sacrifice for others every day. Come out\, enjoy an incredible lineup of comedians\, and help make a real difference in our first responder community. \nJoin us for The Thin Blue Punchline\, a special fundraiser comedy night benefiting Still Blue Inc. & Blue Tribe Warrior Sisters (both 501(c)(3) nonprofit organizations)\, dedicated to supporting first responders and their families. \nThis unforgettable evening features Laughter Saves Lives\, a nationally recognized comedy group made up of first responders and veterans\, hosted by John LaRocchia\, President of Laughter Saves Lives and FDNY (Ret.) — proving that laughter truly is the best medicine. \n📅 Event DetailsDate: Friday\, March 27Time: Doors 6:30 PM\, Dinner 7:00 PM\, Comedy Show 8:00 PMLocation: Order Sons of Italy in America\, 2075 Deer Park Avenue\, Deer Park\, NY 11729 \nAdmission includes: Buffet dinner\, beer & wine\, and the comedy show. A cash bar will also be available. \nPlease note: On the order summary page\, there is a section asking for a “donation” to Zeffy to help keep Zeffy free. This is optional and can be changed to “Other” $0.00. Any donation here goes to Zeffy\, not Still Blue Inc. \nExtras & Fundraising \nRaffles throughout the night \nSponsorship opportunities available from $250–$2\,500This is a great opportunity for individuals and businesses to show their support while gaining visibility at a meaningful community event. \n❤️ BenefitingStill Blue Inc. & Blue Tribe Warrior Sisters \nAll additional donations will benefit both organizations.  \nQuestions or Sponsorship Inquiries please contact:Chris McGuinness: stillblue2777@gmail.comPhil Rizzuto: prizzuto@rizzutolaw.com
URL:https://ilovebabylon.com/event/the-thin-blue-punchline-comedy-show-benefit-hosted-by-still-blue-inc-and-blue-tribe-warrior-sisters/
LOCATION:2075 Deer Park Ave\, Deer Park\, NY 11729-2120\, United States\, 2075 Deer Park Ave\, Deer Park\, NY 11729-2120\, United States
CATEGORIES:Community,Fundraiser
END:VEVENT
BEGIN:VEVENT
DTSTART;TZID=America/New_York:20260327T190000
DTEND;TZID=America/New_York:20260328T153000
DTSTAMP:20260420T065428
CREATED:20260226T185316Z
LAST-MODIFIED:20260323T123824Z
UID:10007859-1774638000-1774711800@ilovebabylon.com
SUMMARY:Cultivate a Worship Lifestyle
DESCRIPTION:In John 4:23 Jesus told the Samaritan woman\, “But the hour is coming\, and is now here\, when the true worshipers will worship the Father in spirit and truth\, for the Father is seeking such people to worship him.” He said it’s now and is coming\, this is the typical Kingdom language Jesus used many times in the Gospels. What does this mean? Why does it matter? We tend to apply the word “worship” in the framework of singing worship songs during a Sunday service or perhaps a small home group. While that is part of it\, it is so much more. When He says “worship in spirit and truth”\, Jesus is not simply talking about singing worship songs. It is much deeper\, fuller\, and more powerful. Worship this side of heaven is all we have to worship Him. We should press into understanding worship as Jesus intended. Worship is not only the one thing we have to offer Him now\, but it is the one part of our life in the here and now that we will continue to do throughout all eternity. Shouldn’t we understand it more biblically? Should we ask\, “What does it mean to worship God in Spirit and truth?” We should ask how you actually live a life of worship. While most will say\, “Yes\, I know it is more than singing at a Sunday service\,” worship doesn’t simply transform us individually\, it also has the power to touch others through true worship that impacts our entire life\, if we understand what it is and how to live out from the lifestyle of worship. \nWhat did worship look like in the Old Testament?What do we see in Abraham\, Isaac and Jacob’s stories?How did it change with Moses?How about David? The first we associate music with.How did the early Church worship?What did the authors of the New Testament teach about true worshipIS it different from the Old Testament?What are the practical applications to a worship lifestyle?How does it bring transformation?How can we live in a way that glorifies God AND reveals Him to the world around us\, in an authentic natural way?What does Jesus mean when He says “worship in spirit and truth”?Practical tools that will help you connect more deeply with the Lord through the lifestyle of worship. \nWorship can change everything. It brings transformation to the inner man\, not the singing songs worship\, which is beautiful and can be transformative\, but actually living from a place of worship. Again\, it is the One thing we will forever engage in\, we should understand it from God’s point of view\, not simply the human view or practices. Join us as we explore this central theme of scripture. It will help you grow in wisdom and understanding\, while transforming your inner man. \n__________________________________ \nPhill has pursued a worship lifestyle over more than 40 years\, both in his personal walk with Christ and in service to the Church as a pastor\, worship leader (30 years of leading worship)\, and as an itinerant minister\, teaching and calling people here and abroad to a deeper lifestyle of Spirit and Truth worship. Worship is his deepest passion since he first gave his life to Jesus. This time together will give you a deeper and richer understanding of what it means to live in worship. Worship changes everything! \nWe only have room for 15 students\, once we are filled\, the registration will close. Register early so you can be sure to save your spot. \nCost: $25 for an individual. Bring a friend and both pay $20. Bring 3 or more friends and each pays only $15.
URL:https://ilovebabylon.com/event/cultivate-a-worship-lifestyle/
LOCATION:45 Burch Avenue\, Amityville\, NY\, 45 Burch Avenue\, Amityville\, NY
CATEGORIES:Music
END:VEVENT
BEGIN:VEVENT
DTSTART;TZID=America/New_York:20260327T193000
DTEND;TZID=America/New_York:20260328T193000
DTSTAMP:20260420T065428
CREATED:20260323T123826Z
LAST-MODIFIED:20260323T123826Z
UID:10007941-1774639800-1774726200@ilovebabylon.com
SUMMARY:Movies & Musicals With Mor @ Manes Studio Theatre Lindenhurst
DESCRIPTION:As featured in Newsday! 🗞️✨ \n🎟️ TICKET INFO:Tickets are limited for this intimate theater experience. Secure your seats now:https://HopelesslyOlivia.Ludus.com \nPowerhouse vocalist Mor Schwartz brings her spectacular new production to the Manes Studio Theatre of Long Island for an exclusive two-night engagement! \n“Movies & Musicals with Mor” is a high-energy\, nostalgic journey through the greatest hits of the stage and screen. From the disco-glitter of Mamma Mia and Xanadu to the vocal fireworks of Defying Gravity and Bohemian Rhapsody\, Mor delivers a world-class\, “Broadway-style” performance right here in Lindenhurst. \nExperience the Magic of the Stage & Cinema:🌟 Broadway’s Best: Iconic showstoppers from Wicked\, Cats\, Grease\, and Les Misérables.🌟 Movie Favorites: The high-energy sounds of Saturday Night Fever\, Fame\, and Flashdance.🌟 Legendary Tributes: A heartfelt celebration of the music of Olivia Newton-John\, Dolly Parton\, and Linda Ronstadt. \nWith stunning “Opening Night” gowns and a voice that Newsday is buzzing about\, this is the theatrical event of the season. \n📍 WHERE: Manes Studio Theatre of Long Island (Lindenhurst\, NY)📅 WHEN: Two Nights Only! \nFriday\, March 27th \nSaturday\, March 28th \n(Check the ticket link for exact showtimes!) \n“A voice that brings Broadway to Long Island!” – Don’t miss your chance to see the show everyone is talking about. Click “INTERESTED” or “GOING” to stay updated! \n#MorSchwartz #ManesStudioTheatre #LindenhurstNY #NewsdayExclusive #BroadwayTribute #LongIslandTheater #LiveMusicLI #MoviesAndMusicals
URL:https://ilovebabylon.com/event/movies-musicals-with-mor-manes-studio-theatre-lindenhurst/
LOCATION:Studio Theatre Long Island\, 141 S. Wellwood Avenue\, Lindenhurst\, NY\, 11757\, US
END:VEVENT
BEGIN:VEVENT
DTSTART;TZID=America/New_York:20260327T193000
DTEND;TZID=America/New_York:20260328T193000
DTSTAMP:20260420T065428
CREATED:20260323T123830Z
LAST-MODIFIED:20260323T123830Z
UID:10007942-1774639800-1774726200@ilovebabylon.com
SUMMARY:As featured in Newsday - "Movies & Musicals" in Lindy!
DESCRIPTION:As featured in Newsday! 🗞️✨ \n🎟️ TICKET INFO:Tickets are limited for this intimate theater experience. Secure your seats now: https://HopelesslyOlivia.Ludus.com \nPowerhouse vocalist Mor Schwartz brings her spectacular new production to the Manes Studio Theatre of Long Island for an exclusive two-night engagement! \n“Movies & Musicals with Mor” is a high-energy\, nostalgic journey through the greatest hits of the stage and screen. From the disco-glitter of Mamma Mia and Xanadu to the vocal fireworks of Defying Gravity and Bohemian Rhapsody\, Mor delivers a world-class\, “Broadway-style” performance right here in Lindenhurst. \n📍 WHERE: Manes Studio Theatre of Long Island (Lindenhurst\, NY)📅 WHEN: Two Nights Only!Friday\, March 27thSaturday\, March 28th(Check the ticket link for exact showtimes!) \n“A voice that brings Broadway to Long Island!” – Don’t miss your chance to see the show everyone is talking about. Click “INTERESTED” or “GOING” to stay updated! \n#MorSchwartz #ManesStudioTheatre #LindenhurstNY #NewsdayExclusive #BroadwayTribute #LongIslandTheater #LiveMusicLI #MoviesAndMusicals
URL:https://ilovebabylon.com/event/as-featured-in-newsday-movies-musicals-in-lindy/
LOCATION:Studio Theatre Long Island\, 141 S. Wellwood Avenue\, Lindenhurst\, NY\, 11757\, US
END:VEVENT
BEGIN:VEVENT
DTSTART;TZID=America/New_York:20260327T200000
DTEND;TZID=America/New_York:20260327T220000
DTSTAMP:20260420T065428
CREATED:20260226T185318Z
LAST-MODIFIED:20260323T123833Z
UID:10007860-1774641600-1774648800@ilovebabylon.com
SUMMARY:BonJourneyNY plays the Argyle Theatre
DESCRIPTION:Join us for an evening of your favorite BonJovi and Journey hit songs!! Tickets on sale now!!
URL:https://ilovebabylon.com/event/bonjourneyny-plays-the-argyle-theatre/
LOCATION:34 W Main St Babylon NY\, 34 W Main St Babylon NY
END:VEVENT
BEGIN:VEVENT
DTSTART;TZID=America/New_York:20260327T200000
DTEND;TZID=America/New_York:20260327T223000
DTSTAMP:20260420T065428
CREATED:20260226T185322Z
LAST-MODIFIED:20260323T123835Z
UID:10007861-1774641600-1774650600@ilovebabylon.com
SUMMARY:Music Bingo with Tracy
DESCRIPTION:Music Bingo with Tracy$10 to play four rounds of bingo. Additional cards available for $5Identify the song and/or artist and match to your game card to win.
URL:https://ilovebabylon.com/event/music-bingo-with-tracy-4/
LOCATION:50 Yardline Sports Bar\, 371 Little East Neck Rd\, West Babylon\, NY\, 11704\, US
CATEGORIES:Music
END:VEVENT
BEGIN:VEVENT
DTSTART;TZID=America/New_York:20260327T200000
DTEND;TZID=America/New_York:20260327T230000
DTSTAMP:20260420T065428
CREATED:20260323T123837Z
LAST-MODIFIED:20260323T123837Z
UID:10007943-1774641600-1774652400@ilovebabylon.com
SUMMARY:Sanity at Bartini Friday 3/27/26
DESCRIPTION:Come rock out with Sanity at Bartini. Free band t shirt while they last.
URL:https://ilovebabylon.com/event/sanity-at-bartini-friday-3-27-26/
LOCATION:Babylon \, New York
END:VEVENT
BEGIN:VEVENT
DTSTART;TZID=America/New_York:20260327T200000
DTEND;TZID=America/New_York:20260327T230000
DTSTAMP:20260420T065428
CREATED:20260323T123839Z
LAST-MODIFIED:20260323T123839Z
UID:10007944-1774641600-1774652400@ilovebabylon.com
SUMMARY:Funny How Band in Lindenhurst
DESCRIPTION:We’re coming to Suffolk County!RipTides Grill is a neighborhood seafood restaurant and music venue! Come out for a great time\, table reservations are suggested!
URL:https://ilovebabylon.com/event/funny-how-band-in-lindenhurst/
LOCATION:Online Event\, West Babylon\, NY\, US
END:VEVENT
END:VCALENDAR