BEGIN:VCALENDAR
VERSION:2.0
PRODID:-//I Love Babylon, NY - ECPv6.15.20//NONSGML v1.0//EN
CALSCALE:GREGORIAN
METHOD:PUBLISH
X-WR-CALNAME:I Love Babylon, NY
X-ORIGINAL-URL:https://ilovebabylon.com
X-WR-CALDESC:Events for I Love Babylon, NY
REFRESH-INTERVAL;VALUE=DURATION:PT1H
X-Robots-Tag:noindex
X-PUBLISHED-TTL:PT1H
BEGIN:VTIMEZONE
TZID:America/New_York
BEGIN:DAYLIGHT
TZOFFSETFROM:-0500
TZOFFSETTO:-0400
TZNAME:EDT
DTSTART:20250309T070000
END:DAYLIGHT
BEGIN:STANDARD
TZOFFSETFROM:-0400
TZOFFSETTO:-0500
TZNAME:EST
DTSTART:20251102T060000
END:STANDARD
BEGIN:DAYLIGHT
TZOFFSETFROM:-0500
TZOFFSETTO:-0400
TZNAME:EDT
DTSTART:20260308T070000
END:DAYLIGHT
BEGIN:STANDARD
TZOFFSETFROM:-0400
TZOFFSETTO:-0500
TZNAME:EST
DTSTART:20261101T060000
END:STANDARD
BEGIN:DAYLIGHT
TZOFFSETFROM:-0500
TZOFFSETTO:-0400
TZNAME:EDT
DTSTART:20270314T070000
END:DAYLIGHT
BEGIN:STANDARD
TZOFFSETFROM:-0400
TZOFFSETTO:-0500
TZNAME:EST
DTSTART:20271107T060000
END:STANDARD
END:VTIMEZONE
BEGIN:VEVENT
DTSTART;TZID=America/New_York:20260423T083000
DTEND;TZID=America/New_York:20260423T113000
DTSTAMP:20260423T014109
CREATED:20260331T231709Z
LAST-MODIFIED:20260420T201803Z
UID:10008118-1776933000-1776943800@ilovebabylon.com
SUMMARY:Chamber Networking Meeting at Lindt
DESCRIPTION:Network with local leaders. Make connections and stay informed on community opportunities and news!  \nDiscover more about our local shops at Tanger Outlets and taste the sweetness at Lindt Chocolate Shop.  \nLight refreshments will be served.
URL:https://ilovebabylon.com/event/chamber-networking-meeting-at-lindt/
LOCATION:Tanger Outlets\, Tanger Outlets
END:VEVENT
BEGIN:VEVENT
DTSTART;TZID=America/New_York:20260423T170000
DTEND;TZID=America/New_York:20260423T170000
DTSTAMP:20260423T014109
CREATED:20260420T200424Z
LAST-MODIFIED:20260420T200424Z
UID:10008251-1776963600-1776963600@ilovebabylon.com
SUMMARY:Ladies Night
DESCRIPTION:Gather your friends and enjoy a lively Ladies Night at Lionz Den Restaurant and Bar in Lindenhurst. Guests can take advantage of buy one\, get one 50% off all drinks for ladies all night\, enjoy free giveaways while supplies last\, and settle in for dinner starting at 5:00 PM with late night bites available from 10:00 PM. Reservations are highly recommended for this fun Thursday night outing.
URL:https://ilovebabylon.com/event/ladies-night/
LOCATION:Lionz Den Restaurant and Bar\, Lionz Den Restaurant and Bar
CATEGORIES:Entertainment,Food & Drink,Social Events
ATTACH;FMTTYPE=image/jpeg:https://ilovebabylon.com/wp-content/uploads/2026/04/Lionz-Den-Thursday-Ladiesnight.jpg
END:VEVENT
BEGIN:VEVENT
DTSTART;TZID=America/New_York:20260423T190000
DTEND;TZID=America/New_York:20260423T203000
DTSTAMP:20260423T014109
CREATED:20260323T124516Z
LAST-MODIFIED:20260420T201805Z
UID:10008025-1776970800-1776976200@ilovebabylon.com
SUMMARY:Modern Calligraphy for Beginners at WA Meadwerks
DESCRIPTION:Join Sip & ScriptⓇ for Modern Calligraphy Fun! \nJoin us at WA Meadwerks in Lindenhurst\, NY for pretty lettering! Whether you’re a stationery nerd\, DIY Bride-to-be\, or just a crafty individual\, you’ll be introduced to modern calligraphy with a pointed dip pen and ink in this workshop. We will cover all the basics and prepare you to add those unique lettered details to your snail mail\, wedding paper goods\, home decor\, and more! The perfect crafty night out! \nClass includes 1.5 hours of instruction and demonstration\, our beginner’s calligraphy kit (two nibs\, black ink pot\, 2 letter guides\, tracing paper\, and straight pen holder)\, and all materials to write on. Everything is yours to keep at the end of the workshop!
URL:https://ilovebabylon.com/event/modern-calligraphy-for-beginners-at-wa-meadwerks-2/
LOCATION:Online Event\, West Babylon\, NY\, US
END:VEVENT
BEGIN:VEVENT
DTSTART;TZID=America/New_York:20260423T190000
DTEND;TZID=America/New_York:20260423T220000
DTSTAMP:20260423T014109
CREATED:20260323T124518Z
LAST-MODIFIED:20260420T201808Z
UID:10008026-1776970800-1776981600@ilovebabylon.com
SUMMARY:Angel's Envy Whiskey Dinner
DESCRIPTION:ANGEL’S ENVY WHISKEY DINNERTHURSDAY\, APRIL 23 at 7PM$179 per person (plus tax & gratuity) \nRESERVE BY 4/6 AND RECEIVE A $50 GIFT CARD TO THE JAMES! \nCALL 631-975-2637https://www.thejamesli.com/babylon/happenings/whiskey-dinner/ \nWELCOME COCKTAILAngel’s Envy Bourbon Old Fashioned \nGRILLED OYSTERgrilled oyster with maple-brown butter & kaluga caviarAngel’s Envy Triple Oak Bourbon \nFOIE GRAS TORCHON poached Hudson Valley foie gras with pistachios\, stone fruits\, smoked fig jam & salty brioche breadAngel’s Envy Rye  \nSCALLOPS pan-seared scallops over parsnip purée\, sautéed celery root\, crumbled bacon & apricot sauceAngel’s Envy Private Selection Bourbon \nPRIME NY STRIP dry-aged NY strip\, sautéed peas\, chantarelle mushroom & bourbon demi jusAngel’s Envy Vol. 5 – Rye finished in Extra Añejo Tequila Barrels \nAPPLE CROSTADAwarm apple crostada\, vanilla ice cream & smoked old fashioned sauceAngel’s Envy Rye Espresso Martini
URL:https://ilovebabylon.com/event/angels-envy-whiskey-dinner/
LOCATION:The James\, The James
END:VEVENT
BEGIN:VEVENT
DTSTART;TZID=America/New_York:20260423T200000
DTEND;TZID=America/New_York:20260423T230000
DTSTAMP:20260423T014109
CREATED:20260417T073714Z
LAST-MODIFIED:20260420T201810Z
UID:10008205-1776974400-1776985200@ilovebabylon.com
SUMMARY:NFL Draft Day
DESCRIPTION:HIBERNIANS NFL DRAFT WATCH PARTYThursday\, April 23 • 8:00 PM ET LIVE NFL DRAFT ON BIG SCREENSDRAFT SPECIALS- $5.00 GUINNESS\, SMITHWICKS\, HARP\, BROOKLYN ALE$2 Bud / Bud Light drafts \nICE COLD CANS $2.00 – SPECIAL BUD• BUD LIGHT • COORS LIGHT • MICHELOB ULTRA LIGHT \n$3 WHITE CLAW.
URL:https://ilovebabylon.com/event/nfl-draft-day/
LOCATION:27 Locust Ave\, Babylon\, NY\, 27 Locust Ave\, Babylon\, NY
END:VEVENT
END:VCALENDAR