BEGIN:VCALENDAR
VERSION:2.0
PRODID:-//I Love Babylon, NY - ECPv6.15.20//NONSGML v1.0//EN
CALSCALE:GREGORIAN
METHOD:PUBLISH
X-WR-CALNAME:I Love Babylon, NY
X-ORIGINAL-URL:https://ilovebabylon.com
X-WR-CALDESC:Events for I Love Babylon, NY
REFRESH-INTERVAL;VALUE=DURATION:PT1H
X-Robots-Tag:noindex
X-PUBLISHED-TTL:PT1H
BEGIN:VTIMEZONE
TZID:America/New_York
BEGIN:DAYLIGHT
TZOFFSETFROM:-0500
TZOFFSETTO:-0400
TZNAME:EDT
DTSTART:20250309T070000
END:DAYLIGHT
BEGIN:STANDARD
TZOFFSETFROM:-0400
TZOFFSETTO:-0500
TZNAME:EST
DTSTART:20251102T060000
END:STANDARD
BEGIN:DAYLIGHT
TZOFFSETFROM:-0500
TZOFFSETTO:-0400
TZNAME:EDT
DTSTART:20260308T070000
END:DAYLIGHT
BEGIN:STANDARD
TZOFFSETFROM:-0400
TZOFFSETTO:-0500
TZNAME:EST
DTSTART:20261101T060000
END:STANDARD
BEGIN:DAYLIGHT
TZOFFSETFROM:-0500
TZOFFSETTO:-0400
TZNAME:EDT
DTSTART:20270314T070000
END:DAYLIGHT
BEGIN:STANDARD
TZOFFSETFROM:-0400
TZOFFSETTO:-0500
TZNAME:EST
DTSTART:20271107T060000
END:STANDARD
END:VTIMEZONE
BEGIN:VEVENT
DTSTART;TZID=America/New_York:20260509T120000
DTEND;TZID=America/New_York:20260509T160000
DTSTAMP:20260423T082508
CREATED:20260420T185448Z
LAST-MODIFIED:20260420T185448Z
UID:10008224-1778328000-1778342400@ilovebabylon.com
SUMMARY:The Cover Ups: Breaking the Cycles
DESCRIPTION:Celebrate Mother’s Day weekend with an inspiring and entertaining experience at “The Cover Ups: Breaking the Cycles.” Hosted by Bridges Drama Productions\, this special event on May 9\, 2026 from 12:00 PM to 4:00 PM at The Bisou in Farmingdale includes a luncheon\, a powerful theatrical performance\, and a vibrant Culture Trees fashion show. Guests will enjoy a heartfelt story exploring love\, secrets\, vengeance\, and redemption\, along with lunch and beverages included in the ticket price. It’s a meaningful and stylish afternoon perfect for honoring mothers\, connecting with others\, and enjoying the arts.
URL:https://ilovebabylon.com/event/the-cover-ups-breaking-the-cycles/
CATEGORIES:Cultural Events,Food & Drink,Theater
ATTACH;FMTTYPE=image/jpeg:https://ilovebabylon.com/wp-content/uploads/2026/04/2026-04-14-17.32.22.jpg
END:VEVENT
BEGIN:VEVENT
DTSTART;TZID=America/New_York:20260509T170000
DTEND;TZID=America/New_York:20260509T190000
DTSTAMP:20260423T082508
CREATED:20260420T200740Z
LAST-MODIFIED:20260420T200740Z
UID:10008265-1778346000-1778353200@ilovebabylon.com
SUMMARY:Saturday Soirée
DESCRIPTION:Step into the weekend at Saturday Soirée at Lionz Den in Lindenhurst! Enjoy an exciting happy hour from 5–7 PM featuring great drink specials and delicious bites. Stick around as the night heats up with a DJ spinning starting at 10 PM. Whether you’re out with friends or making new connections\, this is the perfect Saturday night destination for good vibes\, music\, and unforgettable energy.
URL:https://ilovebabylon.com/event/saturday-soiree-3/
CATEGORIES:Entertainment,Food & Drink,Music,Social Events
ATTACH;FMTTYPE=image/jpeg:https://ilovebabylon.com/wp-content/uploads/2026/04/Lionz-Den-Saturday-soiree.jpg
END:VEVENT
END:VCALENDAR