BEGIN:VCALENDAR
VERSION:2.0
PRODID:-//I Love Babylon, NY - ECPv6.15.20//NONSGML v1.0//EN
CALSCALE:GREGORIAN
METHOD:PUBLISH
X-ORIGINAL-URL:https://ilovebabylon.com
X-WR-CALDESC:Events for I Love Babylon, NY
REFRESH-INTERVAL;VALUE=DURATION:PT1H
X-Robots-Tag:noindex
X-PUBLISHED-TTL:PT1H
BEGIN:VTIMEZONE
TZID:America/New_York
BEGIN:DAYLIGHT
TZOFFSETFROM:-0500
TZOFFSETTO:-0400
TZNAME:EDT
DTSTART:20240310T070000
END:DAYLIGHT
BEGIN:STANDARD
TZOFFSETFROM:-0400
TZOFFSETTO:-0500
TZNAME:EST
DTSTART:20241103T060000
END:STANDARD
BEGIN:DAYLIGHT
TZOFFSETFROM:-0500
TZOFFSETTO:-0400
TZNAME:EDT
DTSTART:20250309T070000
END:DAYLIGHT
BEGIN:STANDARD
TZOFFSETFROM:-0400
TZOFFSETTO:-0500
TZNAME:EST
DTSTART:20251102T060000
END:STANDARD
BEGIN:DAYLIGHT
TZOFFSETFROM:-0500
TZOFFSETTO:-0400
TZNAME:EDT
DTSTART:20260308T070000
END:DAYLIGHT
BEGIN:STANDARD
TZOFFSETFROM:-0400
TZOFFSETTO:-0500
TZNAME:EST
DTSTART:20261101T060000
END:STANDARD
END:VTIMEZONE
BEGIN:VEVENT
DTSTART;TZID=America/New_York:20251028T160000
DTEND;TZID=America/New_York:20251028T190000
DTSTAMP:20260420T120119
CREATED:20251003T173942Z
LAST-MODIFIED:20251003T173942Z
UID:10006922-1761667200-1761678000@ilovebabylon.com
SUMMARY:Protecting Assets: Should I Put My Home in a Trust?
DESCRIPTION:Join us at the West Babylon Public Library as we gather to discuss how to protect assets\, including property and second homes\, the ways to reduce and eliminate taxes\, and the importance of having a sound estate plan in place. 🏡 \nSave your seat here: https://bit.ly/4md3bRY \nContact us at 631-941-3434 or by email at info@burnerlaw.com with any questions.
URL:https://ilovebabylon.com/event/protecting-assets-should-i-put-my-home-in-a-trust/
LOCATION:West Babylon Public Library\, 211 Route 109\, West Babylon\, NY\, 11704\, US
CATEGORIES:Presentation
END:VEVENT
END:VCALENDAR