BEGIN:VCALENDAR
VERSION:2.0
PRODID:-//I Love Babylon, NY - ECPv6.15.20//NONSGML v1.0//EN
CALSCALE:GREGORIAN
METHOD:PUBLISH
X-WR-CALNAME:I Love Babylon, NY
X-ORIGINAL-URL:https://ilovebabylon.com
X-WR-CALDESC:Events for I Love Babylon, NY
REFRESH-INTERVAL;VALUE=DURATION:PT1H
X-Robots-Tag:noindex
X-PUBLISHED-TTL:PT1H
BEGIN:VTIMEZONE
TZID:America/New_York
BEGIN:DAYLIGHT
TZOFFSETFROM:-0500
TZOFFSETTO:-0400
TZNAME:EDT
DTSTART:20240310T070000
END:DAYLIGHT
BEGIN:STANDARD
TZOFFSETFROM:-0400
TZOFFSETTO:-0500
TZNAME:EST
DTSTART:20241103T060000
END:STANDARD
BEGIN:DAYLIGHT
TZOFFSETFROM:-0500
TZOFFSETTO:-0400
TZNAME:EDT
DTSTART:20250309T070000
END:DAYLIGHT
BEGIN:STANDARD
TZOFFSETFROM:-0400
TZOFFSETTO:-0500
TZNAME:EST
DTSTART:20251102T060000
END:STANDARD
BEGIN:DAYLIGHT
TZOFFSETFROM:-0500
TZOFFSETTO:-0400
TZNAME:EDT
DTSTART:20260308T070000
END:DAYLIGHT
BEGIN:STANDARD
TZOFFSETFROM:-0400
TZOFFSETTO:-0500
TZNAME:EST
DTSTART:20261101T060000
END:STANDARD
END:VTIMEZONE
BEGIN:VEVENT
DTSTART;TZID=America/New_York:20251130T100000
DTEND;TZID=America/New_York:20251130T140000
DTSTAMP:20260423T070412
CREATED:20251129T183330Z
LAST-MODIFIED:20251129T183330Z
UID:10007034-1764496800-1764511200@ilovebabylon.com
SUMMARY:Toys 4 Tots
DESCRIPTION:Come on down November 30th from 10-2 for our annual Toys 4 Tots Toy Drive \nWe encourage all our amazing customers to come on out with a new Unwrapped toy and to bring those cars out. Trailer parking available on the surrounding streets if needed \nLast year we had a blast and we are excited for another great event  \nPremier DetailingRACE TRACK\, NOT StreetL.I. Needs A DragstripEmpire Muscle CarsSK Speed Racing EquipmentPro Lube Inc
URL:https://ilovebabylon.com/event/toys-4-tots/
LOCATION:Grand Performance\, Grand Performance
CATEGORIES:Community,Fundraiser,Holiday
END:VEVENT
BEGIN:VEVENT
DTSTART;TZID=America/New_York:20251130T023000
DTEND;TZID=America/New_York:20251130T100000
DTSTAMP:20260423T070412
CREATED:20251129T124439Z
LAST-MODIFIED:20260302T135838Z
UID:10007031-1764469800-1764496800@ilovebabylon.com
SUMMARY:Annual Craft Fair Fundraiser
DESCRIPTION:I AM THE ONLY HOST on this event or Email: henryamelia235@gmail.com \nShare this event with your family and friends!This is going to be a great event and we look forward to seeing you! \nATTENTION : if you see anyone except me claiming to be accepting vendor for this event please report them as scammer immediatelyThanks for supporting
URL:https://ilovebabylon.com/event/annual-craft-fair-fundraiser/
LOCATION:95 Half Hollow Rd\, Deer Park\, NY 11729\, 95 Half Hollow Rd\, Deer Park\, NY 11729
CATEGORIES:Community,Fairs and Festivals,Fundraiser,Holiday
END:VEVENT
BEGIN:VEVENT
DTSTART;TZID=America/New_York:20251126T000000
DTEND;TZID=America/New_York:20251126T000000
DTSTAMP:20260423T070412
CREATED:20250908T033741Z
LAST-MODIFIED:20250908T033741Z
UID:10006499-1764115200-1764115200@ilovebabylon.com
SUMMARY:Turkeys Against Cancer 2025
DESCRIPTION:Join the Babylon Breast Cancer Coalition for “Turkeys Against Cancer 2025\,” a heartfelt community initiative happening on November 26th—the day before Thanksgiving. Volunteers and members of the BBQ Brethren will prepare meals for 100 families dealing with breast cancer and the families of at-risk or homeless veterans. Donations of boxed or canned food items like mashed potatoes\, stuffing\, gravy\, vegetables\, and desserts are needed. You can also contribute financially by visiting www.babylonbreastcancer.org and clicking the pink DONATE button. Want to help deliver meals? Contact 631-893-4110 or email info@babylonbreastcancer.org. Every bit helps bring warmth and nourishment this holiday season.
URL:https://ilovebabylon.com/event/turkeys-against-cancer-2025/
CATEGORIES:Community,Fundraiser,Health and Wellness,Holiday
ATTACH;FMTTYPE=image/jpeg:https://ilovebabylon.com/wp-content/uploads/2025/09/turkeys-against-cancer-2025.jpg
END:VEVENT
BEGIN:VEVENT
DTSTART;TZID=America/New_York:20251122T100000
DTEND;TZID=America/New_York:20251122T140000
DTSTAMP:20260423T070412
CREATED:20250504T161121Z
LAST-MODIFIED:20250504T161121Z
UID:10004556-1763805600-1763820000@ilovebabylon.com
SUMMARY:Lindenhurst Farmers Market
DESCRIPTION:Come enjoy the Lindenhurst Farmers Market every Saturday from May through November! Located at 116 N. Wellwood Ave. in Lindenhurst\, NY\, this community event features fresh and local produce\, delicious baked goods\, honey\, and more. There’s something for the whole family with a Kids Corner full of games and treats\, and live music from talented local musicians. A great way to support local vendors and spend a fun-filled Saturday outdoors!
URL:https://ilovebabylon.com/event/lindenhurst-farmers-market-32/
CATEGORIES:Community,Entertainment,Farmer's Market,Food & Drink,Music
ATTACH;FMTTYPE=image/jpeg:https://ilovebabylon.com/wp-content/uploads/2025/04/lindenhurst-farmers-market-2025-1.jpg
END:VEVENT
BEGIN:VEVENT
DTSTART;TZID=America/New_York:20251115T100000
DTEND;TZID=America/New_York:20251115T140000
DTSTAMP:20260423T070412
CREATED:20250504T161120Z
LAST-MODIFIED:20250504T161120Z
UID:10004555-1763200800-1763215200@ilovebabylon.com
SUMMARY:Lindenhurst Farmers Market
DESCRIPTION:Come enjoy the Lindenhurst Farmers Market every Saturday from May through November! Located at 116 N. Wellwood Ave. in Lindenhurst\, NY\, this community event features fresh and local produce\, delicious baked goods\, honey\, and more. There’s something for the whole family with a Kids Corner full of games and treats\, and live music from talented local musicians. A great way to support local vendors and spend a fun-filled Saturday outdoors!
URL:https://ilovebabylon.com/event/lindenhurst-farmers-market-31/
CATEGORIES:Community,Entertainment,Farmer's Market,Food & Drink,Music
ATTACH;FMTTYPE=image/jpeg:https://ilovebabylon.com/wp-content/uploads/2025/04/lindenhurst-farmers-market-2025-1.jpg
END:VEVENT
BEGIN:VEVENT
DTSTART;TZID=America/New_York:20251111T190000
DTEND;TZID=America/New_York:20251111T200000
DTSTAMP:20260423T070412
CREATED:20250512T143218Z
LAST-MODIFIED:20250731T145216Z
UID:10004685-1762887600-1762891200@ilovebabylon.com
SUMMARY:November General Meeting
DESCRIPTION:Join the Deer Park Chamber of Commerce every 2nd Tuesday of the month for our General Meeting! Enjoy refreshments\, connect with local business owners\, get the latest community updates\, and discover ways to be featured in our Monthly Member Spotlight. It’s a great opportunity to network and stay involved in the community. All are welcome!
URL:https://ilovebabylon.com/event/november-general-meeting/
LOCATION:Constantino Brumidi Lodge\, 2075 Deer Park Ave\, Deer Park\, NY\, 11729\, US
CATEGORIES:Business,Chamber of Commerce,Community,Meeting,Networking,Social Events
ATTACH;FMTTYPE=image/png:https://ilovebabylon.com/wp-content/uploads/2025/05/dpchamber-1.png
ORGANIZER;CN="Deer Park Chamber of Commerce":MAILTO:secretary@chamberofdeerparkny.com
END:VEVENT
BEGIN:VEVENT
DTSTART;TZID=America/New_York:20251108T100000
DTEND;TZID=America/New_York:20251108T140000
DTSTAMP:20260423T070412
CREATED:20250504T161119Z
LAST-MODIFIED:20250504T161119Z
UID:10004554-1762596000-1762610400@ilovebabylon.com
SUMMARY:Lindenhurst Farmers Market
DESCRIPTION:Come enjoy the Lindenhurst Farmers Market every Saturday from May through November! Located at 116 N. Wellwood Ave. in Lindenhurst\, NY\, this community event features fresh and local produce\, delicious baked goods\, honey\, and more. There’s something for the whole family with a Kids Corner full of games and treats\, and live music from talented local musicians. A great way to support local vendors and spend a fun-filled Saturday outdoors!
URL:https://ilovebabylon.com/event/lindenhurst-farmers-market-30/
CATEGORIES:Community,Entertainment,Farmer's Market,Food & Drink,Music
ATTACH;FMTTYPE=image/jpeg:https://ilovebabylon.com/wp-content/uploads/2025/04/lindenhurst-farmers-market-2025-1.jpg
END:VEVENT
BEGIN:VEVENT
DTSTART;TZID=America/New_York:20251107T000000
DTEND;TZID=America/New_York:20251109T000000
DTSTAMP:20260423T070412
CREATED:20250829T013624Z
LAST-MODIFIED:20250829T013624Z
UID:10006423-1762473600-1762646400@ilovebabylon.com
SUMMARY:10th Annual Turkaree Jamboree
DESCRIPTION:🌍 The 10th Annual Turkaree Jamboree is back at Belmont Lake State Park! 🌍 Hosted by the Lions Club of North Babylon\, this weekend-long event from November 7–9\, 2025\, celebrates global culture with the theme “Celebrating Internationally!” Expect exciting highlights like a pizza dinner\, an international cooking contest\, cultural games and activities\, and the always-fun Pushcart Derby. Whether you’re competing\, cooking\, or just enjoying the outdoors\, this jamboree is all about unity\, joy\, and community adventure.
URL:https://ilovebabylon.com/event/10th-annual-turkaree-jamboree/
LOCATION:Belmont Lake State Park\, 625 Belmont Ave\, Babylon\, NY\, 11704\, US
CATEGORIES:Community,Cultural Events,Fairs and Festivals,Food & Drink,Nature & Outdoors,Recreation & Amusements,Social Events
ATTACH;FMTTYPE=image/jpeg:https://ilovebabylon.com/wp-content/uploads/2025/08/turkaree.jpg
END:VEVENT
BEGIN:VEVENT
DTSTART;TZID=America/New_York:20251101T100000
DTEND;TZID=America/New_York:20251101T140000
DTSTAMP:20260423T070412
CREATED:20250504T161118Z
LAST-MODIFIED:20250504T161118Z
UID:10004553-1761991200-1762005600@ilovebabylon.com
SUMMARY:Lindenhurst Farmers Market
DESCRIPTION:Come enjoy the Lindenhurst Farmers Market every Saturday from May through November! Located at 116 N. Wellwood Ave. in Lindenhurst\, NY\, this community event features fresh and local produce\, delicious baked goods\, honey\, and more. There’s something for the whole family with a Kids Corner full of games and treats\, and live music from talented local musicians. A great way to support local vendors and spend a fun-filled Saturday outdoors!
URL:https://ilovebabylon.com/event/lindenhurst-farmers-market-29/
CATEGORIES:Community,Entertainment,Farmer's Market,Food & Drink,Music
ATTACH;FMTTYPE=image/jpeg:https://ilovebabylon.com/wp-content/uploads/2025/04/lindenhurst-farmers-market-2025-1.jpg
END:VEVENT
BEGIN:VEVENT
DTSTART;TZID=America/New_York:20251031T190000
DTEND;TZID=America/New_York:20251031T230000
DTSTAMP:20260423T070412
CREATED:20251003T172316Z
LAST-MODIFIED:20260302T135858Z
UID:10006934-1761937200-1761951600@ilovebabylon.com
SUMMARY:West Babylon Thriller Dance
DESCRIPTION:Come get your Zombie Groove on!!! \nOnce again\, this year\, the West Babylon Mombies 🧟🧟‍♀️🧟‍♀️and Teen Zombies🧟🧟 are going to be dancing their brains out at the WB #Halloween Block Party!!💀👻🎃🕷️🕸️🧙🏻‍♀️🧛🏻‍♂️🐈‍⬛🎃👻💀 \nIf YOU like to dance\, we are actively recruiting to bring the whole WB Community together on 10/31. Come join us!Message us here \nOr click the link in our bio to email us!!! This year\, sign up is FREE. You’ll get practice videos and rehearsals sent to you.  \nBut let’s be real….It’s only the Michael Jackson’s Thriller dance that’s been playing every October for 45 years!! (With a few additional a tweaks 😉) \nAll funds raised at the block party will help the WB Jr and High School Musical productions in 2026!! \n#westbabylon #westbabylonmoms #thrillerdance #choreography #community #fundraiser #dance #dancing #zombie #disturbia #somebodyswatchingme👀
URL:https://ilovebabylon.com/event/wb-thriller-dance/
LOCATION:West Babylon \, L.I\,  NY\, West Babylon \, L.I\, NY
CATEGORIES:Community,Fundraiser,Halloween,Music
ATTACH;FMTTYPE=image/jpeg:https://ilovebabylon.com/wp-content/uploads/2025/10/thriller-dance-1.jpg
END:VEVENT
BEGIN:VEVENT
DTSTART;TZID=America/New_York:20251029T183000
DTEND;TZID=America/New_York:20251029T213000
DTSTAMP:20260423T070412
CREATED:20251003T011744Z
LAST-MODIFIED:20260302T135808Z
UID:10006927-1761762600-1761773400@ilovebabylon.com
SUMMARY:Sea Glass Birds & Seashell Shadow Box NAHS Lindenhurst HS Fundraiser at Hurricane Grill & Wings Lind
DESCRIPTION:Come join us for a fun night of crafting.Price per person $35 and up depending on size choice. \nRegister now to craft along step by step with Paint Party LI & support Lindenhurst HS National Art Honor Society! This is a public event\, all are welcome!Choose your size wooden shadow box\, amount of corks and sea glass at the event or choose a fun design! Templates provided for designs. You can even add text! (we have lots of sea glass to choose from at the event! Or bring some of your own to add.)No resin used in this project we will be gluing down items inside the shadowboxes. \nFood purchase is separate. We ask that you do make a purchase. We will be crafting first then dining.If you’d like to eat before the event please arrive early. \nNo refunds will be given.Projects can be packaged as a TO GO kit.
URL:https://ilovebabylon.com/event/sea-glass-birds-seashell-shadow-box-nahs-lindenhurst-hs-fundraiser-at-hurricane-grill-wings-lind/
LOCATION:Hurricane Grill & Wings (127 East Montauk Highway\, Lindenhurst\, NY)
CATEGORIES:Arts and Crafts,Community,Food & Drink,Fundraiser
END:VEVENT
BEGIN:VEVENT
DTSTART;TZID=America/New_York:20251026T140000
DTEND;TZID=America/New_York:20251026T160000
DTSTAMP:20260423T070412
CREATED:20251003T174024Z
LAST-MODIFIED:20251003T174024Z
UID:10006998-1761487200-1761494400@ilovebabylon.com
SUMMARY:Babylon Historical Society hosts : "The Stanford White Murder" presented by Marsha Collock
DESCRIPTION:The architect\, the millionaire and “the girl in the red velvet swing” is the cliche for the 1906 Gilded Age murder and resulting in the trial of Harry Kendall Thaw for the public murder of Stanford White at Madison Square Garden over model and actress Evelyn Nesbit Thaw. Presenter Marsha Collock will explore the Gilded Age conditions and lifestyles of New York City and beyond that made this real-life story more dramatic than any fiction. \nThis event is free and open to the public.
URL:https://ilovebabylon.com/event/babylon-historical-society-hosts-the-stanford-white-murder-presented-by-marsha-collock/
LOCATION:Village of Babylon Historical & Preservation Society
CATEGORIES:Community,Entertainment,Presentation
END:VEVENT
BEGIN:VEVENT
DTSTART;TZID=America/New_York:20251026T080000
DTEND;TZID=America/New_York:20251026T123000
DTSTAMP:20260423T070412
CREATED:20250410T055218Z
LAST-MODIFIED:20250410T055218Z
UID:10003976-1761465600-1761481800@ilovebabylon.com
SUMMARY:Babylon Village Farmers Market
DESCRIPTION:Join us at the Babylon Village Farmers Market every Sunday at the Babylon Village Gazebo for fresh local produce\, artisan goods\, and community vibes! Running June through October\, the market is the perfect place to support local vendors and enjoy a morning out with family and friends. Admission is free—bring your bags and shop fresh!
URL:https://ilovebabylon.com/event/babylon-village-farmers-market-22/
LOCATION:Babylon Village Gazebo\, Babylon\, NY\, US
CATEGORIES:Community,Farmer's Market,Food & Drink
ATTACH;FMTTYPE=image/jpeg:https://ilovebabylon.com/wp-content/uploads/2025/04/2025-04-09-17.09.53.jpg
END:VEVENT
BEGIN:VEVENT
DTSTART;TZID=America/New_York:20251025T100000
DTEND;TZID=America/New_York:20251025T140000
DTSTAMP:20260423T070412
CREATED:20250504T161107Z
LAST-MODIFIED:20250504T161107Z
UID:10004552-1761386400-1761400800@ilovebabylon.com
SUMMARY:Lindenhurst Farmers Market
DESCRIPTION:Come enjoy the Lindenhurst Farmers Market every Saturday from May through November! Located at 116 N. Wellwood Ave. in Lindenhurst\, NY\, this community event features fresh and local produce\, delicious baked goods\, honey\, and more. There’s something for the whole family with a Kids Corner full of games and treats\, and live music from talented local musicians. A great way to support local vendors and spend a fun-filled Saturday outdoors!
URL:https://ilovebabylon.com/event/lindenhurst-farmers-market-28/
CATEGORIES:Community,Entertainment,Farmer's Market,Food & Drink,Music
ATTACH;FMTTYPE=image/jpeg:https://ilovebabylon.com/wp-content/uploads/2025/04/lindenhurst-farmers-market-2025-1.jpg
END:VEVENT
BEGIN:VEVENT
DTSTART;TZID=America/New_York:20251025T090000
DTEND;TZID=America/New_York:20251025T130000
DTSTAMP:20260423T070412
CREATED:20250530T000224Z
LAST-MODIFIED:20250530T000224Z
UID:10004865-1761382800-1761397200@ilovebabylon.com
SUMMARY:Amityville Village Farmers Market
DESCRIPTION:Join us every Saturday at the Amityville Village Farmers Market\, where local vendors gather to offer fresh produce\, handmade crafts\, baked goods\, pickled treats\, and more. Held at the First United Methodist Church\, this vibrant community event is the perfect weekend destination for families\, food lovers\, and craft enthusiasts alike.
URL:https://ilovebabylon.com/event/amityville-village-farmers-market/
CATEGORIES:Arts and Crafts,Community,Farmer's Market,Food & Drink
ATTACH;FMTTYPE=image/jpeg:https://ilovebabylon.com/wp-content/uploads/2025/05/2025-05-28-12.33.52.jpg
END:VEVENT
BEGIN:VEVENT
DTSTART;TZID=America/New_York:20251024T190000
DTEND;TZID=America/New_York:20251024T220000
DTSTAMP:20260423T070412
CREATED:20251003T174400Z
LAST-MODIFIED:20260302T135836Z
UID:10006906-1761332400-1761343200@ilovebabylon.com
SUMMARY:Murder Mystery
DESCRIPTION:Come join in the fun- tickets at link below.Support Long Island Roller Derby and enjoy a murder mystery unfold in front of you. \nhttps://www.eventbrite.com/e/long-island-roller-rebels-murder-mystery-halloween-fundraiser-tickets-1685851099019?aff=oddtdtcreator
URL:https://ilovebabylon.com/event/murder-mystery/
LOCATION:Sand City South\, 150 South Wellwood Ave\, Lindenhurst\, NY\, 11757\, US
CATEGORIES:Community,Entertainment,Food & Drink,Fundraiser,Halloween
END:VEVENT
BEGIN:VEVENT
DTSTART;TZID=America/New_York:20251018T110000
DTEND;TZID=America/New_York:20251025T190000
DTSTAMP:20260423T070412
CREATED:20250821T193537Z
LAST-MODIFIED:20250821T193537Z
UID:10006269-1760785200-1761418800@ilovebabylon.com
SUMMARY:Haunted Shed
DESCRIPTION:Dare to enter the Haunted Shed at Tuff Shed in Lindenhurst! Running from October 18 to 25\, this spine-chilling indoor experience features live scary characters\, free candy\, and photo opportunities—all for free! Perfect for thrill-seekers and families looking for some frightful fun this Halloween season.
URL:https://ilovebabylon.com/event/haunted-shed/
CATEGORIES:Community,Entertainment,Holiday,Recreation & Amusements
ATTACH;FMTTYPE=image/jpeg:https://ilovebabylon.com/wp-content/uploads/2025/08/hauted-shed.jpg
END:VEVENT
END:VCALENDAR