BEGIN:VCALENDAR
VERSION:2.0
PRODID:-//I Love Babylon, NY - ECPv6.15.20//NONSGML v1.0//EN
CALSCALE:GREGORIAN
METHOD:PUBLISH
X-WR-CALNAME:I Love Babylon, NY
X-ORIGINAL-URL:https://ilovebabylon.com
X-WR-CALDESC:Events for I Love Babylon, NY
REFRESH-INTERVAL;VALUE=DURATION:PT1H
X-Robots-Tag:noindex
X-PUBLISHED-TTL:PT1H
BEGIN:VTIMEZONE
TZID:America/New_York
BEGIN:DAYLIGHT
TZOFFSETFROM:-0500
TZOFFSETTO:-0400
TZNAME:EDT
DTSTART:20240310T070000
END:DAYLIGHT
BEGIN:STANDARD
TZOFFSETFROM:-0400
TZOFFSETTO:-0500
TZNAME:EST
DTSTART:20241103T060000
END:STANDARD
BEGIN:DAYLIGHT
TZOFFSETFROM:-0500
TZOFFSETTO:-0400
TZNAME:EDT
DTSTART:20250309T070000
END:DAYLIGHT
BEGIN:STANDARD
TZOFFSETFROM:-0400
TZOFFSETTO:-0500
TZNAME:EST
DTSTART:20251102T060000
END:STANDARD
BEGIN:DAYLIGHT
TZOFFSETFROM:-0500
TZOFFSETTO:-0400
TZNAME:EDT
DTSTART:20260308T070000
END:DAYLIGHT
BEGIN:STANDARD
TZOFFSETFROM:-0400
TZOFFSETTO:-0500
TZNAME:EST
DTSTART:20261101T060000
END:STANDARD
END:VTIMEZONE
BEGIN:VEVENT
DTSTART;TZID=America/New_York:20251129T103000
DTEND;TZID=America/New_York:20251129T113000
DTSTAMP:20260426T001847
CREATED:20251129T192421Z
LAST-MODIFIED:20251129T192421Z
UID:10007021-1764412200-1764415800@ilovebabylon.com
SUMMARY:November Toddler Time
DESCRIPTION:Toddler Turkey Time!Tuesdays at 10Thursdays at 10Friday at 10Saturday at 10:30No class Tuesday Nov 4th\, Thursday Nov 27th \nWalk ins ok\, but reservations preferred \nhttps://www.facebook.com/events/1510046116979307/?event_time_id=1510068393643746
URL:https://ilovebabylon.com/event/november-toddler-time/
LOCATION:The Color Palette Lindenhurst\, 51 West Hoffman Ave.\, Lindenhurst\, NY\, 11757\, US
CATEGORIES:Arts and Crafts,Kids
END:VEVENT
END:VCALENDAR