BEGIN:VCALENDAR
VERSION:2.0
PRODID:-//I Love Babylon, NY - ECPv6.15.20//NONSGML v1.0//EN
CALSCALE:GREGORIAN
METHOD:PUBLISH
X-WR-CALNAME:I Love Babylon, NY
X-ORIGINAL-URL:https://ilovebabylon.com
X-WR-CALDESC:Events for I Love Babylon, NY
REFRESH-INTERVAL;VALUE=DURATION:PT1H
X-Robots-Tag:noindex
X-PUBLISHED-TTL:PT1H
BEGIN:VTIMEZONE
TZID:America/New_York
BEGIN:DAYLIGHT
TZOFFSETFROM:-0500
TZOFFSETTO:-0400
TZNAME:EDT
DTSTART:20240310T070000
END:DAYLIGHT
BEGIN:STANDARD
TZOFFSETFROM:-0400
TZOFFSETTO:-0500
TZNAME:EST
DTSTART:20241103T060000
END:STANDARD
BEGIN:DAYLIGHT
TZOFFSETFROM:-0500
TZOFFSETTO:-0400
TZNAME:EDT
DTSTART:20250309T070000
END:DAYLIGHT
BEGIN:STANDARD
TZOFFSETFROM:-0400
TZOFFSETTO:-0500
TZNAME:EST
DTSTART:20251102T060000
END:STANDARD
BEGIN:DAYLIGHT
TZOFFSETFROM:-0500
TZOFFSETTO:-0400
TZNAME:EDT
DTSTART:20260308T070000
END:DAYLIGHT
BEGIN:STANDARD
TZOFFSETFROM:-0400
TZOFFSETTO:-0500
TZNAME:EST
DTSTART:20261101T060000
END:STANDARD
END:VTIMEZONE
BEGIN:VEVENT
DTSTART;TZID=America/New_York:20251202T100000
DTEND;TZID=America/New_York:20251202T110000
DTSTAMP:20260425T225353
CREATED:20251129T184110Z
LAST-MODIFIED:20251129T184110Z
UID:10007042-1764669600-1764673200@ilovebabylon.com
SUMMARY:Toddler Time December 2025
DESCRIPTION:Join us for the end of the year Holiday Fun!It is our last month of Tuesdays and Saturdays so come down to make the best of it!$22 per classOne hourNew project each weekNo classes:Dec 25\, 30\, & Jan 1 \nhttps://www.facebook.com/events/873237828697966/?event_time_id=873237875364628
URL:https://ilovebabylon.com/event/toddler-time-december-2025/
LOCATION:The Color Palette Lindenhurst\, 51 West Hoffman Ave.\, Lindenhurst\, NY\, 11757\, US
CATEGORIES:Holiday,Kids
END:VEVENT
BEGIN:VEVENT
DTSTART;TZID=America/New_York:20251210T150000
DTEND;TZID=America/New_York:20251210T180000
DTSTAMP:20260425T225353
CREATED:20251129T184448Z
LAST-MODIFIED:20251129T184448Z
UID:10007110-1765378800-1765389600@ilovebabylon.com
SUMMARY:SENSORY SANTA FAMILY PHOTO EVENT
DESCRIPTION:This year\, we are opening our doors to create a gentle\, quiet holiday moment made especially for our sensory-sensitive and special-needs children. A quiet space where they can meet Santa at their own pace and feel safe. We are honored to support the beautiful mission of A League of League of YES who brings inclusive sports like baseball and basketball to athletes of all abilities on Long Island. We are also honored to be an unwrapped gift drop off for KiDS NEED MoRE dedicated to lifting the hearts of children\, teens and families facing illness\, grief\, military life\, and all the tough chapters life can bring. So if you feel called to sprinkle a little extra sparkle and holiday magic–Stop by 99 Oak Street from now til December 10th.This year our holiday wish as the day draws near;May calm hearts gather and feel held here\,May soft joy sparkle in every glance\,And every special child get their chance. With any questions call 631-691-5700 We are always near\, PLEASE~ RSVP on FACEBOOK or PHONE So each child’s treat is ready right here
URL:https://ilovebabylon.com/event/sensory-santa-family-photo-event/
LOCATION:99 Oak St\, Copiague\, NY\, United States\, New York 11726\, 99 Oak St\, Copiague\, NY\, United States\, New York 11726
CATEGORIES:Christmas,Family,Holiday,Kids,Live Appearances
END:VEVENT
BEGIN:VEVENT
DTSTART;TZID=America/New_York:20251212T170000
DTEND;TZID=America/New_York:20251212T200000
DTSTAMP:20260425T225353
CREATED:20251201T232528Z
LAST-MODIFIED:20251201T232528Z
UID:10007210-1765558800-1765569600@ilovebabylon.com
SUMMARY:Kids Christmas Party with Santa
DESCRIPTION:Celebrate the holiday season at the Kids Christmas Party with Santa! Children ages 2 to 12 can enjoy a joyful day full of painting their own plaster ornament\, party games with prizes\, dancing\, photo stations\, and holiday snacks. Santa himself will be there for family photos\, storytelling\, and giving out personalized letters. Each child receives a Christmas tattoo and can sing along to festive holiday tunes. Don’t miss this fun and festive event for the whole family! Registration is required in advance.
URL:https://ilovebabylon.com/event/kids-christmas-party-with-santa-3/
CATEGORIES:Arts and Crafts,Entertainment,Family,Holiday,Recreation & Amusements,Social Events
ATTACH;FMTTYPE=image/jpeg:https://ilovebabylon.com/wp-content/uploads/2025/12/2025-11-27-22.20.50.jpg
END:VEVENT
BEGIN:VEVENT
DTSTART;TZID=America/New_York:20251213T103000
DTEND;TZID=America/New_York:20251213T133000
DTSTAMP:20260425T225353
CREATED:20251201T232525Z
LAST-MODIFIED:20251202T000417Z
UID:10007211-1765621800-1765632600@ilovebabylon.com
SUMMARY:Kids Christmas Party with Santa
DESCRIPTION:Celebrate the holiday season at the Kids Christmas Party with Santa! Children ages 2 to 12 can enjoy a joyful day full of painting their own plaster ornament\, party games with prizes\, dancing\, photo stations\, and holiday snacks. Santa himself will be there for family photos\, storytelling\, and giving out personalized letters. Each child receives a Christmas tattoo and can sing along to festive holiday tunes. Don’t miss this fun and festive event for the whole family! Registration is required in advance. \n🎅 Reserve your spots by December 1st and each child will receive a plaster Christmas ornament painting kit from Santa!! \nEnjoy a FUN filled Christmas event at Creative Touch. Friday 12/12 from 5pm-8pm\, Saturday 12/13 from 10:30am-1:30pm and Sunday 12/14 from 2pm-5pm This event will include: Plaster piece of their choice to paint | Photo Stations | Food / Drinks | Snacks Party Games with Prizes | Dancing | Christmas Tattoos | Christmas Tunes Storytelling and family photos with Santa | Personalized Letter from Santa \n$30 per child (ages 2-12) Registration is required prior to event @ creativetouchli@yahoo.com 631-601-6681 or private message on Facebook. \nSpacious studio with plenty of free parking!! \n631-601-6681 \nIG – creativetouchli \nhttp://CreativeTouchLI.com
URL:https://ilovebabylon.com/event/kids-christmas-party-with-santa-2/
CATEGORIES:Arts and Crafts,Entertainment,Family,Holiday,Recreation & Amusements,Social Events
ATTACH;FMTTYPE=image/jpeg:https://ilovebabylon.com/wp-content/uploads/2025/12/2025-11-27-22.20.50.jpg
END:VEVENT
BEGIN:VEVENT
DTSTART;TZID=America/New_York:20251213T120000
DTEND;TZID=America/New_York:20251213T140000
DTSTAMP:20260425T225353
CREATED:20251212T093327Z
LAST-MODIFIED:20251212T093327Z
UID:10007131-1765627200-1765634400@ilovebabylon.com
SUMMARY:Operation Joy
DESCRIPTION:Come get a FREE toy at the Church of God by Faith in Wyandanch\, LI. Child MUST be present to receive toy.
URL:https://ilovebabylon.com/event/operation-joy/
LOCATION:Wyandanch Church Of God By Faith\, Wyandanch Church Of God By Faith
CATEGORIES:Community,Kids
END:VEVENT
BEGIN:VEVENT
DTSTART;TZID=America/New_York:20251214T140000
DTEND;TZID=America/New_York:20251214T170000
DTSTAMP:20260425T225353
CREATED:20251201T232522Z
LAST-MODIFIED:20251201T232522Z
UID:10007212-1765720800-1765731600@ilovebabylon.com
SUMMARY:Kids Christmas Party with Santa
DESCRIPTION:Celebrate the holiday season at the Kids Christmas Party with Santa! Children ages 2 to 12 can enjoy a joyful day full of painting their own plaster ornament\, party games with prizes\, dancing\, photo stations\, and holiday snacks. Santa himself will be there for family photos\, storytelling\, and giving out personalized letters. Each child receives a Christmas tattoo and can sing along to festive holiday tunes. Don’t miss this fun and festive event for the whole family! Registration is required in advance.
URL:https://ilovebabylon.com/event/kids-christmas-party-with-santa/
CATEGORIES:Arts and Crafts,Entertainment,Family,Holiday,Recreation & Amusements,Social Events
ATTACH;FMTTYPE=image/jpeg:https://ilovebabylon.com/wp-content/uploads/2025/12/2025-11-27-22.20.50.jpg
END:VEVENT
BEGIN:VEVENT
DTSTART;TZID=America/New_York:20251220T170000
DTEND;TZID=America/New_York:20251220T210000
DTSTAMP:20260425T225353
CREATED:20251129T185404Z
LAST-MODIFIED:20251129T185404Z
UID:10007165-1766250000-1766264400@ilovebabylon.com
SUMMARY:🎅✨ PHOTOS & DINNER WITH SANTA CLAUS! ✨🎄
DESCRIPTION:Bring your kids for a magical Christmas evening filled with joy\, memories\, and holiday spirit ❤️ \n📆 Saturday\, December 20th⏰ 5:00PM – 9:00PM📍 301 Bergen Ave\, West Babylon\, NY \n🍽️ Kids Eat FREE (10 & under\, max 2 per adult)💵 $35 per adult🎁 Each child will receive a Christmas gift from Santa📸 Free photo session with Santa (use your phone or camera)👶 Perfect for babies\, toddlers & families🎄 Professional holiday backdrop\, Christmas tree & décor🪑 1 hour seating per family \n📞 Call to reserve: 631-620-3340🌐 Vernny.com
URL:https://ilovebabylon.com/event/%f0%9f%8e%85%e2%9c%a8-photos-dinner-with-santa-claus-%e2%9c%a8%f0%9f%8e%84/
LOCATION:301 Bergen Ave\, West Babylon\, Nueva York\, Estados Unidos\, 301 Bergen Ave\, West Babylon\, Nueva York\, Estados Unidos
CATEGORIES:Christmas,Holiday,Kids,Live Appearances,Wine & Dining
END:VEVENT
BEGIN:VEVENT
DTSTART;TZID=America/New_York:20251229T084500
DTEND;TZID=America/New_York:20251231T150000
DTSTAMP:20260425T225353
CREATED:20251129T184054Z
LAST-MODIFIED:20251231T102758Z
UID:10007184-1766997900-1767193200@ilovebabylon.com
SUMMARY:Holiday Break Art Camp 2025
DESCRIPTION:Mon\, Dec 29\, 8:45 AM – Wed\, Dec 31\, 3:00 PM ESTat The Color Palette51 West Hoffman AvenueLindenhurst\, NY 11757 \nJoin us Dec 29\, 30 or 32 for Art Camp!$50 1/2 day 8:45-11:45am or 12-3pm$90 per Full Day 8:45am-3pmWe will be doing a New Years Eve Party on Dec 31st!(Full Day bring your lunch – All bring snack)Must have a reservationthecolorpaletteli.com
URL:https://ilovebabylon.com/event/holiday-break-art-camp-2025/
LOCATION:The Color Palette Lindenhurst\, 51 West Hoffman Ave.\, Lindenhurst\, NY\, 11757\, US
CATEGORIES:Arts and Crafts,Holiday,Kids
END:VEVENT
END:VCALENDAR