BEGIN:VCALENDAR
VERSION:2.0
PRODID:-//I Love Babylon, NY - ECPv6.15.20//NONSGML v1.0//EN
CALSCALE:GREGORIAN
METHOD:PUBLISH
X-ORIGINAL-URL:https://ilovebabylon.com
X-WR-CALDESC:Events for I Love Babylon, NY
REFRESH-INTERVAL;VALUE=DURATION:PT1H
X-Robots-Tag:noindex
X-PUBLISHED-TTL:PT1H
BEGIN:VTIMEZONE
TZID:America/New_York
BEGIN:DAYLIGHT
TZOFFSETFROM:-0500
TZOFFSETTO:-0400
TZNAME:EDT
DTSTART:20250309T070000
END:DAYLIGHT
BEGIN:STANDARD
TZOFFSETFROM:-0400
TZOFFSETTO:-0500
TZNAME:EST
DTSTART:20251102T060000
END:STANDARD
BEGIN:DAYLIGHT
TZOFFSETFROM:-0500
TZOFFSETTO:-0400
TZNAME:EDT
DTSTART:20260308T070000
END:DAYLIGHT
BEGIN:STANDARD
TZOFFSETFROM:-0400
TZOFFSETTO:-0500
TZNAME:EST
DTSTART:20261101T060000
END:STANDARD
BEGIN:DAYLIGHT
TZOFFSETFROM:-0500
TZOFFSETTO:-0400
TZNAME:EDT
DTSTART:20270314T070000
END:DAYLIGHT
BEGIN:STANDARD
TZOFFSETFROM:-0400
TZOFFSETTO:-0500
TZNAME:EST
DTSTART:20271107T060000
END:STANDARD
END:VTIMEZONE
BEGIN:VEVENT
DTSTART;TZID=America/New_York:20260516T170000
DTEND;TZID=America/New_York:20260516T190000
DTSTAMP:20260421T112707
CREATED:20260420T200742Z
LAST-MODIFIED:20260420T200742Z
UID:10008266-1778950800-1778958000@ilovebabylon.com
SUMMARY:Saturday Soirée
DESCRIPTION:Step into the weekend at Saturday Soirée at Lionz Den in Lindenhurst! Enjoy an exciting happy hour from 5–7 PM featuring great drink specials and delicious bites. Stick around as the night heats up with a DJ spinning starting at 10 PM. Whether you’re out with friends or making new connections\, this is the perfect Saturday night destination for good vibes\, music\, and unforgettable energy.
URL:https://ilovebabylon.com/event/saturday-soiree-4/
CATEGORIES:Entertainment,Food & Drink,Music,Social Events
ATTACH;FMTTYPE=image/jpeg:https://ilovebabylon.com/wp-content/uploads/2026/04/Lionz-Den-Saturday-soiree.jpg
END:VEVENT
BEGIN:VEVENT
DTSTART;TZID=America/New_York:20260522T170000
DTEND;TZID=America/New_York:20260522T190000
DTSTAMP:20260421T112707
CREATED:20260420T200541Z
LAST-MODIFIED:20260420T200541Z
UID:10008257-1779469200-1779476400@ilovebabylon.com
SUMMARY:Friday Roar’n Pour Happy Hour
DESCRIPTION:Kick off your Friday night at Roar’n Pour Happy Hour at Lionz Den in Lindenhurst! Enjoy refreshing drinks and delicious bites from 5–7 PM in a lively atmosphere. Stay for dinner starting at 5 PM\, late-night bites at 10 PM\, and a DJ spinning great music from 10 PM until close. Perfect for anyone looking to unwind\, socialize\, and enjoy great vibes.
URL:https://ilovebabylon.com/event/friday-roarn-pour-happy-hour-5/
CATEGORIES:Entertainment,Food & Drink,Music,Social Events
ATTACH;FMTTYPE=image/jpeg:https://ilovebabylon.com/wp-content/uploads/2026/04/Lionz-Den-Friday-Happy-hour.jpg
END:VEVENT
BEGIN:VEVENT
DTSTART;TZID=America/New_York:20260523T170000
DTEND;TZID=America/New_York:20260523T190000
DTSTAMP:20260421T112707
CREATED:20260420T200745Z
LAST-MODIFIED:20260420T200745Z
UID:10008267-1779555600-1779562800@ilovebabylon.com
SUMMARY:Saturday Soirée
DESCRIPTION:Step into the weekend at Saturday Soirée at Lionz Den in Lindenhurst! Enjoy an exciting happy hour from 5–7 PM featuring great drink specials and delicious bites. Stick around as the night heats up with a DJ spinning starting at 10 PM. Whether you’re out with friends or making new connections\, this is the perfect Saturday night destination for good vibes\, music\, and unforgettable energy.
URL:https://ilovebabylon.com/event/saturday-soiree-5/
CATEGORIES:Entertainment,Food & Drink,Music,Social Events
ATTACH;FMTTYPE=image/jpeg:https://ilovebabylon.com/wp-content/uploads/2026/04/Lionz-Den-Saturday-soiree.jpg
END:VEVENT
BEGIN:VEVENT
DTSTART;TZID=America/New_York:20260529T170000
DTEND;TZID=America/New_York:20260529T190000
DTSTAMP:20260421T112707
CREATED:20260420T200548Z
LAST-MODIFIED:20260420T200548Z
UID:10008258-1780074000-1780081200@ilovebabylon.com
SUMMARY:Friday Roar’n Pour Happy Hour
DESCRIPTION:Kick off your Friday night at Roar’n Pour Happy Hour at Lionz Den in Lindenhurst! Enjoy refreshing drinks and delicious bites from 5–7 PM in a lively atmosphere. Stay for dinner starting at 5 PM\, late-night bites at 10 PM\, and a DJ spinning great music from 10 PM until close. Perfect for anyone looking to unwind\, socialize\, and enjoy great vibes.
URL:https://ilovebabylon.com/event/friday-roarn-pour-happy-hour-6/
CATEGORIES:Entertainment,Food & Drink,Music,Social Events
ATTACH;FMTTYPE=image/jpeg:https://ilovebabylon.com/wp-content/uploads/2026/04/Lionz-Den-Friday-Happy-hour.jpg
END:VEVENT
BEGIN:VEVENT
DTSTART;TZID=America/New_York:20260530T170000
DTEND;TZID=America/New_York:20260530T190000
DTSTAMP:20260421T112707
CREATED:20260420T200752Z
LAST-MODIFIED:20260420T200752Z
UID:10008268-1780160400-1780167600@ilovebabylon.com
SUMMARY:Saturday Soirée
DESCRIPTION:Step into the weekend at Saturday Soirée at Lionz Den in Lindenhurst! Enjoy an exciting happy hour from 5–7 PM featuring great drink specials and delicious bites. Stick around as the night heats up with a DJ spinning starting at 10 PM. Whether you’re out with friends or making new connections\, this is the perfect Saturday night destination for good vibes\, music\, and unforgettable energy.
URL:https://ilovebabylon.com/event/saturday-soiree-6/
CATEGORIES:Entertainment,Food & Drink,Music,Social Events
ATTACH;FMTTYPE=image/jpeg:https://ilovebabylon.com/wp-content/uploads/2026/04/Lionz-Den-Saturday-soiree.jpg
END:VEVENT
BEGIN:VEVENT
DTSTART;TZID=America/New_York:20260531T100000
DTEND;TZID=America/New_York:20260531T160000
DTSTAMP:20260421T112707
CREATED:20260420T191207Z
LAST-MODIFIED:20260420T191207Z
UID:10008232-1780221600-1780243200@ilovebabylon.com
SUMMARY:Annual Street Fair
DESCRIPTION:Join the North Babylon Lions Club for their Annual Street Fair\, a fun-filled day for the whole community! Stroll along Deer Park Avenue and enjoy live music\, exciting performances\, delicious food from a variety of vendors\, and family-friendly attractions including inflatables and raffles. With arts and crafts\, local vendors\, and entertainment for all ages\, this event is perfect for families\, friends\, and neighbors looking to celebrate together. Vendors are invited to participate and showcase their goods\, making it a great opportunity to connect with the community.
URL:https://ilovebabylon.com/event/annual-street-fair/
LOCATION:Deer Park Avenue (from Hale Road to Stone Avenue)\, 785 - 905 Deer Park Ave\, North Babylon\, NY\, 11703\, United States
CATEGORIES:Arts and Crafts,Community,Entertainment,Fairs and Festivals,Food & Drink
ATTACH;FMTTYPE=image/jpeg:https://ilovebabylon.com/wp-content/uploads/2026/04/2026-04-14-07.49.41.jpg
END:VEVENT
BEGIN:VEVENT
DTSTART;TZID=America/New_York:20260605T170000
DTEND;TZID=America/New_York:20260605T190000
DTSTAMP:20260421T112707
CREATED:20260420T200550Z
LAST-MODIFIED:20260420T200550Z
UID:10008259-1780678800-1780686000@ilovebabylon.com
SUMMARY:Friday Roar’n Pour Happy Hour
DESCRIPTION:Kick off your Friday night at Roar’n Pour Happy Hour at Lionz Den in Lindenhurst! Enjoy refreshing drinks and delicious bites from 5–7 PM in a lively atmosphere. Stay for dinner starting at 5 PM\, late-night bites at 10 PM\, and a DJ spinning great music from 10 PM until close. Perfect for anyone looking to unwind\, socialize\, and enjoy great vibes.
URL:https://ilovebabylon.com/event/friday-roarn-pour-happy-hour-7/
CATEGORIES:Entertainment,Food & Drink,Music,Social Events
ATTACH;FMTTYPE=image/jpeg:https://ilovebabylon.com/wp-content/uploads/2026/04/Lionz-Den-Friday-Happy-hour.jpg
END:VEVENT
BEGIN:VEVENT
DTSTART;TZID=America/New_York:20260606T170000
DTEND;TZID=America/New_York:20260606T190000
DTSTAMP:20260421T112707
CREATED:20260420T200755Z
LAST-MODIFIED:20260420T200755Z
UID:10008269-1780765200-1780772400@ilovebabylon.com
SUMMARY:Saturday Soirée
DESCRIPTION:Step into the weekend at Saturday Soirée at Lionz Den in Lindenhurst! Enjoy an exciting happy hour from 5–7 PM featuring great drink specials and delicious bites. Stick around as the night heats up with a DJ spinning starting at 10 PM. Whether you’re out with friends or making new connections\, this is the perfect Saturday night destination for good vibes\, music\, and unforgettable energy.
URL:https://ilovebabylon.com/event/saturday-soiree-7/
CATEGORIES:Entertainment,Food & Drink,Music,Social Events
ATTACH;FMTTYPE=image/jpeg:https://ilovebabylon.com/wp-content/uploads/2026/04/Lionz-Den-Saturday-soiree.jpg
END:VEVENT
BEGIN:VEVENT
DTSTART;TZID=America/New_York:20260612T170000
DTEND;TZID=America/New_York:20260612T190000
DTSTAMP:20260421T112707
CREATED:20260420T200553Z
LAST-MODIFIED:20260420T200553Z
UID:10008260-1781283600-1781290800@ilovebabylon.com
SUMMARY:Friday Roar’n Pour Happy Hour
DESCRIPTION:Kick off your Friday night at Roar’n Pour Happy Hour at Lionz Den in Lindenhurst! Enjoy refreshing drinks and delicious bites from 5–7 PM in a lively atmosphere. Stay for dinner starting at 5 PM\, late-night bites at 10 PM\, and a DJ spinning great music from 10 PM until close. Perfect for anyone looking to unwind\, socialize\, and enjoy great vibes.
URL:https://ilovebabylon.com/event/friday-roarn-pour-happy-hour-8/
CATEGORIES:Entertainment,Food & Drink,Music,Social Events
ATTACH;FMTTYPE=image/jpeg:https://ilovebabylon.com/wp-content/uploads/2026/04/Lionz-Den-Friday-Happy-hour.jpg
END:VEVENT
BEGIN:VEVENT
DTSTART;TZID=America/New_York:20260613T170000
DTEND;TZID=America/New_York:20260613T190000
DTSTAMP:20260421T112707
CREATED:20260420T200757Z
LAST-MODIFIED:20260420T200757Z
UID:10008270-1781370000-1781377200@ilovebabylon.com
SUMMARY:Saturday Soirée
DESCRIPTION:Step into the weekend at Saturday Soirée at Lionz Den in Lindenhurst! Enjoy an exciting happy hour from 5–7 PM featuring great drink specials and delicious bites. Stick around as the night heats up with a DJ spinning starting at 10 PM. Whether you’re out with friends or making new connections\, this is the perfect Saturday night destination for good vibes\, music\, and unforgettable energy.
URL:https://ilovebabylon.com/event/saturday-soiree-8/
CATEGORIES:Entertainment,Food & Drink,Music,Social Events
ATTACH;FMTTYPE=image/jpeg:https://ilovebabylon.com/wp-content/uploads/2026/04/Lionz-Den-Saturday-soiree.jpg
END:VEVENT
BEGIN:VEVENT
DTSTART;TZID=America/New_York:20260619T170000
DTEND;TZID=America/New_York:20260619T190000
DTSTAMP:20260421T112707
CREATED:20260420T200556Z
LAST-MODIFIED:20260420T200556Z
UID:10008261-1781888400-1781895600@ilovebabylon.com
SUMMARY:Friday Roar’n Pour Happy Hour
DESCRIPTION:Kick off your Friday night at Roar’n Pour Happy Hour at Lionz Den in Lindenhurst! Enjoy refreshing drinks and delicious bites from 5–7 PM in a lively atmosphere. Stay for dinner starting at 5 PM\, late-night bites at 10 PM\, and a DJ spinning great music from 10 PM until close. Perfect for anyone looking to unwind\, socialize\, and enjoy great vibes.
URL:https://ilovebabylon.com/event/friday-roarn-pour-happy-hour-9/
CATEGORIES:Entertainment,Food & Drink,Music,Social Events
ATTACH;FMTTYPE=image/jpeg:https://ilovebabylon.com/wp-content/uploads/2026/04/Lionz-Den-Friday-Happy-hour.jpg
END:VEVENT
BEGIN:VEVENT
DTSTART;TZID=America/New_York:20260620T170000
DTEND;TZID=America/New_York:20260620T190000
DTSTAMP:20260421T112707
CREATED:20260420T200800Z
LAST-MODIFIED:20260420T200800Z
UID:10008271-1781974800-1781982000@ilovebabylon.com
SUMMARY:Saturday Soirée
DESCRIPTION:Step into the weekend at Saturday Soirée at Lionz Den in Lindenhurst! Enjoy an exciting happy hour from 5–7 PM featuring great drink specials and delicious bites. Stick around as the night heats up with a DJ spinning starting at 10 PM. Whether you’re out with friends or making new connections\, this is the perfect Saturday night destination for good vibes\, music\, and unforgettable energy.
URL:https://ilovebabylon.com/event/saturday-soiree-9/
CATEGORIES:Entertainment,Food & Drink,Music,Social Events
ATTACH;FMTTYPE=image/jpeg:https://ilovebabylon.com/wp-content/uploads/2026/04/Lionz-Den-Saturday-soiree.jpg
END:VEVENT
BEGIN:VEVENT
DTSTART;TZID=America/New_York:20260626T170000
DTEND;TZID=America/New_York:20260626T190000
DTSTAMP:20260421T112707
CREATED:20260420T200559Z
LAST-MODIFIED:20260420T200559Z
UID:10008262-1782493200-1782500400@ilovebabylon.com
SUMMARY:Friday Roar’n Pour Happy Hour
DESCRIPTION:Kick off your Friday night at Roar’n Pour Happy Hour at Lionz Den in Lindenhurst! Enjoy refreshing drinks and delicious bites from 5–7 PM in a lively atmosphere. Stay for dinner starting at 5 PM\, late-night bites at 10 PM\, and a DJ spinning great music from 10 PM until close. Perfect for anyone looking to unwind\, socialize\, and enjoy great vibes.
URL:https://ilovebabylon.com/event/friday-roarn-pour-happy-hour-10/
CATEGORIES:Entertainment,Food & Drink,Music,Social Events
ATTACH;FMTTYPE=image/jpeg:https://ilovebabylon.com/wp-content/uploads/2026/04/Lionz-Den-Friday-Happy-hour.jpg
END:VEVENT
BEGIN:VEVENT
DTSTART;TZID=America/New_York:20260627T000000
DTEND;TZID=America/New_York:20260627T000000
DTSTAMP:20260421T112707
CREATED:20260420T191635Z
LAST-MODIFIED:20260420T192743Z
UID:10008248-1782518400-1782518400@ilovebabylon.com
SUMMARY:Babylon’s 3rd Annual Roper Romp
DESCRIPTION:Get ready for a fabulous time at Babylon’s 3rd Annual Roper Romp! This lively and fun-filled event invites attendees to celebrate in style\, inspired by the iconic Mrs. Roper look. Whether you’re dressing up or just coming to enjoy the atmosphere\, this is a great opportunity to connect with the community\, have fun\, and make lasting memories. Mark your calendar and stay tuned for more details as the date approaches!
URL:https://ilovebabylon.com/event/babylons-3rd-annual-roper-romp/
CATEGORIES:Dancing,Festivals & Fairs,Food & Drink,Wine & Spirits
ATTACH;FMTTYPE=image/jpeg:https://ilovebabylon.com/wp-content/uploads/2026/04/2026-04-20-13.38.40-scaled-QpseGN.jpg
END:VEVENT
BEGIN:VEVENT
DTSTART;TZID=America/New_York:20260627T170000
DTEND;TZID=America/New_York:20260627T190000
DTSTAMP:20260421T112707
CREATED:20260420T200803Z
LAST-MODIFIED:20260420T200803Z
UID:10008272-1782579600-1782586800@ilovebabylon.com
SUMMARY:Saturday Soirée
DESCRIPTION:Step into the weekend at Saturday Soirée at Lionz Den in Lindenhurst! Enjoy an exciting happy hour from 5–7 PM featuring great drink specials and delicious bites. Stick around as the night heats up with a DJ spinning starting at 10 PM. Whether you’re out with friends or making new connections\, this is the perfect Saturday night destination for good vibes\, music\, and unforgettable energy.
URL:https://ilovebabylon.com/event/saturday-soiree-10/
CATEGORIES:Entertainment,Food & Drink,Music,Social Events
ATTACH;FMTTYPE=image/jpeg:https://ilovebabylon.com/wp-content/uploads/2026/04/Lionz-Den-Saturday-soiree.jpg
END:VEVENT
BEGIN:VEVENT
DTSTART;TZID=America/New_York:20260718T000000
DTEND;TZID=America/New_York:20260718T000000
DTSTAMP:20260421T112707
CREATED:20260420T191210Z
LAST-MODIFIED:20260420T191210Z
UID:10008231-1784332800-1784332800@ilovebabylon.com
SUMMARY:Long Island Family Reunion BBQ
DESCRIPTION:Bring your family and friends out for an unforgettable day at the Long Island Family Reunion BBQ! Enjoy a lively atmosphere filled with delicious food\, live music from Long Island’s finest DJs\, and exciting entertainment including a live band\, line dancers\, Chicago steppers\, and motorcycle clubs. This community-centered event is perfect for all ages\, offering great vibes\, networking opportunities\, and fun in the sun. Vendors are also welcome to join and showcase their products while spaces last!
URL:https://ilovebabylon.com/event/long-island-family-reunion-bbq/
LOCATION:Herman Griem Park\, Herman Griem Park
CATEGORIES:Community,Entertainment,Food & Drink,Music,Social Events
ATTACH;FMTTYPE=image/jpeg:https://ilovebabylon.com/wp-content/uploads/2026/04/2026-04-14-07.49.20.jpg
END:VEVENT
END:VCALENDAR