BEGIN:VCALENDAR
VERSION:2.0
PRODID:-//I Love Babylon, NY - ECPv6.15.20//NONSGML v1.0//EN
CALSCALE:GREGORIAN
METHOD:PUBLISH
X-ORIGINAL-URL:https://ilovebabylon.com
X-WR-CALDESC:Events for I Love Babylon, NY
REFRESH-INTERVAL;VALUE=DURATION:PT1H
X-Robots-Tag:noindex
X-PUBLISHED-TTL:PT1H
BEGIN:VTIMEZONE
TZID:America/New_York
BEGIN:DAYLIGHT
TZOFFSETFROM:-0500
TZOFFSETTO:-0400
TZNAME:EDT
DTSTART:20250309T070000
END:DAYLIGHT
BEGIN:STANDARD
TZOFFSETFROM:-0400
TZOFFSETTO:-0500
TZNAME:EST
DTSTART:20251102T060000
END:STANDARD
BEGIN:DAYLIGHT
TZOFFSETFROM:-0500
TZOFFSETTO:-0400
TZNAME:EDT
DTSTART:20260308T070000
END:DAYLIGHT
BEGIN:STANDARD
TZOFFSETFROM:-0400
TZOFFSETTO:-0500
TZNAME:EST
DTSTART:20261101T060000
END:STANDARD
BEGIN:DAYLIGHT
TZOFFSETFROM:-0500
TZOFFSETTO:-0400
TZNAME:EDT
DTSTART:20270314T070000
END:DAYLIGHT
BEGIN:STANDARD
TZOFFSETFROM:-0400
TZOFFSETTO:-0500
TZNAME:EST
DTSTART:20271107T060000
END:STANDARD
END:VTIMEZONE
BEGIN:VEVENT
DTSTART;TZID=America/New_York:20260515T180000
DTEND;TZID=America/New_York:20260515T210000
DTSTAMP:20260420T233755
CREATED:20260420T192116Z
LAST-MODIFIED:20260420T192116Z
UID:10008250-1778868000-1778878800@ilovebabylon.com
SUMMARY:Women’s Symposium 2026
DESCRIPTION:Join The Lions Club of North Babylon for the 8th Annual Women’s Symposium\, an empowering evening dedicated to health\, wellness\, and fitness. Enjoy wine and cheese while hearing from a lineup of inspiring speakers\, including experts in fitness\, holistic healing\, and emergency services. This engaging event offers valuable insights\, meaningful conversations\, and a welcoming atmosphere for attendees looking to connect and learn. Don’t miss this special night featuring raffles\, community spirit\, and opportunities to support a great cause.
URL:https://ilovebabylon.com/event/womens-symposium-2026/
CATEGORIES:Fitness,Food & Drink,Health and Wellness,Health Classes
ATTACH;FMTTYPE=image/jpeg:https://ilovebabylon.com/wp-content/uploads/2026/04/event-2026-april-1.jpg
END:VEVENT
END:VCALENDAR