BEGIN:VCALENDAR
VERSION:2.0
PRODID:-//I Love Babylon, NY - ECPv6.15.20//NONSGML v1.0//EN
CALSCALE:GREGORIAN
METHOD:PUBLISH
X-ORIGINAL-URL:https://ilovebabylon.com
X-WR-CALDESC:Events for I Love Babylon, NY
REFRESH-INTERVAL;VALUE=DURATION:PT1H
X-Robots-Tag:noindex
X-PUBLISHED-TTL:PT1H
BEGIN:VTIMEZONE
TZID:America/New_York
BEGIN:DAYLIGHT
TZOFFSETFROM:-0500
TZOFFSETTO:-0400
TZNAME:EDT
DTSTART:20240310T070000
END:DAYLIGHT
BEGIN:STANDARD
TZOFFSETFROM:-0400
TZOFFSETTO:-0500
TZNAME:EST
DTSTART:20241103T060000
END:STANDARD
BEGIN:DAYLIGHT
TZOFFSETFROM:-0500
TZOFFSETTO:-0400
TZNAME:EDT
DTSTART:20250309T070000
END:DAYLIGHT
BEGIN:STANDARD
TZOFFSETFROM:-0400
TZOFFSETTO:-0500
TZNAME:EST
DTSTART:20251102T060000
END:STANDARD
BEGIN:DAYLIGHT
TZOFFSETFROM:-0500
TZOFFSETTO:-0400
TZNAME:EDT
DTSTART:20260308T070000
END:DAYLIGHT
BEGIN:STANDARD
TZOFFSETFROM:-0400
TZOFFSETTO:-0500
TZNAME:EST
DTSTART:20261101T060000
END:STANDARD
END:VTIMEZONE
BEGIN:VEVENT
DTSTART;TZID=America/New_York:20251203T180000
DTEND;TZID=America/New_York:20251203T210000
DTSTAMP:20260424T115531
CREATED:20251129T185709Z
LAST-MODIFIED:20260302T140215Z
UID:10007048-1764784800-1764795600@ilovebabylon.com
SUMMARY:Messy Church - Christmas Around the World
DESCRIPTION:Join us as our messy church family celebrates the Birth of Jesus. We will focus on Christmas Traditions around the world\, do crafts\, play games\, enjoy a meal together\, and worship. This is a multigenerational event; bring the whole family. This is a free event\, but a free-will offering will be taken to help with the cost.
URL:https://ilovebabylon.com/event/messy-church-christmas-around-the-world/
LOCATION:21 James St\, Babylon\, NY\, United States\, New York 11702\, 21 James St\, Babylon\, NY\, United States\, New York 11702
CATEGORIES:Arts and Crafts,Christmas,Food & Drink,Holiday,Party
END:VEVENT
BEGIN:VEVENT
DTSTART;TZID=America/New_York:20251203T193000
DTEND;TZID=America/New_York:20251203T223000
DTSTAMP:20260424T115531
CREATED:20251129T185941Z
LAST-MODIFIED:20251129T185941Z
UID:10007051-1764790200-1764801000@ilovebabylon.com
SUMMARY:Every Heart Prepare - A Series of Special Services for Advent  - Evergreen
DESCRIPTION:Advent is the church’s season of preparation for Christmas\, for the coming of the Lord. This advent season\, as part of our preparation\, we will reflect upon three common Christmas decorations and how they help us see Christ and prepare his coming: evergreen\, lights and the crèche. Then on Christmas Eve we will focus on the decorated presents which point us to the greatest gift of all Jesus Christ.
URL:https://ilovebabylon.com/event/every-heart-prepare-a-series-of-special-services-for-advent-evergreen/
LOCATION:147 Park Ave\, Amityville\, NY\, 147 Park Ave\, Amityville\, NY
CATEGORIES:Christmas,Holiday,Spiritual
END:VEVENT
END:VCALENDAR