BEGIN:VCALENDAR
VERSION:2.0
PRODID:-//I Love Babylon, NY - ECPv6.15.20//NONSGML v1.0//EN
CALSCALE:GREGORIAN
METHOD:PUBLISH
X-ORIGINAL-URL:https://ilovebabylon.com
X-WR-CALDESC:Events for I Love Babylon, NY
REFRESH-INTERVAL;VALUE=DURATION:PT1H
X-Robots-Tag:noindex
X-PUBLISHED-TTL:PT1H
BEGIN:VTIMEZONE
TZID:America/New_York
BEGIN:DAYLIGHT
TZOFFSETFROM:-0500
TZOFFSETTO:-0400
TZNAME:EDT
DTSTART:20240310T070000
END:DAYLIGHT
BEGIN:STANDARD
TZOFFSETFROM:-0400
TZOFFSETTO:-0500
TZNAME:EST
DTSTART:20241103T060000
END:STANDARD
BEGIN:DAYLIGHT
TZOFFSETFROM:-0500
TZOFFSETTO:-0400
TZNAME:EDT
DTSTART:20250309T070000
END:DAYLIGHT
BEGIN:STANDARD
TZOFFSETFROM:-0400
TZOFFSETTO:-0500
TZNAME:EST
DTSTART:20251102T060000
END:STANDARD
BEGIN:DAYLIGHT
TZOFFSETFROM:-0500
TZOFFSETTO:-0400
TZNAME:EDT
DTSTART:20260308T070000
END:DAYLIGHT
BEGIN:STANDARD
TZOFFSETFROM:-0400
TZOFFSETTO:-0500
TZNAME:EST
DTSTART:20261101T060000
END:STANDARD
END:VTIMEZONE
BEGIN:VEVENT
DTSTART;TZID=America/New_York:20251207T130000
DTEND;TZID=America/New_York:20251207T170000
DTSTAMP:20260424T114658
CREATED:20251205T125911Z
LAST-MODIFIED:20251205T125911Z
UID:10007096-1765112400-1765126800@ilovebabylon.com
SUMMARY:Have your Dog MEET SANTA at Maximum Canine in Deer Park!
DESCRIPTION:Santa is coming to Maximum Canine and your pups are on the nice list!Join us on Sunday\, December 7th from 1PM–5PM at 1011 Grand Blvd in Deer Park for our Meet Santa holiday event — only $10 per pet. \nHere’s what’s waiting for you:• A festive holiday photo with Santa (printed to take home)• An Anita’s Pure Nutrition tasting bar • 10% off in-store purchases (excluding training)• A free raffle entry just for attending \nSpots are limited — please book one time slot per dog you’re bringing.Let’s kick off the season the Maximum Canine way! 🎅🐾
URL:https://ilovebabylon.com/event/have-your-dog-meet-santa-at-maximum-canine-in-deer-park/
LOCATION:1011 Grand Blvd\, 11729\, 1011 Grand Blvd\, 11729
CATEGORIES:Christmas,Holiday,Live Appearances,Pets
END:VEVENT
BEGIN:VEVENT
DTSTART;TZID=America/New_York:20251207T150000
DTEND;TZID=America/New_York:20251207T170000
DTSTAMP:20260424T114658
CREATED:20251205T125858Z
LAST-MODIFIED:20251205T125858Z
UID:10007099-1765119600-1765126800@ilovebabylon.com
SUMMARY:Holiday Tree Lighting Wassail Bowl
DESCRIPTION:Wassail is a beverage made from hotmulled cider\, ale\, or wine and spices\, drunktraditionally as an integral part ofwassailing\, an ancient English Yuletidedrinking ritual and salutation eitherinvolved in door-to-door charity-giving orused to ensure a good harvest thefollowing year.
URL:https://ilovebabylon.com/event/holiday-tree-lighting-wassail-bowl/
LOCATION:Village of Babylon Historical & Preservation Society
CATEGORIES:Christmas,Holiday,Tree Lighting
ORGANIZER;CN="Village of Babylon Historical & Preservation Society":MAILTO:noreply@facebookmail.com
END:VEVENT
END:VCALENDAR