BEGIN:VCALENDAR
VERSION:2.0
PRODID:-//I Love Babylon, NY - ECPv6.15.20//NONSGML v1.0//EN
CALSCALE:GREGORIAN
METHOD:PUBLISH
X-ORIGINAL-URL:https://ilovebabylon.com
X-WR-CALDESC:Events for I Love Babylon, NY
REFRESH-INTERVAL;VALUE=DURATION:PT1H
X-Robots-Tag:noindex
X-PUBLISHED-TTL:PT1H
BEGIN:VTIMEZONE
TZID:America/New_York
BEGIN:DAYLIGHT
TZOFFSETFROM:-0500
TZOFFSETTO:-0400
TZNAME:EDT
DTSTART:20240310T070000
END:DAYLIGHT
BEGIN:STANDARD
TZOFFSETFROM:-0400
TZOFFSETTO:-0500
TZNAME:EST
DTSTART:20241103T060000
END:STANDARD
BEGIN:DAYLIGHT
TZOFFSETFROM:-0500
TZOFFSETTO:-0400
TZNAME:EDT
DTSTART:20250309T070000
END:DAYLIGHT
BEGIN:STANDARD
TZOFFSETFROM:-0400
TZOFFSETTO:-0500
TZNAME:EST
DTSTART:20251102T060000
END:STANDARD
BEGIN:DAYLIGHT
TZOFFSETFROM:-0500
TZOFFSETTO:-0400
TZNAME:EDT
DTSTART:20260308T070000
END:DAYLIGHT
BEGIN:STANDARD
TZOFFSETFROM:-0400
TZOFFSETTO:-0500
TZNAME:EST
DTSTART:20261101T060000
END:STANDARD
END:VTIMEZONE
BEGIN:VEVENT
DTSTART;TZID=America/New_York:20251212T170000
DTEND;TZID=America/New_York:20251212T200000
DTSTAMP:20260424T115450
CREATED:20251212T093341Z
LAST-MODIFIED:20251212T093341Z
UID:10007117-1765558800-1765569600@ilovebabylon.com
SUMMARY:Christmas Party with SANTA 2025
DESCRIPTION:🎅 Reserve your spots by December 1st and each child will receive a plaster Christmas ornament painting kit from Santa!! \nEnjoy a FUN filled Christmas event at Creative Touch. Friday 12/12 from 5pm-8pm\, Saturday 12/13 from 10:30am-1:30pm and Sunday 12/14 from 2pm-5pm This event will include: Plaster piece of their choice to paint | Photo Stations | Food / Drinks | Snacks Party Games with Prizes | Dancing | Christmas Tattoos | Christmas Tunes Storytelling and family photos with Santa | Personalized Letter from Santa \n$30 per child (ages 2-12) Registration is required prior to event @ creativetouchli@yahoo.com 631-601-6681 or private message on Facebook. \nSpacious studio with plenty of free parking!! \n631-601-6681 \nIG – creativetouchli \nhttp://CreativeTouchLI.com
URL:https://ilovebabylon.com/event/christmas-party-with-santa-2025-3/
LOCATION:Creative Touch
CATEGORIES:Christmas,Holiday,Live Appearances,Party
END:VEVENT
BEGIN:VEVENT
DTSTART;TZID=America/New_York:20251212T190000
DTEND;TZID=America/New_York:20251212T210000
DTSTAMP:20260424T115450
CREATED:20251215T002240Z
LAST-MODIFIED:20251215T002240Z
UID:10007261-1765566000-1765573200@ilovebabylon.com
SUMMARY:Santa Meet and Greet
DESCRIPTION:Santa will be at The Scoop checking his list-come make sure you haven’t been naughty! Get a warm treat inside and make your way to the snowy outdoor patio where Santa will be listening to everyone’s wish lists.
URL:https://ilovebabylon.com/event/santa-meet-and-greet/
LOCATION:170 Park Ave\, Amityville\, NY\, 170 Park Ave\, Amityville\, NY
CATEGORIES:Christmas,Holiday
END:VEVENT
END:VCALENDAR