BEGIN:VCALENDAR
VERSION:2.0
PRODID:-//I Love Babylon, NY - ECPv6.15.20//NONSGML v1.0//EN
CALSCALE:GREGORIAN
METHOD:PUBLISH
X-WR-CALNAME:I Love Babylon, NY
X-ORIGINAL-URL:https://ilovebabylon.com
X-WR-CALDESC:Events for I Love Babylon, NY
REFRESH-INTERVAL;VALUE=DURATION:PT1H
X-Robots-Tag:noindex
X-PUBLISHED-TTL:PT1H
BEGIN:VTIMEZONE
TZID:America/New_York
BEGIN:DAYLIGHT
TZOFFSETFROM:-0500
TZOFFSETTO:-0400
TZNAME:EDT
DTSTART:20240310T070000
END:DAYLIGHT
BEGIN:STANDARD
TZOFFSETFROM:-0400
TZOFFSETTO:-0500
TZNAME:EST
DTSTART:20241103T060000
END:STANDARD
BEGIN:DAYLIGHT
TZOFFSETFROM:-0500
TZOFFSETTO:-0400
TZNAME:EDT
DTSTART:20250309T070000
END:DAYLIGHT
BEGIN:STANDARD
TZOFFSETFROM:-0400
TZOFFSETTO:-0500
TZNAME:EST
DTSTART:20251102T060000
END:STANDARD
BEGIN:DAYLIGHT
TZOFFSETFROM:-0500
TZOFFSETTO:-0400
TZNAME:EDT
DTSTART:20260308T070000
END:DAYLIGHT
BEGIN:STANDARD
TZOFFSETFROM:-0400
TZOFFSETTO:-0500
TZNAME:EST
DTSTART:20261101T060000
END:STANDARD
END:VTIMEZONE
BEGIN:VEVENT
DTSTART;TZID=America/New_York:20251205T080000
DTEND;TZID=America/New_York:20251205T100000
DTSTAMP:20260423T100537
CREATED:20251201T232516Z
LAST-MODIFIED:20251201T232516Z
UID:10007213-1764921600-1764928800@ilovebabylon.com
SUMMARY:Business Development Breakfast
DESCRIPTION:Join fellow professionals at the Business Development Breakfast hosted by 516Ads / 631Ads. Held at Dix Hills Diner in Huntington\, NY\, this morning networking event offers attendees the chance to connect\, share ideas\, and grow their business network over breakfast. Open to business owners\, entrepreneurs\, and local professionals. $30 per person. Hope to see you there!
URL:https://ilovebabylon.com/event/business-development-breakfast/
LOCATION:Dix Hills Diner\, 1800 E Jericho Turnpike\, Huntington\, NY\, 11743\, USA
CATEGORIES:Business,Community,Meeting,Networking,Social Events
ATTACH;FMTTYPE=image/jpeg:https://ilovebabylon.com/wp-content/uploads/2025/12/2025-11-27-22.21.23.jpg
END:VEVENT
BEGIN:VEVENT
DTSTART;TZID=America/New_York:20251206T110000
DTEND;TZID=America/New_York:20251206T190000
DTSTAMP:20260423T100537
CREATED:20251205T125808Z
LAST-MODIFIED:20251205T125808Z
UID:10007074-1765018800-1765047600@ilovebabylon.com
SUMMARY:🚨 Company-Wide Hiring Event!
DESCRIPTION:Join our Company-Wide Hiring Event and see what makes working at Uncle Giuseppe’s so special! \nWe’re looking for passionate\, customer-focused individuals to join our growing team of food lovers and retail professionals. \nOpen roles across all store clerk positions. \nWhy Work at Uncle G’s?🍝 Competitive pay & advancement opportunities💸 25% employee discount + 50% off lunch💼 Excellent benefits (medical\, dental\, vision)💰 401(k) with company match🌟 Career growth across all locations📅 When: Saturday December 6\, 11am – 7pm📍 Where: North Babylon Cafe \n🔗 Learn more: uncleg.com/careers
URL:https://ilovebabylon.com/event/%f0%9f%9a%a8-company-wide-hiring-event/
LOCATION:Uncle Giuseppe’s Marketplace\, Uncle Giuseppe's Marketplace
CATEGORIES:Job Fair
END:VEVENT
BEGIN:VEVENT
DTSTART;TZID=America/New_York:20251206T140000
DTEND;TZID=America/New_York:20251206T170000
DTSTAMP:20260423T100537
CREATED:20251205T125736Z
LAST-MODIFIED:20251205T125736Z
UID:10007080-1765029600-1765040400@ilovebabylon.com
SUMMARY:Long Island Black Art Show + Market
DESCRIPTION:Come check out some amazing black artists and shop for unique pieces at our Black Art Show + Market! \nCome join us for a celebration of creativity and culture! This in-person event will feature a diverse range of talented Black artists showcasing their work along with local small businesses. From paintings to sculptures\, jewelry to clothing\, snacks to desserts\, gifts to collectibles\, there’s something for everyone to enjoy.  \nThe event will be held at 120 Broadhollow Rd\, so mark your calendars and don’t miss out on this unique opportunity to support Black artists and find some amazing pieces to add to your collection. See you there!
URL:https://ilovebabylon.com/event/long-island-black-art-show-market/
LOCATION:120 Broadhollow Rd\, Farmingdale\, NY 11735-4825\, United States\, 120 Broadhollow Rd\, Farmingdale\, NY 11735-4825\, United States
CATEGORIES:Small Business Saturday/Season
END:VEVENT
BEGIN:VEVENT
DTSTART;TZID=America/New_York:20251209T190000
DTEND;TZID=America/New_York:20251209T220000
DTSTAMP:20260423T100537
CREATED:20251205T125927Z
LAST-MODIFIED:20251205T125927Z
UID:10007109-1765306800-1765317600@ilovebabylon.com
SUMMARY:Annual Chamber Holiday Party
DESCRIPTION:We’re closing out an amazing year\, and we want to celebrate with you! Join us on December 9th at 7 PM \nfor an unforgettable night of networking\, team celebrations\, and festive fun. \nEnjoy a night of: \nOpen buffet & open bar  \nExciting raffles & gifts  \nLive music from @LatinomixxRadio  \nPlenty of opportunities to connect with fellow members  \nThere are so many ways to get involved become a sponsor\, showcase your business\,  \nor donate a basket to support the community. \nRSVP early to save your spot and make sure your team doesn’t miss out on the fun!
URL:https://ilovebabylon.com/event/annual-chamber-holiday-party/
LOCATION:Constantino Brumidi Lodge\, 2075 Deer Park Ave\, Deer Park\, NY\, 11729\, US
CATEGORIES:Chamber of Commerce,Food & Drink,Holiday Parties,Music,Party,Social Events
END:VEVENT
BEGIN:VEVENT
DTSTART;TZID=America/New_York:20251213T103000
DTEND;TZID=America/New_York:20251213T150000
DTSTAMP:20260423T100538
CREATED:20251212T093343Z
LAST-MODIFIED:20251212T093343Z
UID:10007129-1765621800-1765638000@ilovebabylon.com
SUMMARY:Christmas Market
DESCRIPTION:The Babylon Beautification Society is pleased to host an outdoor Christmas Market\, held from 10:30 am to 3:00 pm on Saturday\, December 13\, 2025\, at the Village Gazebo and Bayman Park (the rain date is Sunday\, December 14). \nThe market will feature over 85 vendors selling fine and unique gifts just in time for the holidays.Snacks\, mulled wine\, hot cocoa\, fine baked goods\, and cheeses will also be available for sale. \n– Santa Claus will be at the Gazebo\, and visitors to the market can take free photos with him.– Holiday music will be played at the Gazebo.– Free face painting is available at the Gazebo.– A free bounce house will be at Bayman Park. \nSponsorships are available. \nVendor applications open on October 8\, 2025. \nVisit our website for more information:https://babylonbeautification.org/christmas-market/
URL:https://ilovebabylon.com/event/christmas-market/
LOCATION:Babylon Village Gazebo\, Babylon\, NY\, US
CATEGORIES:Christmas,Holiday,Live Appearances,Music,Sales & Deals,Shopping
END:VEVENT
BEGIN:VEVENT
DTSTART;TZID=America/New_York:20251223T170000
DTEND;TZID=America/New_York:20251223T200000
DTSTAMP:20260423T100538
CREATED:20251129T184034Z
LAST-MODIFIED:20251129T184034Z
UID:10007176-1766509200-1766520000@ilovebabylon.com
SUMMARY:Holiday Social PJ Pop-up
DESCRIPTION:Event will be Held at : \nVillage Vibes122 West Main Street 2nd Floor\, Babylon\, New York 11702 \nCocoa\, cozy\, and a little Zap!Unwind from the holiday hustle at our Hot Cocoa Bar and permanent jewelry pop up. Grab one last custom gift (for you or your closest bestie) and sip something sweet while we sparkle you up. \nMatchy Bracelets?Tiny Charms? We’ve got you! \nRSVP/BOOK: Comment “COCOA” to hold a time or just pop in! \nWalk-ins are Welcome!
URL:https://ilovebabylon.com/event/holiday-social-pj-pop-up/
LOCATION:Babylon\, Long Island\, Ny\, Babylon\, Long Island\, Ny
CATEGORIES:Holiday,Shopping
END:VEVENT
END:VCALENDAR