BEGIN:VCALENDAR
VERSION:2.0
PRODID:-//I Love Babylon, NY - ECPv6.15.20//NONSGML v1.0//EN
CALSCALE:GREGORIAN
METHOD:PUBLISH
X-ORIGINAL-URL:https://ilovebabylon.com
X-WR-CALDESC:Events for I Love Babylon, NY
REFRESH-INTERVAL;VALUE=DURATION:PT1H
X-Robots-Tag:noindex
X-PUBLISHED-TTL:PT1H
BEGIN:VTIMEZONE
TZID:America/New_York
BEGIN:DAYLIGHT
TZOFFSETFROM:-0500
TZOFFSETTO:-0400
TZNAME:EDT
DTSTART:20240310T070000
END:DAYLIGHT
BEGIN:STANDARD
TZOFFSETFROM:-0400
TZOFFSETTO:-0500
TZNAME:EST
DTSTART:20241103T060000
END:STANDARD
BEGIN:DAYLIGHT
TZOFFSETFROM:-0500
TZOFFSETTO:-0400
TZNAME:EDT
DTSTART:20250309T070000
END:DAYLIGHT
BEGIN:STANDARD
TZOFFSETFROM:-0400
TZOFFSETTO:-0500
TZNAME:EST
DTSTART:20251102T060000
END:STANDARD
BEGIN:DAYLIGHT
TZOFFSETFROM:-0500
TZOFFSETTO:-0400
TZNAME:EDT
DTSTART:20260308T070000
END:DAYLIGHT
BEGIN:STANDARD
TZOFFSETFROM:-0400
TZOFFSETTO:-0500
TZNAME:EST
DTSTART:20261101T060000
END:STANDARD
END:VTIMEZONE
BEGIN:VEVENT
DTSTART;TZID=America/New_York:20251212T060000
DTEND;TZID=America/New_York:20251212T210000
DTSTAMP:20260423T012133
CREATED:20251212T094734Z
LAST-MODIFIED:20251212T094734Z
UID:10007254-1765519200-1765573200@ilovebabylon.com
SUMMARY:GRACELAND'S GATE BAND MY BIRTHDAY BASH! 🎂 @ PINO WINE Bar & Bistro Friday Dec 12th Lindenhurst  NY
DESCRIPTION:HELP CELEBRATEMY BIRTHDAY WAS WE ENTERTAIN YOU ALL WITH THE BEST LIVE MUSIC AND FOOD\,DRINKS AND A GREAT STAFF WHO TREATS YOU LIKE FAMILY.
URL:https://ilovebabylon.com/event/gracelands-gate-band-my-birthday-bash-%f0%9f%8e%82-pino-wine-bar-bistro-friday-dec-12th-lindenhurst-ny/
LOCATION:Pino Wine Bar & Bistro\, 143 N Wellwood Avenue\, Lindenhurst\, NY\, 11757\, US
CATEGORIES:Concert,Live Music
END:VEVENT
BEGIN:VEVENT
DTSTART;TZID=America/New_York:20251212T180000
DTEND;TZID=America/New_York:20251212T210000
DTSTAMP:20260423T012133
CREATED:20251212T093324Z
LAST-MODIFIED:20251212T093324Z
UID:10007118-1765562400-1765573200@ilovebabylon.com
SUMMARY:Suburban Brothers at Belfast Gastropub on Dec. 12th\, 6pm-9pm
DESCRIPTION:Suburban Brothers are back for another Friday Night at the Belfast Gastropub in Lindenhurst.Come join us for an evening of live music\, tasty food\, great service and good times.
URL:https://ilovebabylon.com/event/suburban-brothers-at-belfast-gastropub-on-dec-12th-6pm-9pm/
LOCATION:Online Event\, West Babylon\, NY\, US
CATEGORIES:Concert,Live Music,Music
END:VEVENT
BEGIN:VEVENT
DTSTART;TZID=America/New_York:20251212T200000
DTEND;TZID=America/New_York:20251212T230000
DTSTAMP:20260423T012133
CREATED:20251212T094732Z
LAST-MODIFIED:20251212T094732Z
UID:10007265-1765569600-1765580400@ilovebabylon.com
SUMMARY:Crossing EDEN
DESCRIPTION:Crossing Eden\, a 7 pc Classic Rock Party Band will be performing LIVE this FRIDAY at 8pm !
URL:https://ilovebabylon.com/event/crossing-eden/
LOCATION:168 East Montauk Highway\, Lindenhurst\, NY\, 168 East Montauk Highway\, Lindenhurst\, NY
CATEGORIES:Concert,Live Music,Party
END:VEVENT
END:VCALENDAR