BEGIN:VCALENDAR
VERSION:2.0
PRODID:-//I Love Babylon, NY - ECPv6.15.20//NONSGML v1.0//EN
CALSCALE:GREGORIAN
METHOD:PUBLISH
X-ORIGINAL-URL:https://ilovebabylon.com
X-WR-CALDESC:Events for I Love Babylon, NY
REFRESH-INTERVAL;VALUE=DURATION:PT1H
X-Robots-Tag:noindex
X-PUBLISHED-TTL:PT1H
BEGIN:VTIMEZONE
TZID:America/New_York
BEGIN:DAYLIGHT
TZOFFSETFROM:-0500
TZOFFSETTO:-0400
TZNAME:EDT
DTSTART:20240310T070000
END:DAYLIGHT
BEGIN:STANDARD
TZOFFSETFROM:-0400
TZOFFSETTO:-0500
TZNAME:EST
DTSTART:20241103T060000
END:STANDARD
BEGIN:DAYLIGHT
TZOFFSETFROM:-0500
TZOFFSETTO:-0400
TZNAME:EDT
DTSTART:20250309T070000
END:DAYLIGHT
BEGIN:STANDARD
TZOFFSETFROM:-0400
TZOFFSETTO:-0500
TZNAME:EST
DTSTART:20251102T060000
END:STANDARD
BEGIN:DAYLIGHT
TZOFFSETFROM:-0500
TZOFFSETTO:-0400
TZNAME:EDT
DTSTART:20260308T070000
END:DAYLIGHT
BEGIN:STANDARD
TZOFFSETFROM:-0400
TZOFFSETTO:-0500
TZNAME:EST
DTSTART:20261101T060000
END:STANDARD
END:VTIMEZONE
BEGIN:VEVENT
DTSTART;TZID=America/New_York:20251219T200000
DTEND;TZID=America/New_York:20251219T235900
DTSTAMP:20260423T012134
CREATED:20251129T123947Z
LAST-MODIFIED:20251129T123947Z
UID:10007159-1766174400-1766188740@ilovebabylon.com
SUMMARY:Tasty Biscuits @ Liam’s Landing
DESCRIPTION:Tasty Biscuits returns to Liam’s for our monthly (3rd Friday) gig.Join us for an eclectic assortment of music. \nhttps://www.facebook.com/events/688490697054042/?event_time_id=688490740387371
URL:https://ilovebabylon.com/event/tasty-biscuits-liams-landing/
LOCATION:Liam’s Landing\, 248 S Ketchum Ave\, Amityville\, NY\, 11701\, US
CATEGORIES:Concert,Live Music,Music
END:VEVENT
BEGIN:VEVENT
DTSTART;TZID=America/New_York:20251219T220000
DTEND;TZID=America/New_York:20251220T010000
DTSTAMP:20260423T012134
CREATED:20251129T123942Z
LAST-MODIFIED:20251129T123942Z
UID:10007161-1766181600-1766192400@ilovebabylon.com
SUMMARY:Amber Ferrari Band at The Warehouse\, Amityville
DESCRIPTION:Amber Ferrari 9-pc Band w/ 4-pc Horn Section brings the Music of Janis Joplin\, Stevie Nicks\, Cream\, Jefferson Airplane\, The Doors & More 🎵  \nOur friends Echoes of the Eagles Rock the Music of the Eagles 7:30pm 🎵 \nWANT A TABLE – CLICK ON THE TICKET LINK & GET YOURS SOON‼️ 😃
URL:https://ilovebabylon.com/event/amber-ferrari-band-at-the-warehouse-amityville/
LOCATION:The Warehouse Live Music Pub & Grub\, The Warehouse Live Music Pub & Grub
CATEGORIES:Concert,Live Music,Music
END:VEVENT
END:VCALENDAR