BEGIN:VCALENDAR
VERSION:2.0
PRODID:-//I Love Babylon, NY - ECPv6.15.20//NONSGML v1.0//EN
CALSCALE:GREGORIAN
METHOD:PUBLISH
X-WR-CALNAME:I Love Babylon, NY
X-ORIGINAL-URL:https://ilovebabylon.com
X-WR-CALDESC:Events for I Love Babylon, NY
REFRESH-INTERVAL;VALUE=DURATION:PT1H
X-Robots-Tag:noindex
X-PUBLISHED-TTL:PT1H
BEGIN:VTIMEZONE
TZID:America/New_York
BEGIN:DAYLIGHT
TZOFFSETFROM:-0500
TZOFFSETTO:-0400
TZNAME:EDT
DTSTART:20240310T070000
END:DAYLIGHT
BEGIN:STANDARD
TZOFFSETFROM:-0400
TZOFFSETTO:-0500
TZNAME:EST
DTSTART:20241103T060000
END:STANDARD
BEGIN:DAYLIGHT
TZOFFSETFROM:-0500
TZOFFSETTO:-0400
TZNAME:EDT
DTSTART:20250309T070000
END:DAYLIGHT
BEGIN:STANDARD
TZOFFSETFROM:-0400
TZOFFSETTO:-0500
TZNAME:EST
DTSTART:20251102T060000
END:STANDARD
BEGIN:DAYLIGHT
TZOFFSETFROM:-0500
TZOFFSETTO:-0400
TZNAME:EDT
DTSTART:20260308T070000
END:DAYLIGHT
BEGIN:STANDARD
TZOFFSETFROM:-0400
TZOFFSETTO:-0500
TZNAME:EST
DTSTART:20261101T060000
END:STANDARD
END:VTIMEZONE
BEGIN:VEVENT
DTSTART;TZID=America/New_York:20251205T180000
DTEND;TZID=America/New_York:20251205T180000
DTSTAMP:20260420T064826
CREATED:20251201T231457Z
LAST-MODIFIED:20251201T231457Z
UID:10007203-1764957600-1764957600@ilovebabylon.com
SUMMARY:North Amityville Community Christmas Tree Lighting Ceremony – 10th Year Celebration
DESCRIPTION:Join the North Amityville community for the 10th annual Christmas Tree Lighting Ceremony\, an evening filled with festive activities. Guests can enjoy hot chocolate\, cookies\, and music performed by the Marks of Excellence and Marks of Angel Ensemble\, along with sets by DJ Mike and DJ Tony J. The celebration brings neighbors together for a joyful night of holiday spirit.
URL:https://ilovebabylon.com/event/north-amityville-community-christmas-tree-lighting-ceremony-10th-year-celebration/
LOCATION:Marks of Excellence Parking Lot\, 455 Albany Avenue\, Amityville\, NY\, 11701\, United States
CATEGORIES:Community,Entertainment,Holiday,Music
ATTACH;FMTTYPE=image/jpeg:https://ilovebabylon.com/wp-content/uploads/2025/12/2025-treelightingnorthamityville.jpg
END:VEVENT
BEGIN:VEVENT
DTSTART;TZID=America/New_York:20251205T180000
DTEND;TZID=America/New_York:20251205T210000
DTSTAMP:20260420T064826
CREATED:20251205T125753Z
LAST-MODIFIED:20251205T125753Z
UID:10007060-1764957600-1764968400@ilovebabylon.com
SUMMARY:Better Lovers\, Soul Blind\, Johnny Booth\, HKFY @ AMH
DESCRIPTION:Friday December 5th 2025 \nBetter LoversSoul BlindJohnny BoothHong Kong Fuck You \n@ AMH198 Broadway\, Amityville NY \n$28.50 ADV / $33 DOS6 PMUnder 16 w/ parent / legal guardianPurchase Tickets: https://www.etix.com/ticket/servlet/s/38218770
URL:https://ilovebabylon.com/event/better-lovers-soul-blind-johnny-booth-hkfy-amh/
LOCATION:198 Broadway Amityville\, NY 11701\, 198 Broadway Amityville\, NY 11701
CATEGORIES:Live Music
END:VEVENT
BEGIN:VEVENT
DTSTART;TZID=America/New_York:20251205T183000
DTEND;TZID=America/New_York:20251205T213000
DTSTAMP:20260420T064826
CREATED:20251205T125751Z
LAST-MODIFIED:20251205T125751Z
UID:10007064-1764959400-1764970200@ilovebabylon.com
SUMMARY:SOPHIA ITALIAN BISTRO Presents THE RETRO BROS-Sal & JT
DESCRIPTION:The Retro Bros Sing Tunes Of Many Genres & Years!Phone: (631) 598-1150 For Reservations.
URL:https://ilovebabylon.com/event/sophia-italian-bistro-presents-the-retro-bros-sal-jt/
LOCATION:71 Merrick Rd\, Amityville\, NY 11701 Phone: (631) 598-1150\, 71 Merrick Rd\, Amityville\, NY 11701 Phone: (631) 598-1150
CATEGORIES:Live Music
END:VEVENT
BEGIN:VEVENT
DTSTART;TZID=America/New_York:20251205T190000
DTEND;TZID=America/New_York:20251205T220000
DTSTAMP:20260420T064826
CREATED:20251205T125748Z
LAST-MODIFIED:20251205T125748Z
UID:10007066-1764961200-1764972000@ilovebabylon.com
SUMMARY:Giotopia presents Forever Freestyle at The Warehouse
DESCRIPTION:🎶 Join Us for an Unforgettable Night!  \nGiotopia invites you to Forever Freestyle at The Warehouse! 🎤✨  \n🗓 Date: Friday\, December 5th \n🕡 Doors Open: 6:30 PM \n📍 Venue: The Warehouse  \nGet ready for an electrifying evening filled with the best freestyle hits and an atmosphere you won’t want to miss. Gather your friends and dance the night away to your favorite tracks!  \n🎟 Tickets: Available now at [TheWarehouseLI.com](http://TheWarehouseLI.com). Grab yours before they’re gone!  \nWhether you’re a freestyle fanatic or just in for a fun night out\, this is the place to be. We can’t wait to see you there! 🎉
URL:https://ilovebabylon.com/event/giotopia-presents-forever-freestyle-at-the-warehouse/
LOCATION:The Warehouse Live Music & Events\, The Warehouse Live Music & Events
CATEGORIES:Live Music
END:VEVENT
BEGIN:VEVENT
DTSTART;TZID=America/New_York:20251205T190000
DTEND;TZID=America/New_York:20251205T220000
DTSTAMP:20260420T064826
CREATED:20251205T125829Z
LAST-MODIFIED:20260302T135851Z
UID:10007065-1764961200-1764972000@ilovebabylon.com
SUMMARY:CFA 2025 Fundraiser
DESCRIPTION:CFA 2025 Fundraiser..Laughter\, Fun\, Music….. Lets GO!
URL:https://ilovebabylon.com/event/cfa-2025-fundraiser/
LOCATION:The BISOU Experience\, The BISOU Experience
CATEGORIES:Community,Fundraiser,Music
END:VEVENT
BEGIN:VEVENT
DTSTART;TZID=America/New_York:20251205T194500
DTEND;TZID=America/New_York:20251205T223000
DTSTAMP:20260420T064827
CREATED:20251205T125806Z
LAST-MODIFIED:20251205T125806Z
UID:10007069-1764963900-1764973800@ilovebabylon.com
SUMMARY:🎤 KARAOKE NIGHT Every Friday ✨
DESCRIPTION:It’s your time to shine! 🌟Join us every Friday at 6:45 PM for Karaoke Night at VERN Restaurant & Bar — good vibes\, fresh seafood & great people!🎤 Free entry | 🍹 Happy Hour | 🌊 Waterfront view \nhttps://www.facebook.com/events/1352817173060398/?event_time_id=1352817189727063
URL:https://ilovebabylon.com/event/%f0%9f%8e%a4-karaoke-night-every-friday-%e2%9c%a8/
LOCATION:301 Bergen Ave\, West Babylon\, Nueva York\, Estados Unidos\, 301 Bergen Ave\, West Babylon\, Nueva York\, Estados Unidos
CATEGORIES:Karaoke,Music
END:VEVENT
BEGIN:VEVENT
DTSTART;TZID=America/New_York:20251205T200000
DTEND;TZID=America/New_York:20251205T230000
DTSTAMP:20260420T064827
CREATED:20251205T125746Z
LAST-MODIFIED:20251205T125746Z
UID:10007070-1764964800-1764975600@ilovebabylon.com
SUMMARY:Gotta Wanna at Riptides
DESCRIPTION:Friendsgiving at Riptides! Start your holiday season off with Rock and roll! Join us for a night of classic rock deep cuts!
URL:https://ilovebabylon.com/event/gotta-wanna-at-riptides/
LOCATION:RipTides Cocktails and Grill\, 168 East Montauk Highway\, Lindenhurst\, NY\, 11757\, US
CATEGORIES:Live Music
END:VEVENT
BEGIN:VEVENT
DTSTART;TZID=America/New_York:20251205T200000
DTEND;TZID=America/New_York:20251205T235500
DTSTAMP:20260420T064827
CREATED:20251205T125803Z
LAST-MODIFIED:20251205T125803Z
UID:10007071-1764964800-1764978900@ilovebabylon.com
SUMMARY:Karaoke with DJ Bob - Dec 5
DESCRIPTION:Come on down and sing your favorite songs.Always a good time at the 50 Yardline!!!
URL:https://ilovebabylon.com/event/karaoke-with-dj-bob-dec-5/
LOCATION:50 Yardline Sports Bar\, 371 Little East Neck Rd\, West Babylon\, NY\, 11704\, US
CATEGORIES:Karaoke,Music
END:VEVENT
END:VCALENDAR