BEGIN:VCALENDAR
VERSION:2.0
PRODID:-//I Love Babylon, NY - ECPv6.15.20//NONSGML v1.0//EN
CALSCALE:GREGORIAN
METHOD:PUBLISH
X-ORIGINAL-URL:https://ilovebabylon.com
X-WR-CALDESC:Events for I Love Babylon, NY
REFRESH-INTERVAL;VALUE=DURATION:PT1H
X-Robots-Tag:noindex
X-PUBLISHED-TTL:PT1H
BEGIN:VTIMEZONE
TZID:America/New_York
BEGIN:DAYLIGHT
TZOFFSETFROM:-0500
TZOFFSETTO:-0400
TZNAME:EDT
DTSTART:20240310T070000
END:DAYLIGHT
BEGIN:STANDARD
TZOFFSETFROM:-0400
TZOFFSETTO:-0500
TZNAME:EST
DTSTART:20241103T060000
END:STANDARD
BEGIN:DAYLIGHT
TZOFFSETFROM:-0500
TZOFFSETTO:-0400
TZNAME:EDT
DTSTART:20250309T070000
END:DAYLIGHT
BEGIN:STANDARD
TZOFFSETFROM:-0400
TZOFFSETTO:-0500
TZNAME:EST
DTSTART:20251102T060000
END:STANDARD
BEGIN:DAYLIGHT
TZOFFSETFROM:-0500
TZOFFSETTO:-0400
TZNAME:EDT
DTSTART:20260308T070000
END:DAYLIGHT
BEGIN:STANDARD
TZOFFSETFROM:-0400
TZOFFSETTO:-0500
TZNAME:EST
DTSTART:20261101T060000
END:STANDARD
END:VTIMEZONE
BEGIN:VEVENT
DTSTART;TZID=America/New_York:20251211T180000
DTEND;TZID=America/New_York:20251211T210000
DTSTAMP:20260420T065004
CREATED:20251212T093944Z
LAST-MODIFIED:20251212T093944Z
UID:10007251-1765476000-1765486800@ilovebabylon.com
SUMMARY:The Fenians at Pino
DESCRIPTION:Join us this Thursday at one of our favorite places\, Pino in Lindenhurst. Fun music\, awesome drinks\, amazing food. It’s always a great time…🎶🎶🎶
URL:https://ilovebabylon.com/event/the-fenians-at-pino/
LOCATION:Pino Wine Bar & Bistro\, 143 N Wellwood Avenue\, Lindenhurst\, NY\, 11757\, US
CATEGORIES:Live Music,Music
END:VEVENT
BEGIN:VEVENT
DTSTART;TZID=America/New_York:20251211T190000
DTEND;TZID=America/New_York:20251211T220000
DTSTAMP:20260420T065004
CREATED:20251212T093309Z
LAST-MODIFIED:20251212T093309Z
UID:10007116-1765479600-1765490400@ilovebabylon.com
SUMMARY:🎤 ARK Social Club — Karaoke Night!
DESCRIPTION:🎤 ARK Social Club — Karaoke Night!📍 Island Soul (Newly Reopened!) — Lindenhurst\, NY📅 Thursday\, December 11th⏰ 7:00 PM \nJoin us for an in-person kickback filled with good vibes\, great food\, and even better music! We’re supporting the grand reopening of Island Soul\, a Caribbean restaurant bringing the flavor and energy we love back to Lindenhurst. 🌴✨ \nEnjoy delicious cocktails\, mingle with the ARK family\, and hit the stage for karaoke — whether you sing like a star or just want to have fun\, this night is for US! 🎶🍹 \n🔥 What to Expect: \nKaraoke fun all night \nCaribbean vibes & great company \nA chance to unwind\, laugh\, and connect \nTag a friend and come ready for a good time!RSVP today — we can’t wait to see you there!
URL:https://ilovebabylon.com/event/%f0%9f%8e%a4-ark-social-club-karaoke-night/
LOCATION:105 W Sunrise Hwy\, Lindenhurst\, NY 11757\, 105 W Sunrise Hwy\, Lindenhurst\, NY 11757
CATEGORIES:Karaoke,Music
ORGANIZER;CN="Iyasah Cerna":MAILTO:organizewithiyasah@gmail_com
END:VEVENT
END:VCALENDAR