BEGIN:VCALENDAR
VERSION:2.0
PRODID:-//I Love Babylon, NY - ECPv6.15.20//NONSGML v1.0//EN
CALSCALE:GREGORIAN
METHOD:PUBLISH
X-WR-CALNAME:I Love Babylon, NY
X-ORIGINAL-URL:https://ilovebabylon.com
X-WR-CALDESC:Events for I Love Babylon, NY
REFRESH-INTERVAL;VALUE=DURATION:PT1H
X-Robots-Tag:noindex
X-PUBLISHED-TTL:PT1H
BEGIN:VTIMEZONE
TZID:America/New_York
BEGIN:DAYLIGHT
TZOFFSETFROM:-0500
TZOFFSETTO:-0400
TZNAME:EDT
DTSTART:20250309T070000
END:DAYLIGHT
BEGIN:STANDARD
TZOFFSETFROM:-0400
TZOFFSETTO:-0500
TZNAME:EST
DTSTART:20251102T060000
END:STANDARD
BEGIN:DAYLIGHT
TZOFFSETFROM:-0500
TZOFFSETTO:-0400
TZNAME:EDT
DTSTART:20260308T070000
END:DAYLIGHT
BEGIN:STANDARD
TZOFFSETFROM:-0400
TZOFFSETTO:-0500
TZNAME:EST
DTSTART:20261101T060000
END:STANDARD
BEGIN:DAYLIGHT
TZOFFSETFROM:-0500
TZOFFSETTO:-0400
TZNAME:EDT
DTSTART:20270314T070000
END:DAYLIGHT
BEGIN:STANDARD
TZOFFSETFROM:-0400
TZOFFSETTO:-0500
TZNAME:EST
DTSTART:20271107T060000
END:STANDARD
END:VTIMEZONE
BEGIN:VEVENT
DTSTART;TZID=America/New_York:20260327T183000
DTEND;TZID=America/New_York:20260327T213000
DTSTAMP:20260420T054333
CREATED:20260226T185307Z
LAST-MODIFIED:20260323T123813Z
UID:10007856-1774636200-1774647000@ilovebabylon.com
SUMMARY:Tigers Jaw Tickets
DESCRIPTION:Tigers Jaw bring raw emotion and nostalgic energy with every soaring chorus 🎶 \nA heartfelt set packed with indie rock anthems and singalong moments. \n#TigersJaw #IndieRock #EmoRevival #LiveMusic #ConcertVibes #MusicScene
URL:https://ilovebabylon.com/event/tigers-jaw-tickets/
LOCATION:Amityville Music Hall\, 198 Broadway\, Amityville\, NY\, US
CATEGORIES:Music
END:VEVENT
BEGIN:VEVENT
DTSTART;TZID=America/New_York:20260327T190000
DTEND;TZID=America/New_York:20260328T153000
DTSTAMP:20260420T054334
CREATED:20260226T185316Z
LAST-MODIFIED:20260323T123824Z
UID:10007859-1774638000-1774711800@ilovebabylon.com
SUMMARY:Cultivate a Worship Lifestyle
DESCRIPTION:In John 4:23 Jesus told the Samaritan woman\, “But the hour is coming\, and is now here\, when the true worshipers will worship the Father in spirit and truth\, for the Father is seeking such people to worship him.” He said it’s now and is coming\, this is the typical Kingdom language Jesus used many times in the Gospels. What does this mean? Why does it matter? We tend to apply the word “worship” in the framework of singing worship songs during a Sunday service or perhaps a small home group. While that is part of it\, it is so much more. When He says “worship in spirit and truth”\, Jesus is not simply talking about singing worship songs. It is much deeper\, fuller\, and more powerful. Worship this side of heaven is all we have to worship Him. We should press into understanding worship as Jesus intended. Worship is not only the one thing we have to offer Him now\, but it is the one part of our life in the here and now that we will continue to do throughout all eternity. Shouldn’t we understand it more biblically? Should we ask\, “What does it mean to worship God in Spirit and truth?” We should ask how you actually live a life of worship. While most will say\, “Yes\, I know it is more than singing at a Sunday service\,” worship doesn’t simply transform us individually\, it also has the power to touch others through true worship that impacts our entire life\, if we understand what it is and how to live out from the lifestyle of worship. \nWhat did worship look like in the Old Testament?What do we see in Abraham\, Isaac and Jacob’s stories?How did it change with Moses?How about David? The first we associate music with.How did the early Church worship?What did the authors of the New Testament teach about true worshipIS it different from the Old Testament?What are the practical applications to a worship lifestyle?How does it bring transformation?How can we live in a way that glorifies God AND reveals Him to the world around us\, in an authentic natural way?What does Jesus mean when He says “worship in spirit and truth”?Practical tools that will help you connect more deeply with the Lord through the lifestyle of worship. \nWorship can change everything. It brings transformation to the inner man\, not the singing songs worship\, which is beautiful and can be transformative\, but actually living from a place of worship. Again\, it is the One thing we will forever engage in\, we should understand it from God’s point of view\, not simply the human view or practices. Join us as we explore this central theme of scripture. It will help you grow in wisdom and understanding\, while transforming your inner man. \n__________________________________ \nPhill has pursued a worship lifestyle over more than 40 years\, both in his personal walk with Christ and in service to the Church as a pastor\, worship leader (30 years of leading worship)\, and as an itinerant minister\, teaching and calling people here and abroad to a deeper lifestyle of Spirit and Truth worship. Worship is his deepest passion since he first gave his life to Jesus. This time together will give you a deeper and richer understanding of what it means to live in worship. Worship changes everything! \nWe only have room for 15 students\, once we are filled\, the registration will close. Register early so you can be sure to save your spot. \nCost: $25 for an individual. Bring a friend and both pay $20. Bring 3 or more friends and each pays only $15.
URL:https://ilovebabylon.com/event/cultivate-a-worship-lifestyle/
LOCATION:45 Burch Avenue\, Amityville\, NY\, 45 Burch Avenue\, Amityville\, NY
CATEGORIES:Music
END:VEVENT
BEGIN:VEVENT
DTSTART;TZID=America/New_York:20260327T200000
DTEND;TZID=America/New_York:20260327T223000
DTSTAMP:20260420T054334
CREATED:20260226T185322Z
LAST-MODIFIED:20260323T123835Z
UID:10007861-1774641600-1774650600@ilovebabylon.com
SUMMARY:Music Bingo with Tracy
DESCRIPTION:Music Bingo with Tracy$10 to play four rounds of bingo. Additional cards available for $5Identify the song and/or artist and match to your game card to win.
URL:https://ilovebabylon.com/event/music-bingo-with-tracy-4/
LOCATION:50 Yardline Sports Bar\, 371 Little East Neck Rd\, West Babylon\, NY\, 11704\, US
CATEGORIES:Music
END:VEVENT
END:VCALENDAR