BEGIN:VCALENDAR
VERSION:2.0
PRODID:-//I Love Babylon, NY - ECPv6.15.20//NONSGML v1.0//EN
CALSCALE:GREGORIAN
METHOD:PUBLISH
X-WR-CALNAME:I Love Babylon, NY
X-ORIGINAL-URL:https://ilovebabylon.com
X-WR-CALDESC:Events for I Love Babylon, NY
REFRESH-INTERVAL;VALUE=DURATION:PT1H
X-Robots-Tag:noindex
X-PUBLISHED-TTL:PT1H
BEGIN:VTIMEZONE
TZID:America/New_York
BEGIN:DAYLIGHT
TZOFFSETFROM:-0500
TZOFFSETTO:-0400
TZNAME:EDT
DTSTART:20240310T070000
END:DAYLIGHT
BEGIN:STANDARD
TZOFFSETFROM:-0400
TZOFFSETTO:-0500
TZNAME:EST
DTSTART:20241103T060000
END:STANDARD
BEGIN:DAYLIGHT
TZOFFSETFROM:-0500
TZOFFSETTO:-0400
TZNAME:EDT
DTSTART:20250309T070000
END:DAYLIGHT
BEGIN:STANDARD
TZOFFSETFROM:-0400
TZOFFSETTO:-0500
TZNAME:EST
DTSTART:20251102T060000
END:STANDARD
BEGIN:DAYLIGHT
TZOFFSETFROM:-0500
TZOFFSETTO:-0400
TZNAME:EDT
DTSTART:20260308T070000
END:DAYLIGHT
BEGIN:STANDARD
TZOFFSETFROM:-0400
TZOFFSETTO:-0500
TZNAME:EST
DTSTART:20261101T060000
END:STANDARD
END:VTIMEZONE
BEGIN:VEVENT
DTSTART;TZID=America/New_York:20251129T210000
DTEND;TZID=America/New_York:20251130T020000
DTSTAMP:20260423T100525
CREATED:20251129T170920Z
LAST-MODIFIED:20251129T170920Z
UID:10007029-1764450000-1764468000@ilovebabylon.com
SUMMARY:Music with DJ Los
DESCRIPTION:Saturday night keeps the weekend rolling with more live entertainment at Belfast. Tom Cilmi brings his acoustic set at 6 PM with the perfect soundtrack for dinner\, and when the night settles in\, DJ Los turns it up from 9 PM straight through the late-night crowd. Come for the food\, stay for the music — the whole night is ready for you. 🎤🔥
URL:https://ilovebabylon.com/event/music-with-dj-los-2/
LOCATION:101 North Wellwood Avenue\, Lindenhurst\, NY\, United States\, New York 11757\, 101 North Wellwood Avenue\, Lindenhurst\, NY\, United States\, New York 11757
CATEGORIES:DJ,Music
ORGANIZER;CN="Belfast Gastropub":MAILTO:noreply@facebookmail.com
END:VEVENT
END:VCALENDAR