BEGIN:VCALENDAR
VERSION:2.0
PRODID:-//I Love Babylon, NY - ECPv6.15.20//NONSGML v1.0//EN
CALSCALE:GREGORIAN
METHOD:PUBLISH
X-ORIGINAL-URL:https://ilovebabylon.com
X-WR-CALDESC:Events for I Love Babylon, NY
REFRESH-INTERVAL;VALUE=DURATION:PT1H
X-Robots-Tag:noindex
X-PUBLISHED-TTL:PT1H
BEGIN:VTIMEZONE
TZID:America/New_York
BEGIN:DAYLIGHT
TZOFFSETFROM:-0500
TZOFFSETTO:-0400
TZNAME:EDT
DTSTART:20240310T070000
END:DAYLIGHT
BEGIN:STANDARD
TZOFFSETFROM:-0400
TZOFFSETTO:-0500
TZNAME:EST
DTSTART:20241103T060000
END:STANDARD
BEGIN:DAYLIGHT
TZOFFSETFROM:-0500
TZOFFSETTO:-0400
TZNAME:EDT
DTSTART:20250309T070000
END:DAYLIGHT
BEGIN:STANDARD
TZOFFSETFROM:-0400
TZOFFSETTO:-0500
TZNAME:EST
DTSTART:20251102T060000
END:STANDARD
BEGIN:DAYLIGHT
TZOFFSETFROM:-0500
TZOFFSETTO:-0400
TZNAME:EDT
DTSTART:20260308T070000
END:DAYLIGHT
BEGIN:STANDARD
TZOFFSETFROM:-0400
TZOFFSETTO:-0500
TZNAME:EST
DTSTART:20261101T060000
END:STANDARD
END:VTIMEZONE
BEGIN:VEVENT
DTSTART;TZID=America/New_York:20251206T150000
DTEND;TZID=America/New_York:20251206T180000
DTSTAMP:20260423T100901
CREATED:20251205T125924Z
LAST-MODIFIED:20251205T125924Z
UID:10007081-1765033200-1765044000@ilovebabylon.com
SUMMARY:NEW YORK TOW TRUCKS FAMILIES TOY DRIVE
DESCRIPTION:WE ARE HOSTING OUR 6TH ANNUAL TOY DRIVE THIS YEAR WE WILL HAVE VENDORS\,DJ AND SANTA AND HIS CREWAT LINDENHURST GAZEBO STARTING AT 3PM WE ARE ALSO HAVING A TOUCH A TRUCK IF YOU WOULD LIKE REGISTER PLEASE DM ME OR CONTACT 631-612-1369  \nTRUCKS ROLLING IN THE PARADE WILL MEET AT MASSAPEQUA TRAIN STATION @ 5PM AND PLANNING ON ROLLING BY 6PM \n**SPONORSHIPS ARE AVAILABLE PLEASE DM FOR INFO**
URL:https://ilovebabylon.com/event/new-york-tow-trucks-families-toy-drive/
LOCATION:Lindenhurst Gazebo\, Wellwood Avenue\, Lindenhurst\, NY\, 11757\, US
CATEGORIES:Christmas,Community,DJ,Fundraiser,Holiday,Live Appearances
END:VEVENT
BEGIN:VEVENT
DTSTART;TZID=America/New_York:20251206T180000
DTEND;TZID=America/New_York:20251206T210000
DTSTAMP:20260423T100901
CREATED:20251205T125842Z
LAST-MODIFIED:20251205T125842Z
UID:10007087-1765044000-1765054800@ilovebabylon.com
SUMMARY:Stardust Acoustic at Cebolline’s
DESCRIPTION:Stardust Acoustic will be at Cebollines on 12/06/2025 to help celebrate the 6th anniversary of Cebollines! \n🎉✨ Cebollines Cafe is turning 6! ✨🎉 \nWe’re beyond grateful for your love and support over the years — you’ve made every moment special. ❤️ \nJoin us Dec 5–7 for our 6-Year Anniversary Weekend 🎊🍹 $6 Margaritas🍷 Sangria specials all weekend🔥 Friday\, Dec 5 – Anniversary Night with DJ AJ + $5 shots! \nLet’s celebrate together — 6 years of good food\, great drinks\, and even better memories! 🥂💃 \nReservations are recommended.  \nhttps://www.brisktable.com/book?r=cebollinesgrill
URL:https://ilovebabylon.com/event/stardust-acoustic-at-cebollines/
LOCATION:Cebollines Grill\, 170 E Montauk hwy\, Lindenhurst\, NY\, 11757\, US
CATEGORIES:DJ,Party
END:VEVENT
BEGIN:VEVENT
DTSTART;TZID=America/New_York:20251206T190000
DTEND;TZID=America/New_York:20251206T220000
DTSTAMP:20260423T100901
CREATED:20251205T125922Z
LAST-MODIFIED:20251205T125922Z
UID:10007090-1765047600-1765058400@ilovebabylon.com
SUMMARY:LICMA Dance - Saturday\, Dec 6 - Holiday Party with County Line & DJ Lyndy
DESCRIPTION:Join us for our monthly dance at the Constantino Brumidi Lodge Sons of Italy Hall in Deer Park. \nCome dressed in your Holiday Best for photos around the Christmas Tree! \nLive music by County LineDJ and Dance Instruction provided by DJ Lyndy \nDoors open at 6:30 PM. Band starts at 7:00 PM. \nShow your support for country music and dance by renewing your membership “LICMA 2025” on line at LICMA.ORG or at a dance.
URL:https://ilovebabylon.com/event/licma-dance-saturday-dec-6-holiday-party-with-county-line-dj-lyndy/
LOCATION:Constantino Brumidi Lodge\, 2075 Deer Park Ave\, Deer Park\, NY\, 11729\, US
CATEGORIES:Christmas,DJ,Holiday,Music
END:VEVENT
END:VCALENDAR