BEGIN:VCALENDAR
VERSION:2.0
PRODID:-//I Love Babylon, NY - ECPv6.15.20//NONSGML v1.0//EN
CALSCALE:GREGORIAN
METHOD:PUBLISH
X-WR-CALNAME:I Love Babylon, NY
X-ORIGINAL-URL:https://ilovebabylon.com
X-WR-CALDESC:Events for I Love Babylon, NY
REFRESH-INTERVAL;VALUE=DURATION:PT1H
X-Robots-Tag:noindex
X-PUBLISHED-TTL:PT1H
BEGIN:VTIMEZONE
TZID:America/New_York
BEGIN:DAYLIGHT
TZOFFSETFROM:-0500
TZOFFSETTO:-0400
TZNAME:EDT
DTSTART:20250309T070000
END:DAYLIGHT
BEGIN:STANDARD
TZOFFSETFROM:-0400
TZOFFSETTO:-0500
TZNAME:EST
DTSTART:20251102T060000
END:STANDARD
BEGIN:DAYLIGHT
TZOFFSETFROM:-0500
TZOFFSETTO:-0400
TZNAME:EDT
DTSTART:20260308T070000
END:DAYLIGHT
BEGIN:STANDARD
TZOFFSETFROM:-0400
TZOFFSETTO:-0500
TZNAME:EST
DTSTART:20261101T060000
END:STANDARD
BEGIN:DAYLIGHT
TZOFFSETFROM:-0500
TZOFFSETTO:-0400
TZNAME:EDT
DTSTART:20270314T070000
END:DAYLIGHT
BEGIN:STANDARD
TZOFFSETFROM:-0400
TZOFFSETTO:-0500
TZNAME:EST
DTSTART:20271107T060000
END:STANDARD
END:VTIMEZONE
BEGIN:VEVENT
DTSTART;TZID=America/New_York:20260329T141500
DTEND;TZID=America/New_York:20260329T193000
DTSTAMP:20260420T141234
CREATED:20260226T185330Z
LAST-MODIFIED:20260323T124021Z
UID:10007865-1774793700-1774812600@ilovebabylon.com
SUMMARY:OFF THE RECORD at ROCKIN4RESCUE FUNDRAISER
DESCRIPTION:OFF THE RECORD is one of 5 top bands performing to benefit ROCKIN4RESCUE’S annual BIG event which raises money to support animal rescues on Long Island.The music starts at 2:30 and runs to 7PM.There are fabulous raffles\, 50/50\, R4R logo T-shirts\, dog shirts\, & food and drink available for purchase. A superb lineup of 5 of the top bands on Long Island!$10 admission and ALL proceeds this year go to “For Our Friends Rescue” & “Yorkie 911”.This is a super fun day you should definitely be there!
URL:https://ilovebabylon.com/event/off-the-record-at-rockin4rescue-fundraiser/
LOCATION:The Warehouse Live Music & Events\, The Warehouse Live Music & Events
CATEGORIES:Community,Fundraiser,Music
END:VEVENT
BEGIN:VEVENT
DTSTART;TZID=America/New_York:20260329T143000
DTEND;TZID=America/New_York:20260329T193000
DTSTAMP:20260420T141234
CREATED:20260226T185332Z
LAST-MODIFIED:20260323T124025Z
UID:10007866-1774794600-1774812600@ilovebabylon.com
SUMMARY:ROCKIN4RESCUE 6th ANNUAL BENEFIT CONCERT
DESCRIPTION:Come join us for a fun day of live music\, raffles\, a 50/50\, and more\, to support worthy animal rescues on Long Island. Our two partners and beneficiaries for this event will be For Our Friends Dog Rescue and Yorkie911. \nMark your calendars now!If you hit “going” or “interested” in this event\, you will be notified of all new details\, including bands\, specific raffle prizes\, and more.You do NOT want to miss this FUN event!All proceeds go to help rescue animals on Long Island.
URL:https://ilovebabylon.com/event/rockin4rescue-6th-annual-benefit-concert/
LOCATION:The Warehouse Live Music & Events\, The Warehouse Live Music & Events
CATEGORIES:Featured Events,Music
END:VEVENT
BEGIN:VEVENT
DTSTART;TZID=America/New_York:20260329T143000
DTEND;TZID=America/New_York:20260329T193000
DTSTAMP:20260420T141234
CREATED:20260226T185336Z
LAST-MODIFIED:20260323T124027Z
UID:10007867-1774794600-1774812600@ilovebabylon.com
SUMMARY:SIMPLY STAPLETON Performing at ROCKIN' 4 RESCUE
DESCRIPTION:SIMPLY STAPLETON will be performing at Rockin’ 4 Rescue at The Warehouse in Amityville\, NY (with many other talented acts) on Sunday March 29th\, 2026!Music starts at 2:30pm and goes til 7:30pm!Join us for this incredible event with all donations going to Long Island animal rescues!There will be some fun raffles as well! \n$10 donation at the door.
URL:https://ilovebabylon.com/event/simply-stapleton-performing-at-rockin-4-rescue/
LOCATION:The Warehouse Live Music & Events\, The Warehouse Live Music & Events
CATEGORIES:Music
END:VEVENT
BEGIN:VEVENT
DTSTART;TZID=America/New_York:20260620T160000
DTEND;TZID=America/New_York:20260620T190000
DTSTAMP:20260420T141234
CREATED:20250725T115923Z
LAST-MODIFIED:20260302T135138Z
UID:10005787-1781971200-1781982000@ilovebabylon.com
SUMMARY:Class of 86' 40th Reunion
DESCRIPTION:It’s time to celebrate the Class of 1986! Mark your calendar for Saturday\, June 20\, 2026\, and join your classmates at Dublin Deck from 4 PM to 7 PM for the 40th Reunion. Enjoy a buffet\, open bar\, photo booth\, music\, and loads of fun. Tickets are $100 per person\, payable via Venmo to Debra Brzozinski. Make sure to RSVP by September 15\, 2025\, to secure your spot. Let’s reconnect and make some new memories together!
URL:https://ilovebabylon.com/event/__trashed-80/
CATEGORIES:Community,Music,Social Events
ATTACH;FMTTYPE=image/jpeg:https://ilovebabylon.com/wp-content/uploads/2025/07/2025-07-24-12.35.12.jpg
END:VEVENT
END:VCALENDAR