BEGIN:VCALENDAR
VERSION:2.0
PRODID:-//I Love Babylon, NY - ECPv6.15.20//NONSGML v1.0//EN
CALSCALE:GREGORIAN
METHOD:PUBLISH
X-WR-CALNAME:I Love Babylon, NY
X-ORIGINAL-URL:https://ilovebabylon.com
X-WR-CALDESC:Events for I Love Babylon, NY
REFRESH-INTERVAL;VALUE=DURATION:PT1H
X-Robots-Tag:noindex
X-PUBLISHED-TTL:PT1H
BEGIN:VTIMEZONE
TZID:America/New_York
BEGIN:DAYLIGHT
TZOFFSETFROM:-0500
TZOFFSETTO:-0400
TZNAME:EDT
DTSTART:20240310T070000
END:DAYLIGHT
BEGIN:STANDARD
TZOFFSETFROM:-0400
TZOFFSETTO:-0500
TZNAME:EST
DTSTART:20241103T060000
END:STANDARD
BEGIN:DAYLIGHT
TZOFFSETFROM:-0500
TZOFFSETTO:-0400
TZNAME:EDT
DTSTART:20250309T070000
END:DAYLIGHT
BEGIN:STANDARD
TZOFFSETFROM:-0400
TZOFFSETTO:-0500
TZNAME:EST
DTSTART:20251102T060000
END:STANDARD
BEGIN:DAYLIGHT
TZOFFSETFROM:-0500
TZOFFSETTO:-0400
TZNAME:EDT
DTSTART:20260308T070000
END:DAYLIGHT
BEGIN:STANDARD
TZOFFSETFROM:-0400
TZOFFSETTO:-0500
TZNAME:EST
DTSTART:20261101T060000
END:STANDARD
END:VTIMEZONE
BEGIN:VEVENT
DTSTART;TZID=America/New_York:20251220T183000
DTEND;TZID=America/New_York:20251220T183000
DTSTAMP:20260423T220134
CREATED:20251205T163815Z
LAST-MODIFIED:20251205T163815Z
UID:10007249-1766255400-1766255400@ilovebabylon.com
SUMMARY:Family Christmas Movie Night
DESCRIPTION:Join us for a joyful evening of Christmas fun as we gather to watch “The Star” — the animated retelling of the Nativity story through the eyes of the animals who followed the first Christmas Star! \nThis heartwarming film is filled with laughter\, adventure\, and the true meaning of Christmas — a story of faith\, friendship\, and courage that kids and adults alike will love. \nPopcorn\, hot cocoa\, and Christmas treats will be provided. Feel free to wear pajamas and to bring blankets\, pillows\, comfy chairs\, or your favorite stuffed animals for a cozy family movie night.
URL:https://ilovebabylon.com/event/family-christmas-movie-night-2/
CATEGORIES:Cultural Events,Entertainment,Holiday,Spiritual
ATTACH;FMTTYPE=image/png:https://ilovebabylon.com/wp-content/uploads/2025/12/Christmas-Movie-Night-2026-Melissa-Boyer.png
END:VEVENT
BEGIN:VEVENT
DTSTART;TZID=America/New_York:20251217T193000
DTEND;TZID=America/New_York:20251217T223000
DTSTAMP:20260423T220134
CREATED:20251212T093337Z
LAST-MODIFIED:20251212T093337Z
UID:10007154-1765999800-1766010600@ilovebabylon.com
SUMMARY:Every Heart Prepare - A Series of Special Services for Advent  - Crèche
DESCRIPTION:Advent is the church’s season of preparation for Christmas\, for the coming of the Lord. This advent season\, as part of our preparation\, we will reflect upon three common Christmas decorations and how they help us see Christ and prepare his coming: evergreen\, lights and the crèche. Then on Christmas Eve we will focus on the decorated presents which point us to the greatest gift of all Jesus Christ.
URL:https://ilovebabylon.com/event/every-heart-prepare-a-series-of-special-services-for-advent-creche/
LOCATION:147 Park Ave\, Amityville\, NY\, 147 Park Ave\, Amityville\, NY
CATEGORIES:Christmas,Holiday,Spiritual
END:VEVENT
BEGIN:VEVENT
DTSTART;TZID=America/New_York:20251216T190000
DTEND;TZID=America/New_York:20251216T210000
DTSTAMP:20260423T220134
CREATED:20251212T093247Z
LAST-MODIFIED:20251212T093247Z
UID:10007149-1765911600-1765918800@ilovebabylon.com
SUMMARY:Illuminate Your Soul with Light
DESCRIPTION:Experiencing the Soul Part IV \nIn this 7-part series\, we will harness the innergy of the soul to connect to the divine presence within. This light is available to all who seek it with grace and humility. Those who bask in its radiance are empowered to change the world. Learn how to tap into your own inner light source through the power of meditation. \nPresenters: Andrew Vidich\, PhD \n7-Part Workshop SeriesMissed the last one? No worries – each workshop is designed so you can attend independently. \nDate: Tuesday\, December 16Time: 7 – 9 pm Location: Science of Spirituality Meditation Center79 County Line Road\, Amityville\, NY 11701 \nEvent is free of charge! All are welcome!  \nFor more information contact:Stephanie631-822-7979infotristate@sos.org
URL:https://ilovebabylon.com/event/illuminate-your-soul-with-light-3/
LOCATION:79 County Line Rd\, Amityville\, NY 11701\, 79 County Line Rd\, Amityville\, NY 11701
CATEGORIES:Spiritual
END:VEVENT
BEGIN:VEVENT
DTSTART;TZID=America/New_York:20251213T183000
DTEND;TZID=America/New_York:20251213T210000
DTSTAMP:20260423T220134
CREATED:20251212T093312Z
LAST-MODIFIED:20251212T093312Z
UID:10007135-1765650600-1765659600@ilovebabylon.com
SUMMARY:SOIREE DEVO DE L'EGLISE DU CHRIST DE LONG ISLAND
DESCRIPTION:Devotion NightSaturday\, December 13th\, 2025Eglise du Christ de Long Island(658 Blydenburgh Road\, Hauppauge NY 11788)Join us for a special evening of song\, prayer\, and fellowship!Time : 6 :30 PM -9 :00 Location : Eglise du Christ de Long IslandCome with a heart ready to sing\, pray\, and strengthen our unity in Christ.All are welcome!
URL:https://ilovebabylon.com/event/soiree-devo-de-leglise-du-christ-de-long-island/
LOCATION:Long Island Church of Christ\, Long Island Church of Christ
CATEGORIES:Holiday,Social Events,Spiritual
END:VEVENT
BEGIN:VEVENT
DTSTART;TZID=America/New_York:20251210T193000
DTEND;TZID=America/New_York:20251210T223000
DTSTAMP:20260423T220134
CREATED:20251129T185936Z
LAST-MODIFIED:20251129T185936Z
UID:10007113-1765395000-1765405800@ilovebabylon.com
SUMMARY:Every Heart Prepare - A Series of Special Services for Advent  - Lights
DESCRIPTION:Advent is the church’s season of preparation for Christmas\, for the coming of the Lord. This advent season\, as part of our preparation\, we will reflect upon three common Christmas decorations and how they help us see Christ and prepare his coming: evergreen\, lights and the crèche. Then on Christmas Eve we will focus on the decorated presents which point us to the greatest gift of all Jesus Christ.
URL:https://ilovebabylon.com/event/every-heart-prepare-a-series-of-special-services-for-advent-lights/
LOCATION:147 Park Ave\, Amityville\, NY\, 147 Park Ave\, Amityville\, NY
CATEGORIES:Christmas,Holiday,Spiritual
END:VEVENT
BEGIN:VEVENT
DTSTART;TZID=America/New_York:20251209T190000
DTEND;TZID=America/New_York:20251209T210000
DTSTAMP:20260423T220134
CREATED:20251205T125728Z
LAST-MODIFIED:20251205T125728Z
UID:10007108-1765306800-1765314000@ilovebabylon.com
SUMMARY:Illuminate Your Soul with Light
DESCRIPTION:Experiencing the Soul Part IV \nIn this 7-part workshop series\, we will harness the innergy of the soul to connect to the divine presence within. This light is available to all who seek it with grace and humility. Those who bask in its radiance are empowered to change the world. Learn how to tap into your own inner light source through the power of meditation. \nPresenters: Andrew Vidich\, PhD \n7-Part Workshop SeriesMissed the last one? No worries – each workshop is designed so you can attend independently. \nDate: Tuesday\, December 9Time: 7 – 9 pm Location: Science of Spirituality Meditation Center79 County Line Road\, Amityville\, NY 11701 \nEvent is free of charge! All are welcome!  \nFor more information contact:Stephanie631-822-7979infotristate@sos.org
URL:https://ilovebabylon.com/event/illuminate-your-soul-with-light-2/
LOCATION:79 County Line Rd\, Amityville\, NY 11701\, 79 County Line Rd\, Amityville\, NY 11701
CATEGORIES:Spiritual
END:VEVENT
BEGIN:VEVENT
DTSTART;TZID=America/New_York:20251208T183000
DTEND;TZID=America/New_York:20251208T183000
DTSTAMP:20260423T220134
CREATED:20251201T231123Z
LAST-MODIFIED:20251201T231123Z
UID:10007195-1765218600-1765218600@ilovebabylon.com
SUMMARY:Cocktails and Clarity: A Night of Music\, Meditation and Messages
DESCRIPTION:Experience an uplifting evening at “Cocktails and Clarity\,” a night of music\, meditation\, and meaningful messages at The Warehouse in Amityville. Enjoy appearances by gifted psychic mediums\, intuitive healers\, numerologists\, and sound healers\, with optional 15-minute personal readings available for an additional fee. This relaxing and spiritually enriching event is perfect for those seeking guidance\, connection\, and a peaceful night out.
URL:https://ilovebabylon.com/event/cocktails-and-clarity-a-night-of-music-meditation-and-messages/
CATEGORIES:Entertainment,Social Events,Spiritual
ATTACH;FMTTYPE=image/jpeg:https://ilovebabylon.com/wp-content/uploads/2025/12/psychic-night-dec.jpg
END:VEVENT
BEGIN:VEVENT
DTSTART;TZID=America/New_York:20251206T170000
DTEND;TZID=America/New_York:20251206T190000
DTSTAMP:20260423T220134
CREATED:20251201T232453Z
LAST-MODIFIED:20251201T232453Z
UID:10007217-1765040400-1765047600@ilovebabylon.com
SUMMARY:St. John’s Lutheran Church Annual Live Indoor Nativity
DESCRIPTION:Join St. John’s Lutheran Church in Lindenhurst for their Annual Live Indoor Nativity. Celebrate the Christmas story with family and friends through storytelling\, caroling\, a petting zoo\, and holiday refreshments. All are welcome to this festive\, community-focused event. Food pantry donations are greatly appreciated.
URL:https://ilovebabylon.com/event/st-johns-lutheran-church-annual-live-indoor-nativity/
CATEGORIES:Community,Cultural Events,Entertainment,Holiday,Social Events,Spiritual
ATTACH;FMTTYPE=image/jpeg:https://ilovebabylon.com/wp-content/uploads/2025/12/2025-11-27-22.24.47.jpg
END:VEVENT
BEGIN:VEVENT
DTSTART;TZID=America/New_York:20251206T150000
DTEND;TZID=America/New_York:20251206T180000
DTSTAMP:20260423T220135
CREATED:20251205T125732Z
LAST-MODIFIED:20251205T125732Z
UID:10007187-1765033200-1765044000@ilovebabylon.com
SUMMARY:DON’T STOP PRAISING
DESCRIPTION:Praise Your Way Out presents “Don’t Stop Praising” Dedicated to our late Overseer Robert L. Burgess who recently passed away at the age of 98 years old. His unwavering commitment to praise until his last breath is a testament to his remarkable legacy. We honor his memory & express gratitude to God for the gift of his life. Join us for this uplifting special event this year.
URL:https://ilovebabylon.com/event/dont-stop-praising-2/
LOCATION:Grace Community Church\, Grace Community Church
CATEGORIES:Spiritual
END:VEVENT
BEGIN:VEVENT
DTSTART;TZID=America/New_York:20251205T190000
DTEND;TZID=America/New_York:20251206T153000
DTSTAMP:20260423T220135
CREATED:20251205T125734Z
LAST-MODIFIED:20251205T125734Z
UID:10007067-1764961200-1765035000@ilovebabylon.com
SUMMARY:Designed for Presence: Living Intimately with Holy Spirit
DESCRIPTION:Schedule:Friday\, December 5th at 7pmSaturday\, December 6th at 10am – 3:30pm \nWe were designed for the deepest\, most intimate relationship in all creation\, with our Maker; Children indwelled with His Spirit. His presence with us but more fully His presence in us. We see in Genesis 1 and 2 the most remarkable imagery for intimacy with Jesus. Think about it: The Creator and King of the Universe at our creation stooped down close and intimately breathed life into Adam. He came and walked with His children in the cool of the evening. It was in this relationship both Adam and Eve were to share a beautiful life in the Presence of their Maker. In their rebellion intimacy was broken and with it that source of joyful life with Him. Jesus came to restore intimacy\, the deep connection with Him that brings us true life. Our religion\, our religious ways\, even sometimes our traditionscan create a false bridge that is a mere shadow of the relationship He desires for us. We sometimes trade the mundane\, for the sacred. The superficiality of religion for true relationship with Him.We put on our religion\, accepting a counterfeit grace.As a result many who are His\, struggle connecting with God\, internally asking “Where are You\, Lord?” We have made it harder than it needs to be. We will unwrap what He truly desires\, how we can step into a life that is Presence driven.There are simple ways of connection we have each been wired with from the womb that best connect and maintain intimacy with God. It is not in our corporate meetings that is found. It is the sacred space in us\, where we connect and are one with Him. This is where we live a life of Spirit and truth worship\, it is not singing songs. It is in connecting with Him intimately we find true rest. This Weekend Encounter will help you walk in His rest and peace in your daily life.  \nThis Weekend Encounter will help you step into a deeper understanding ofGod’s heart for you as His beloved child\, and into simple love and intimacy.Discover the way to peace in your inner-man\, the freedom to be yourselves\, and true friendship with God. In this place something remarkable\, even miraculous happens; we are transformed by His love and we find rest that overcomes the world. For “He who is in you\, is greater than the world” or anything else that comes your way. \nConsider Psalm 139:14 “I praise you because I am fearfully and wonderfully made; your works are wonderful\, I know that full well” You were created from love\, through love\, and for love. You are the pinnacle of our Father’s creation. You are not small and insignificant\, that is the premier lie of the enemy and our flesh. This lie can only be torn down through intimate\, presence driven relationship with the Father\, Son and Holy Spirit. Meet Him in the garden of your soul\, and live in the power of His presence.  \nWhat we cover: What does the Trinity reveal to us about relationship with God? What is the role Holy Spirit plays in the transformation of your inner-manthat positions you to live in the reality of His kindness and goodness?How does He dismantle strongholds of lies that keep you captive? Howdoes Holy Spirit build strongholds of truth rooted in the Love of the Everlasting Father that brings you true freedom?How can you more fully encounter His love consistently and live in His peace in the midst of a chaotic world?How do we enter into His rest\, and find the power of His peace. Philippians 4:4-8Which of the Ancient Pathways: Nine spiritual temperaments: Which are you hardwired with that connects you bestpersonally with Holy Spirit?Are you a Naturalist? a Contemplative? A traditionalist? A Justice person\, A Service Person? Etc. How do you best connect with Him through your spiritual temperament?How can you take your unique spiritual temperament and better connect with God?What are the Holy Spirit’s love languages?How do His love languages and your spiritual temperament connect to bring you into a fuller life\, rooted in the freedom of His love?What does it mean to live a naturally supernatural life that flows through your unique wiring? How does this understanding empower a life free of striving?How can you build your life with Him and find rest for your soul?How to live the simple life that is His way? \nIf you find yourself battling fear\, anxiety\, aloneness\, unable to fully rest inside and out\, struggling to consistently connect with God\, this is for you. Is it hard for you to dial down your thoughts and emotions? Do you sometimes feel like your heart is getting harder\, more distant from Him? Does the state of the world around you cause you to worry\, feel anxious\, steal hope\, peace\, and rest? This is for you. If you wrestle with feelings of rejection or being misunderstood\, if you often feel like it isn’t safe for you to be yourself\, guarding your heart from being hurt? This is for you. \nThis seminar will give you tools to overcome those inner struggles that keep you from a deeper connection with God and His passionate love for you. The lies we agree with make your inner life more difficult than it should be. Learning how you’re made for intimacy with Him\, some simple practices that will help you draw nearer to Him\, will empower you to rest in the reality; you are a beloved Child of God.
URL:https://ilovebabylon.com/event/designed-for-presence-living-intimately-with-holy-spirit/
LOCATION:45 Burch Avenue\, Amityville\, NY\, 45 Burch Avenue\, Amityville\, NY
CATEGORIES:Spiritual
END:VEVENT
BEGIN:VEVENT
DTSTART;TZID=America/New_York:20251205T183000
DTEND;TZID=America/New_York:20251205T213000
DTSTAMP:20260423T220135
CREATED:20251205T125906Z
LAST-MODIFIED:20251205T125906Z
UID:10007063-1764959400-1764970200@ilovebabylon.com
SUMMARY:Advent Family Night - Christmas Morning through the Decade
DESCRIPTION:Advent Family Night“Christmas Morning Through the Decades”Friday\, December 5\, 20256:30 PMJoin us as we stroll down memory lane with our decorations\, eat breakfast as if it was Christmas morning\, make an angel to hang on your tree and end with some cookies and milk (or hot chocolate). You can even come dressed in Christmas pjs shirts if you want. Sign up in the narthex for a fun filled night. \nTo help us personalize the memories\, lend us some of your Christmas morning pictures\, we will give them back\, we promise. They can be brought to Ginger by November 23rd.
URL:https://ilovebabylon.com/event/advent-family-night-christmas-morning-through-the-decade/
LOCATION:St. Paul’s Lutheran Church Amityville\, NY\, 147 Park Ave\, Amityville\, NY\, 11701\, US
CATEGORIES:Christmas,Holiday,Spiritual
END:VEVENT
BEGIN:VEVENT
DTSTART;TZID=America/New_York:20251203T193000
DTEND;TZID=America/New_York:20251203T223000
DTSTAMP:20260423T220135
CREATED:20251129T185941Z
LAST-MODIFIED:20251129T185941Z
UID:10007051-1764790200-1764801000@ilovebabylon.com
SUMMARY:Every Heart Prepare - A Series of Special Services for Advent  - Evergreen
DESCRIPTION:Advent is the church’s season of preparation for Christmas\, for the coming of the Lord. This advent season\, as part of our preparation\, we will reflect upon three common Christmas decorations and how they help us see Christ and prepare his coming: evergreen\, lights and the crèche. Then on Christmas Eve we will focus on the decorated presents which point us to the greatest gift of all Jesus Christ.
URL:https://ilovebabylon.com/event/every-heart-prepare-a-series-of-special-services-for-advent-evergreen/
LOCATION:147 Park Ave\, Amityville\, NY\, 147 Park Ave\, Amityville\, NY
CATEGORIES:Christmas,Holiday,Spiritual
END:VEVENT
BEGIN:VEVENT
DTSTART;TZID=America/New_York:20251202T190000
DTEND;TZID=America/New_York:20251202T210000
DTSTAMP:20260423T220135
CREATED:20251129T180827Z
LAST-MODIFIED:20251129T180827Z
UID:10007045-1764702000-1764709200@ilovebabylon.com
SUMMARY:Illuminate Your Soul with Light
DESCRIPTION:Experiencing the Soul Part IV \nIn this 7-part workshop series\, we will harness the innergy of the soul to connect to the divine presence within. This light is available to all who seek it with grace and humility. Those who bask in its radiance are empowered to change the world. Learn how to tap into your own inner light source through the power of meditation. \nPresenters: Andrew Vidich\, PhD \n7-Part Workshop SeriesMissed the last one? No worries – each workshop is designed so you can attend independently. \nDate: Tuesday\, December 2Time: 7 – 9 pm Location: Science of Spirituality Meditation Center79 County Line Road\, Amityville\, NY 11701 \nEvent is free of charge! All are welcome!  \nFor more information contact:Stephanie631-822-7979infotristate@sos.org
URL:https://ilovebabylon.com/event/illuminate-your-soul-with-light/
LOCATION:79 County Line Rd\, Amityville\, NY 11701\, 79 County Line Rd\, Amityville\, NY 11701
CATEGORIES:Spiritual
END:VEVENT
END:VCALENDAR