BEGIN:VCALENDAR
VERSION:2.0
PRODID:-//I Love Babylon, NY - ECPv6.15.20//NONSGML v1.0//EN
CALSCALE:GREGORIAN
METHOD:PUBLISH
X-WR-CALNAME:I Love Babylon, NY
X-ORIGINAL-URL:https://ilovebabylon.com
X-WR-CALDESC:Events for I Love Babylon, NY
REFRESH-INTERVAL;VALUE=DURATION:PT1H
X-Robots-Tag:noindex
X-PUBLISHED-TTL:PT1H
BEGIN:VTIMEZONE
TZID:America/New_York
BEGIN:DAYLIGHT
TZOFFSETFROM:-0500
TZOFFSETTO:-0400
TZNAME:EDT
DTSTART:20250309T070000
END:DAYLIGHT
BEGIN:STANDARD
TZOFFSETFROM:-0400
TZOFFSETTO:-0500
TZNAME:EST
DTSTART:20251102T060000
END:STANDARD
BEGIN:DAYLIGHT
TZOFFSETFROM:-0500
TZOFFSETTO:-0400
TZNAME:EDT
DTSTART:20260308T070000
END:DAYLIGHT
BEGIN:STANDARD
TZOFFSETFROM:-0400
TZOFFSETTO:-0500
TZNAME:EST
DTSTART:20261101T060000
END:STANDARD
BEGIN:DAYLIGHT
TZOFFSETFROM:-0500
TZOFFSETTO:-0400
TZNAME:EDT
DTSTART:20270314T070000
END:DAYLIGHT
BEGIN:STANDARD
TZOFFSETFROM:-0400
TZOFFSETTO:-0500
TZNAME:EST
DTSTART:20271107T060000
END:STANDARD
END:VTIMEZONE
BEGIN:VEVENT
DTSTART;TZID=America/New_York:20260111T123000
DTEND;TZID=America/New_York:20260111T153000
DTSTAMP:20260419T205736
CREATED:20260109T075501Z
LAST-MODIFIED:20260109T081004Z
UID:10007432-1768134600-1768145400@ilovebabylon.com
SUMMARY:LICA Post-Holiday Luncheon and get-together!
DESCRIPTION:Sunday\, January 11th at 12:30-3:00PMThe Club’s annual post-holiday get together at Chili’s restaurant in Farmingdale.This gathering will replace our January club meeting and we’ll hold our board elections at this time. Folks who aren’t coming\, please mail (and email) your ballot to us. See you on Sunday!
URL:https://ilovebabylon.com/event/lica-post-holiday-luncheon-and-get-together/
LOCATION:901 Route 110\, Farmingdale\, Long Island NY\, 901 Route 110\, Farmingdale\, Long Island NY
END:VEVENT
BEGIN:VEVENT
DTSTART;TZID=America/New_York:20260111T150000
DTEND;TZID=America/New_York:20260111T170000
DTSTAMP:20260419T205736
CREATED:20251231T103145Z
LAST-MODIFIED:20260109T081008Z
UID:10007350-1768143600-1768150800@ilovebabylon.com
SUMMARY:Mediumship Gallery with Shane Nicholetti
DESCRIPTION:Join renowned psychic medium Shane Nicholetti for a gallery style Mediumship Demonstration with Messages from your loved ones in Spirit! This special evening will be a group gathering of love\, life\, and healing through delivered messages channeled via Mediumship.Mediumship is the ability to channel and communicate with those who have passed on from this physical life into the next. \nWe will start with a live mediumship demonstration with messages from your dearly departed loved ones. I will bring forward as many messages as possible throughout the night and stretch the boundaries and show that there is love and life after death as I display examples of evidential mediumship. \nNot everyone that participates is guaranteed a message from their loved ones. Unfortunately there is only a limited amount of time\, and energy that I will have to bring forth strong evidence of communication with your loved ones in Spirit. \nAdmission: $40
URL:https://ilovebabylon.com/event/mediumship-gallery-with-shane-nicholetti/
LOCATION:180 Great East Neck Rd\, West Babylon\, NY\, United States\, New York 11704\, 180 Great East Neck Rd\, West Babylon\, NY\, United States\, New York 11704
END:VEVENT
BEGIN:VEVENT
DTSTART;TZID=America/New_York:20260111T150000
DTEND;TZID=America/New_York:20260111T170000
DTSTAMP:20260419T205736
CREATED:20260104T144130Z
LAST-MODIFIED:20260109T081010Z
UID:10007420-1768143600-1768150800@ilovebabylon.com
SUMMARY:New Year Mini Retreat with Jamie & Laura Muller
DESCRIPTION:If you’re craving a gentler way to step into the new year\, this is your invitation 🤍 \nJoin us for a soul-nourishing afternoon to release what you’re carrying and reconnect with yourself — mind\, body\, and energy. \n✨ Yoga & mindfulness✨ Sound bowl healing✨ Reiki✨ Aromatherapy \nThink of this as a soft landing into 2026 — a space to exhale the old\, ground your nervous system\, and open to what’s ready to unfold next. \n🗓 Sunday\, January 11th | 3:00–5:00pm📍 The Nesting Place\, Merrick💫 $60 per person🤍 Prenatal safe \nSpots are limited — we’d love to hold space for you ✨
URL:https://ilovebabylon.com/event/new-year-mini-retreat-with-jamie-laura-muller/
LOCATION:The Nesting Place\, 2043 Wellwood Avenue Suite One\, Farmingdale\, NY\, 11735\, US
END:VEVENT
BEGIN:VEVENT
DTSTART;TZID=America/New_York:20260111T193000
DTEND;TZID=America/New_York:20260111T213000
DTSTAMP:20260419T205736
CREATED:20260109T075512Z
LAST-MODIFIED:20260109T081013Z
UID:10007433-1768159800-1768167000@ilovebabylon.com
SUMMARY:Music Bingo with Tracy
DESCRIPTION:Music Bingo with Tracy$10 to play four rounds of bingo. Additional cards available for $5Identify the song and/or artist and match to your game card to win.
URL:https://ilovebabylon.com/event/music-bingo-with-tracy-3/
LOCATION:371 Little East Neck Rd\, West Babylon\, NY\, 371 Little East Neck Rd\, West Babylon\, NY
END:VEVENT
BEGIN:VEVENT
DTSTART;TZID=America/New_York:20260112T130000
DTEND;TZID=America/New_York:20260112T160000
DTSTAMP:20260419T205736
CREATED:20260109T075514Z
LAST-MODIFIED:20260109T081016Z
UID:10007434-1768222800-1768233600@ilovebabylon.com
SUMMARY:Sensorium Winter Series
DESCRIPTION:Are you seeking a program that offers socialization\, flexible options and learning through wonder & fun for your child in the new year? If so\, come and JOIN US! \nIn this program your child will build fine motor skills and independence while learning science\, math\, literature and more.All learning is led by wonder and natural curiosity of the world around us. Our class also offers free play time and is full of limitless learning resources which allows curious minds to navigate their interests while still building skills and knowledge. \nRegistration Now Open for Series 1 & 2.Secure your spot today!
URL:https://ilovebabylon.com/event/sensorium-winter-series/
LOCATION:Lindenhurst\, Lindenhurst\, New York\, Lindenhurst\, NY\, 11757\, US
END:VEVENT
BEGIN:VEVENT
DTSTART;TZID=America/New_York:20260112T180000
DTEND;TZID=America/New_York:20260112T190000
DTSTAMP:20260419T205736
CREATED:20260109T075518Z
LAST-MODIFIED:20260109T081020Z
UID:10007435-1768240800-1768244400@ilovebabylon.com
SUMMARY:Monthly Reiki Healing Circle with Thelma Condra
DESCRIPTION:A calming space to relax\, release\, stress and reconnect with inner peace. We begin with gentle energy clearing and meditation\, then Reiki practitioners offer reiki to those who do not practice before sharing with one another.
URL:https://ilovebabylon.com/event/monthly-reiki-healing-circle-with-thelma-condra/
LOCATION:107 E Main St\, Babylon\, NY\, 107 E Main St\, Babylon\, NY
END:VEVENT
BEGIN:VEVENT
DTSTART;TZID=America/New_York:20260112T190000
DTEND;TZID=America/New_York:20260112T220000
DTSTAMP:20260419T205736
CREATED:20251231T103147Z
LAST-MODIFIED:20260109T081024Z
UID:10007351-1768244400-1768255200@ilovebabylon.com
SUMMARY:Lindenhurst Newcomers Club Inaugural Meeting
DESCRIPTION:Linden Room
URL:https://ilovebabylon.com/event/lindenhurst-newcomers-club-inaugural-meeting/
LOCATION:Lindenhurst Memorial Library\, Lindenhurst\, NY\, United States\, New York\, Lindenhurst Memorial Library\, Lindenhurst\, NY\, United States\, New York
END:VEVENT
BEGIN:VEVENT
DTSTART;TZID=America/New_York:20260113T180000
DTEND;TZID=America/New_York:20260113T200000
DTSTAMP:20260419T205736
CREATED:20251231T103154Z
LAST-MODIFIED:20260109T081026Z
UID:10007352-1768327200-1768334400@ilovebabylon.com
SUMMARY:MYB - Women in Business @ In Motion Physical Therapy
DESCRIPTION:Start the Year Strong: Wellness\, Nutrition & Pilates with Tami Racaniello and Laura Sommer \n🌸 Softer & More HolisticA Fresh Start: Wellness\, Nutrition & Movement to Begin the Year Right \nMindful Beginnings: Nourishing Your Body & Recharging Your Energy \nA Year of You: Wellness\, Self-Care & Movement for Women
URL:https://ilovebabylon.com/event/myb-women-in-business-in-motion-physical-therapy/
LOCATION:In Motion Physical Therapy\, In Motion Physical Therapy
END:VEVENT
BEGIN:VEVENT
DTSTART;TZID=America/New_York:20260113T183000
DTEND;TZID=America/New_York:20260113T213000
DTSTAMP:20260419T205736
CREATED:20251231T103200Z
LAST-MODIFIED:20260109T081028Z
UID:10007353-1768329000-1768339800@ilovebabylon.com
SUMMARY:Let's Learn Calligraphy
DESCRIPTION:Join artist Joseph Socci for an introductory class in Italic Calligraphy. You’ll learn the basics of pen angle\, letter slope\, and letter proportions\, with clear demonstrations throughout. All materials will be provided by the instructor\, just bring your curiosity and creativity!  \nA $5.00 materials fee is due at the time of registration.
URL:https://ilovebabylon.com/event/lets-learn-calligraphy/
LOCATION:50 Deauville Blvd\, Copiague\, NY\, United States\, New York 11726\, 50 Deauville Blvd\, Copiague\, NY\, United States\, New York 11726
END:VEVENT
BEGIN:VEVENT
DTSTART;TZID=America/New_York:20260113T193000
DTEND;TZID=America/New_York:20260113T223000
DTSTAMP:20260419T205736
CREATED:20260109T075532Z
LAST-MODIFIED:20260109T081030Z
UID:10007436-1768332600-1768343400@ilovebabylon.com
SUMMARY:Digimon Regulation Battle Vol 4
DESCRIPTION:$10.00 EntryFull Store Credit Prize Pool + Promo Support7:30 PM Start
URL:https://ilovebabylon.com/event/digimon-regulation-battle-vol-4/
LOCATION:1883-B Deer Park Avenue\, Deer Park\, NY\, United States\, New York 11729\, 1883-B Deer Park Avenue\, Deer Park\, NY\, United States\, New York 11729
END:VEVENT
BEGIN:VEVENT
DTSTART;TZID=America/New_York:20260114T150000
DTEND;TZID=America/New_York:20260114T180000
DTSTAMP:20260419T205736
CREATED:20260109T075533Z
LAST-MODIFIED:20260109T081034Z
UID:10007437-1768402800-1768413600@ilovebabylon.com
SUMMARY:A Voice Scan\, Your Frequencies
DESCRIPTION:Learn how you can create wellness!Free Scans? BodyScan.PureLoveLight.com \nhttps://www.facebook.com/events/1207685414830776/?event_time_id=1207685434830774
URL:https://ilovebabylon.com/event/a-voice-scan-your-frequencies/
LOCATION:Panera Bread Bohemia\, NY\, Panera Bread Bohemia\, NY
END:VEVENT
BEGIN:VEVENT
DTSTART;TZID=America/New_York:20260114T180000
DTEND;TZID=America/New_York:20260114T210000
DTSTAMP:20260419T205736
CREATED:20260109T075539Z
LAST-MODIFIED:20260109T081038Z
UID:10007438-1768413600-1768424400@ilovebabylon.com
SUMMARY:Introduction to Yoga: New Year Series with Jackie Morrison
DESCRIPTION:Begin the new year with a commitment to your own health and well-being. This gentle\, supportive 3-part series introduces the foundations of yoga so you can feel confident\, comfortable\, and safe as you begin your practice.  \nWhat you’ll learn: \nBreathing practices for relaxation Foundational Yoga postures for healthy alignment Mats and props provided to support your practice  \nWhether you’re brand new to yoga or returning after time away\, this series offers a nurturing space to build strength\, ease and awareness.  \nCome on your own or bring a friend- or someone you know who could benefit from greater health\, happiness\, and peace.
URL:https://ilovebabylon.com/event/introduction-to-yoga-new-year-series-with-jackie-morrison/
LOCATION:107 E Main St\, Babylon\, NY\, 107 E Main St\, Babylon\, NY
END:VEVENT
BEGIN:VEVENT
DTSTART;TZID=America/New_York:20260115T170000
DTEND;TZID=America/New_York:20260115T200000
DTSTAMP:20260419T205736
CREATED:20251231T103202Z
LAST-MODIFIED:20260115T184321Z
UID:10007354-1768496400-1768507200@ilovebabylon.com
SUMMARY:Wonder Grand Opening\, Deer Park
DESCRIPTION:Join us at Wonder Deer Park Grand Opening Celebration on Thursday\, January 15th\, at 5 pm \nJoin the fun:✂️4:30 PM: We’ll kick things off with a ribbon-cutting ceremony.✨5 PM: First 100 guests will receive an exclusive Wonder gift!
URL:https://ilovebabylon.com/event/wonder-grand-opening-deer-park/
LOCATION:1605 Deer Park Ave\, Deer Park\, NY 11729\, 1605 Deer Park Ave\, Deer Park\, NY 11729
END:VEVENT
BEGIN:VEVENT
DTSTART;TZID=America/New_York:20260115T170000
DTEND;TZID=America/New_York:20260115T220000
DTSTAMP:20260419T205736
CREATED:20260115T184333Z
LAST-MODIFIED:20260115T184333Z
UID:10007454-1768496400-1768514400@ilovebabylon.com
SUMMARY:Supper Club Thursdays
DESCRIPTION:Step into a night of timeless elegance at Supper Club Thursdays at The James. Every Thursday evening\, our second-floor dining room comes alive with the smooth sounds of live jazz\, creating an intimate\, old-world supper club atmosphere. Whether it’s date night\, a night out with friends\, or a reason to linger a little longer\, Supper Club Thursdays are designed to be savored. \nhttps://www.thejamesli.com/babylon/ \nhttps://www.facebook.com/events/1198708475169638/?event_time_id=1198708498502969
URL:https://ilovebabylon.com/event/supper-club-thursdays/
LOCATION:21 Fire Island Ave\, Babylon\, NY 11702-3501\, United States\, 21 Fire Island Ave\, Babylon\, NY 11702-3501\, United States
END:VEVENT
BEGIN:VEVENT
DTSTART;TZID=America/New_York:20260115T180000
DTEND;TZID=America/New_York:20260115T210000
DTSTAMP:20260419T205736
CREATED:20260109T075544Z
LAST-MODIFIED:20260115T184323Z
UID:10007439-1768500000-1768510800@ilovebabylon.com
SUMMARY:Preschool Fair
DESCRIPTION:Meet local daycare centers\, nurseries\, and preschools and see what fits your family best. All are welcome – no registration necessary!
URL:https://ilovebabylon.com/event/preschool-fair/
LOCATION:211 Route 109\, West Babylon\, NY\, United States\, New York 11704\, 211 Route 109\, West Babylon\, NY\, United States\, New York 11704
END:VEVENT
BEGIN:VEVENT
DTSTART;TZID=America/New_York:20260115T180000
DTEND;TZID=America/New_York:20260115T210000
DTSTAMP:20260419T205736
CREATED:20260109T075546Z
LAST-MODIFIED:20260115T184325Z
UID:10007440-1768500000-1768510800@ilovebabylon.com
SUMMARY:The Fenians at Pino
DESCRIPTION:Join Joe & Barbara (The Fenians) at Pino – great place with a great vibe\, amazing food & awesome drinks. Their motto is ‘come as strangers\, leave as family’ and it’s sooooooo true!Come on down!
URL:https://ilovebabylon.com/event/the-fenians-at-pino-2/
LOCATION:Pino Wine Bar & Bistro\, 143 N Wellwood Avenue\, Lindenhurst\, NY\, 11757\, US
END:VEVENT
BEGIN:VEVENT
DTSTART;TZID=America/New_York:20260115T183000
DTEND;TZID=America/New_York:20260115T213000
DTSTAMP:20260419T205736
CREATED:20251231T103207Z
LAST-MODIFIED:20260302T140044Z
UID:10007355-1768501800-1768512600@ilovebabylon.com
SUMMARY:Wood Sign Painting Workshop at Hurricane Grill & Wings in Lindenhurst
DESCRIPTION:Come join us for a fun night of painting.Price per person $30 -$55 and up depending on wood size or project choice. \nRegister now to paint along step by step with Paint Party LI!Custom decal/stencil included.  \nFood purchase is separate. We ask that you do make a purchase. We will be crafting first then dining.If you’d like to eat before the event please arrive early. \nNo refunds will be given.Projects can be packaged as a TO GO kit.
URL:https://ilovebabylon.com/event/wood-sign-painting-workshop-at-hurricane-grill-wings-in-lindenhurst/
LOCATION:Hurricane Grill & Wings (127 East Montauk Highway\, Lindenhurst\, NY)
CATEGORIES:Arts and Crafts
END:VEVENT
BEGIN:VEVENT
DTSTART;TZID=America/New_York:20260115T183000
DTEND;TZID=America/New_York:20260115T213000
DTSTAMP:20260419T205736
CREATED:20251231T103210Z
LAST-MODIFIED:20260115T184329Z
UID:10007356-1768501800-1768512600@ilovebabylon.com
SUMMARY:A Tribute to Women Who Rock- with Indie Rock Band FREYAH
DESCRIPTION:Diane Lutz is bringing her indie rock band FREYAH to the Warehouse for a night of music honoring Women Who Rock! Come hear Sheryl Crowe\, Pat Benatar\, Blondie\, Paramore\, Stevie Nicks\, Lady Gaga\, Elle King and more\, all performed by Diane Lutz\, Thomas Jordan (TJ!)\, Mike Sorrentino\, Lenny Rocillo and Paul Kosak and for the first time with them\, Gina Bilardi!! Diane will ALSO be performing original music from her Indie Rock project FREYAH!! Tickets and tables reserved in advance at The Warehouse Live Music Venue in Amityville\, NY!
URL:https://ilovebabylon.com/event/a-tribute-to-women-who-rock-with-indie-rock-band-freyah/
LOCATION:The Warehouse Live Music & Events\, The Warehouse Live Music & Events
END:VEVENT
BEGIN:VEVENT
DTSTART;TZID=America/New_York:20260115T183000
DTEND;TZID=America/New_York:20260115T213000
DTSTAMP:20260419T205736
CREATED:20251231T103214Z
LAST-MODIFIED:20260115T184331Z
UID:10007357-1768501800-1768512600@ilovebabylon.com
SUMMARY:A Tribute to Women Who Rock with Freyah at The Warehouse
DESCRIPTION:A Tribute to Women Who Rock with Freyah at The Warehouse \nThursday January 15\, 2026 \nDiane Lutz is bringing her Indie Rock band Freyah to The Warehouse for a night of music honoring Women Who Rock!  \nCome hear Sheryl Crowe\, Pat Benatar\, Blondie\, Paramore\, Stevie Nicks\, Lady Gaga\, Elle King and More!  \nDiane will ALSO be performing original music from her Indie Rock project FREYAH!! \nTickets available at: www.thewarehouseli.com/calendar \nWalk-ins welcome \nDoors 6:30pm
URL:https://ilovebabylon.com/event/a-tribute-to-women-who-rock-with-freyah-at-the-warehouse/
LOCATION:The Warehouse Live Music & Events\, The Warehouse Live Music & Events
END:VEVENT
BEGIN:VEVENT
DTSTART;TZID=America/New_York:20260116T120000
DTEND;TZID=America/New_York:20260118T200000
DTSTAMP:20260419T205736
CREATED:20260109T075559Z
LAST-MODIFIED:20260115T184339Z
UID:10007441-1768564800-1768766400@ilovebabylon.com
SUMMARY:Magic The Gathering - Lorwyn Eclipsed PreRelease Weekend
DESCRIPTION:Lorwyn Eclipsed is Here! \nJoin us January 16th-18th 2026 for our Sealed PreReleases! Please select the Entry from among the choices! \nFriday\, January 16th – 7:30pm* Start\, $40.00 Entry – Sealed Deck Format \nSaturday\, January 17th – 1:00pm* Start\, $40.00 Entry – Sealed Deck Format \nSunday\, January 18th – 1:00pm* Start\, $40.00 Entry** – 2-Headed Giant Sealed Deck Format \n*If you are NOT planning on playing in an event\, please notify staff when you arrive so that you can take your PreRelease Kit\, as a Take Home Prerelease. You will get 2 Play Booster Packs at that time. You will NOT be eligible for any promotions that players receive for playing in the event. \n**2 Player teams are necessary\, totaling $80.00 per team. If you do not have a teammate\, one will randomly be assigned for you. \nSealed Deck Format is where you build a 40 card deck from a PreRelease Kit- a box containing 6 booster packs and a promo card. \n2-Headed Giant Sealed Deck Format is where you and a teammate build two 40 card decks from 2 PreRelease Kits\, combining the pool of all cards in each kit. Games in this format are 2 vs 2\, and teams start with 30 life instead of 20. \nWe will have extra kits while supplies last for take home pre-release events. A Wizards ID is required (If you have a MTG Arena account\, it’s the same!) \nIf your Wizards ID e-mail is different from the one used in this preregistration\, please indicate your Wizards ID email in the additional notes with this preregistration. \nBy Pre-Registering for any of these events you are agreeing to be present no later than 15 minutes prior to the indicated start times for Check-in with RipNShip Gaming Staff. Product will NOT be held for absent players under any circumstances\, and any preregistered player who does not attend the event will have their entries converted into Store Credit for use on a physical product purchase in store at a later date. PreRelease Kits will not be mailed for any reason. A valid Wizards ID is required for play. No single player may participate as two or more players\, additional entries without a valid player to claim them will also be converted to Store Credit for the purchaser as though a participating player was absent. Preregistrations are NOT TRANSFERABLE. If any of the dates are Sold-Out\, this refers to reserved pre-registration entries; there are in-store spots open on a first come\, first serve basis\, in addition to Take Home PreRelease Options. \nParking- We kindly ask that all event attendees respect our neighboring businesses and please do not park in their private parking lots at the risk of having your vehicle towed. Our general parking is located in the rear of the building by utilizing the driveways before the building. In the event that there is no parking available\, we ask that you park in the municipal lot diagonally across the street from our store\, find parking on Deer Park Avenue\, or park in the residential areas or other public parking spaces.
URL:https://ilovebabylon.com/event/magic-the-gathering-lorwyn-eclipsed-prerelease-weekend/
LOCATION:1883-B Deer Park Avenue\, Deer Park\, NY\, United States\, New York 11729\, 1883-B Deer Park Avenue\, Deer Park\, NY\, United States\, New York 11729
END:VEVENT
BEGIN:VEVENT
DTSTART;TZID=America/New_York:20260116T180000
DTEND;TZID=America/New_York:20260116T210000
DTSTAMP:20260419T205736
CREATED:20251231T103217Z
LAST-MODIFIED:20260115T184341Z
UID:10007358-1768586400-1768597200@ilovebabylon.com
SUMMARY:SWA Wrestling's SNOWBRAWL (presented by NYWC)
DESCRIPTION:SWA Wrestling returns on Friday – January 16th\, 2026 to the NYWC Sportatorium in Deer Park\, NY with “SNOWBRAWL”—————————————————————————**– MATCHES –** \n#1.) PRIDE HEAVYWEIGHT CHAMPIONSHIPRing King Camacho (c) w/ Big Oxvs.WINNER OF SNOWBRAWL RUMBLE \n#2.) TAG TEAM GRUDGE MATCHF.A.F.O. (Pancakes & Big Ox)vs.NED & Jon Breaks Bad News \n#3.) ADRENALINE CHAMPIONSHIPSteven Person (c) vs.??? \n#4.) MALLOY’S CAREER MATCHJohnny Malloyvs.Christopher Rone (w/ Big Ox) \n#5.) SNOWBRAWL RUMBLE???\, ???\, ??? \nALSO:Little Monster Binky\, Cora Lein\, and more… \n—————————————————————————NYWC Sportatorium435-13 Brook Ave.Deer Park\, NY 11729DOORS OPEN: 6:00 P.M.BELL TIME: 7:00 P.M—————————————————————————“SNOWBRAWL” Tickets will be available online via EVENTBRITE or at the door of the event the day of show. \nGeneral Admission Tickets – $25.00Front Row Tickets – $30.00
URL:https://ilovebabylon.com/event/swa-wrestlings-snowbrawl-presented-by-nywc/
LOCATION:NYWC Sportatorium\, NYWC Sportatorium
END:VEVENT
BEGIN:VEVENT
DTSTART;TZID=America/New_York:20260116T180000
DTEND;TZID=America/New_York:20260116T210000
DTSTAMP:20260419T205736
CREATED:20260115T184344Z
LAST-MODIFIED:20260115T184344Z
UID:10007455-1768586400-1768597200@ilovebabylon.com
SUMMARY:Suburban Brothers at Belfast Gastropub on Friday\, Jan. 16th\, 6pm-9pm
DESCRIPTION:Bob and Cousin Mikey are back at Belfast Gastropub\, 101 N. Wellwood Ave.\, Lindenhurst NY on Friday night\, Jan. 16th\, 6pm-9pm. Always a good time. Authentic Irish pub. Classic menu. Friendly staff and crowd. Come join us!
URL:https://ilovebabylon.com/event/suburban-brothers-at-belfast-gastropub-on-friday-jan-16th-6pm-9pm/
LOCATION:Belfast Gastropub\, 101 North Wellwood Avenue\, Lindenhurst\, NY\, 11757\, US
END:VEVENT
BEGIN:VEVENT
DTSTART;TZID=America/New_York:20260116T180000
DTEND;TZID=America/New_York:20260116T220000
DTSTAMP:20260419T205736
CREATED:20251231T103219Z
LAST-MODIFIED:20260115T184342Z
UID:10007359-1768586400-1768600800@ilovebabylon.com
SUMMARY:THE DAPLORABULLS DEBUT AT LILY'S
DESCRIPTION:DEBUT GIGS ARE ALWAYS AWESOME!! 2026 is calling! The DAPLORABULLS are pumped for this Debut in the Heart of Babylon @ LILY FLANAGANS PUB! It’s a Happy Hour Dance Party!! Let’s Get Ready to Ruuummbble!! \nwww.facebook.com/ thedaplorabullswww.YouTube.com/@thedaplorabulls#LongIslandsPartyBand #AfterworkDanceParty #InvitetoThedaplorabullsfaithful #Lilyshasgreatfood
URL:https://ilovebabylon.com/event/the-daplorabulls-debut-at-lilys/
LOCATION:Lily’s Babylon\, 345 Deer Park Ave\, Babylon\, NY\, 11702\, US
END:VEVENT
BEGIN:VEVENT
DTSTART;TZID=America/New_York:20260116T183000
DTEND;TZID=America/New_York:20260116T213000
DTSTAMP:20260419T205736
CREATED:20260109T075614Z
LAST-MODIFIED:20260115T184348Z
UID:10007442-1768588200-1768599000@ilovebabylon.com
SUMMARY:BUNCO
DESCRIPTION:$20 no experience necessary Bring $3-$4 in quarters Lots of $ prizes Res & Info:Linda. 516-356-0949See flyer
URL:https://ilovebabylon.com/event/bunco-10/
LOCATION:Deer Park\, Long Island\, New York. USA\, Deer Park\, Long Island\, New York. USA
END:VEVENT
BEGIN:VEVENT
DTSTART;TZID=America/New_York:20260116T183000
DTEND;TZID=America/New_York:20260116T213000
DTSTAMP:20260419T205736
CREATED:20260109T075626Z
LAST-MODIFIED:20260115T184358Z
UID:10007443-1768588200-1768599000@ilovebabylon.com
SUMMARY:BUNCO
DESCRIPTION:$20 per person Bring $3-$4 in quarters No walk-insFor Res & Info:Lind \n516-356-0949
URL:https://ilovebabylon.com/event/bunco-11/
LOCATION:Deer Park\, Long Island\, New York. USA\, Deer Park\, Long Island\, New York. USA
END:VEVENT
BEGIN:VEVENT
DTSTART;TZID=America/New_York:20260116T183000
DTEND;TZID=America/New_York:20260116T213000
DTSTAMP:20260419T205736
CREATED:20260109T075632Z
LAST-MODIFIED:20260115T184402Z
UID:10007444-1768588200-1768599000@ilovebabylon.com
SUMMARY:BUNCO
DESCRIPTION:$20 per person Bring $3-$4 in quarters Money prizesNo walk-insRes & Info: Linda 516-356-0949
URL:https://ilovebabylon.com/event/bunco-12/
LOCATION:Deer Park\, Long Island\, New York. USA\, Deer Park\, Long Island\, New York. USA
END:VEVENT
BEGIN:VEVENT
DTSTART;TZID=America/New_York:20260116T183000
DTEND;TZID=America/New_York:20260116T213000
DTSTAMP:20260419T205736
CREATED:20260109T075637Z
LAST-MODIFIED:20260115T184406Z
UID:10007445-1768588200-1768599000@ilovebabylon.com
SUMMARY:BUNCO
DESCRIPTION:$20 per person Bring $3-$4 in quarters Money prizesNo walk-insRes & Info:Linda 516-356-0949
URL:https://ilovebabylon.com/event/bunco-13/
LOCATION:Deer Park\, Long Island\, New York. USA\, Deer Park\, Long Island\, New York. USA
END:VEVENT
BEGIN:VEVENT
DTSTART;TZID=America/New_York:20260116T183000
DTEND;TZID=America/New_York:20260116T213000
DTSTAMP:20260419T205736
CREATED:20260109T075639Z
LAST-MODIFIED:20260115T184408Z
UID:10007446-1768588200-1768599000@ilovebabylon.com
SUMMARY:BUNCO
DESCRIPTION:$20 per person Bring $3-$4 in quartersMoney prizesNo walk-insRes & Info: Linda 516-356-0949
URL:https://ilovebabylon.com/event/bunco-14/
LOCATION:deer park long island NY\, deer park long island NY
END:VEVENT
BEGIN:VEVENT
DTSTART;TZID=America/New_York:20260116T183000
DTEND;TZID=America/New_York:20260116T213000
DTSTAMP:20260419T205736
CREATED:20260109T075645Z
LAST-MODIFIED:20260115T184412Z
UID:10007447-1768588200-1768599000@ilovebabylon.com
SUMMARY:BUNCO
DESCRIPTION:$20 per person Bring $3-$4 in quarters Money prizesNo walk-insRes & Info: Linda 516-356-0949
URL:https://ilovebabylon.com/event/bunco-15/
LOCATION:deer park long island NY\, deer park long island NY
END:VEVENT
BEGIN:VEVENT
DTSTART;TZID=America/New_York:20260116T183000
DTEND;TZID=America/New_York:20260116T213000
DTSTAMP:20260419T205736
CREATED:20251231T103221Z
LAST-MODIFIED:20260115T184346Z
UID:10007360-1768588200-1768599000@ilovebabylon.com
SUMMARY:BUNCO !!!
DESCRIPTION:$20Please bring $3-$4 in quarters Reservations & info contact \nLinda 516-356-0949See flyer for more details
URL:https://ilovebabylon.com/event/bunco/
LOCATION:Deer Park\, Long Island\, New York. USA\, Deer Park\, Long Island\, New York. USA
END:VEVENT
END:VCALENDAR