BEGIN:VCALENDAR
VERSION:2.0
PRODID:-//I Love Babylon, NY - ECPv6.15.20//NONSGML v1.0//EN
CALSCALE:GREGORIAN
METHOD:PUBLISH
X-WR-CALNAME:I Love Babylon, NY
X-ORIGINAL-URL:https://ilovebabylon.com
X-WR-CALDESC:Events for I Love Babylon, NY
REFRESH-INTERVAL;VALUE=DURATION:PT1H
X-Robots-Tag:noindex
X-PUBLISHED-TTL:PT1H
BEGIN:VTIMEZONE
TZID:America/New_York
BEGIN:DAYLIGHT
TZOFFSETFROM:-0500
TZOFFSETTO:-0400
TZNAME:EDT
DTSTART:20250309T070000
END:DAYLIGHT
BEGIN:STANDARD
TZOFFSETFROM:-0400
TZOFFSETTO:-0500
TZNAME:EST
DTSTART:20251102T060000
END:STANDARD
BEGIN:DAYLIGHT
TZOFFSETFROM:-0500
TZOFFSETTO:-0400
TZNAME:EDT
DTSTART:20260308T070000
END:DAYLIGHT
BEGIN:STANDARD
TZOFFSETFROM:-0400
TZOFFSETTO:-0500
TZNAME:EST
DTSTART:20261101T060000
END:STANDARD
BEGIN:DAYLIGHT
TZOFFSETFROM:-0500
TZOFFSETTO:-0400
TZNAME:EDT
DTSTART:20270314T070000
END:DAYLIGHT
BEGIN:STANDARD
TZOFFSETFROM:-0400
TZOFFSETTO:-0500
TZNAME:EST
DTSTART:20271107T060000
END:STANDARD
END:VTIMEZONE
BEGIN:VEVENT
DTSTART;TZID=America/New_York:20260227T120000
DTEND;TZID=America/New_York:20260227T123000
DTSTAMP:20260420T035545
CREATED:20260217T190250Z
LAST-MODIFIED:20260226T184327Z
UID:10007729-1772193600-1772195400@ilovebabylon.com
SUMMARY:Value Outlets Grand Opening Ribbon Cutting
DESCRIPTION:Farmingdale Chamber of Commerce is pleased to announce that it will hold a Ribbon Cutting ceremony for the grand opening of Value Outlets\, located at 1821 Broadhollow Road\, Farmingdale\, NY at 12 noon on Friday\, February 27\, 2026.  \nValue Outlets is a discount retail store offering a wide variety of everyday essentials and name-brand merchandise at affordable prices. Their inventory includes men’s and women’s clothing\, shoes\, home goods\, kitchen appliances\, electronics\, office supplies\, car accessories\, sporting goods\, and bed & bath items—all in one convenient location. \nFarmingdale Chamber is delighted to welcome Value Outlets to the busy Route 110 corridor and we wish them great success.We invite Farmingdale’s Elected Officials\, Chamber Members\, and all interested Farmingdale residents to join us for the celebration.  \nFor more information regarding Value Outlets\, please call (516) 244-8376.
URL:https://ilovebabylon.com/event/value-outlets-grand-opening-ribbon-cutting/
LOCATION:Value Outlets\, 1821 Broadhollow Road\, Farmingdale\, NY 1173\, Value Outlets\, 1821 Broadhollow Road\, Farmingdale\, NY 1173
END:VEVENT
BEGIN:VEVENT
DTSTART;TZID=America/New_York:20260227T120000
DTEND;TZID=America/New_York:20260305T230000
DTSTAMP:20260420T035546
CREATED:20260226T184330Z
LAST-MODIFIED:20260226T184330Z
UID:10007741-1772193600-1772751600@ilovebabylon.com
SUMMARY:Magic The Gathering - TMNT PreRelease Weekend!
DESCRIPTION:COWABUNGA!!!!! \nMagic’s newest set\, Teenage Mutant Ninja Turtles is Here! \nJoin us February 27th through March 1st 2026 for our Sealed PreReleases! Please select the Entry from among the choices! \nFriday\, February 27th – 7:30pm Start\, $40.00 Entry – Sealed Deck Format \nSaturday\, February 18th – 1:00pm Start\, $40.00 Entry – Sealed Deck Format \nSunday\, March 1st – 4:00pm Start\, $40.00 Entry* – 2-Headed Giant Sealed Deck Format \nIf you are NOT planning on playing in an event\, please see our separate reservation for our At-Home PreRelease option. These purchases are for attending and participating in our Sealed events.  \n*2 Player teams are necessary\, totaling $80.00 per team. If you do not have a teammate\, one will randomly be assigned for you.  \nSealed Deck Format is where you build a 40 card deck from a PreRelease Kit- a box containing 6 booster packs and a promo card. \n2-Headed Giant Sealed Deck Format is where you and a teammate build two 40 card decks from 2 PreRelease Kits\, combining the pool of all cards in each kit. Games in this format are 2 vs 2\, and teams start with 30 life instead of 20.  \nWe will have extra kits while supplies last for take home pre-release events. A Wizards ID is required (If you have a MTG Arena account\, it’s the same!). Reserve a Kit today on our website!Reserve your Pre-Release Kit and 2 Play Boosters ahead of time as an At-Home Pre-Release option! Please note that this will NOT serve as entry into any sealed events on February 27th\, February 28th\, or March 1st 2026.  \nBy reserving your At-Home Pre-Release Kit\, you can come in anytime between February 27th and March 5th to pick up your pre-release kit and 2 Play Boosters. A Wizards account will be required\, however we will have a code you can enter into your Wizards Companion app. \nMiss out on the Prerelease Kit? We will also be offering a Play Booster Special- 8 Play Booster Packs and a random Promo card pull from a prior set for $40.00; this is an instore offer\, and a wizards account will also be required.
URL:https://ilovebabylon.com/event/magic-the-gathering-tmnt-prerelease-weekend/
LOCATION:1883-B Deer Park Avenue\, Deer Park\, NY\, United States\, New York 11729\, 1883-B Deer Park Avenue\, Deer Park\, NY\, United States\, New York 11729
END:VEVENT
BEGIN:VEVENT
DTSTART;TZID=America/New_York:20260227T140000
DTEND;TZID=America/New_York:20260227T180000
DTSTAMP:20260420T035546
CREATED:20260226T184333Z
LAST-MODIFIED:20260226T184333Z
UID:10007742-1772200800-1772215200@ilovebabylon.com
SUMMARY:Pokemon Day 2026
DESCRIPTION:Happy Birthday Pikachu! \nPikachu and Pokemon turn the big 3-0 this year\, marking Pokemon’s 30th Anniversary! \nRipNShip Gaming is hosting a special birthday celebration! Come down Friday\, February 27th 2026 between 2pm and 6pm! \nWe’ll have tons of giveaways\, activities\, and we’ll have two pokemon movies playing on our TVs! \nA Pokemon Trainer ID is necessary for any giveaways\, including the limited Bulbasaur promo card! \nTo get this card or any other giveaway\, you’ll need to have your Trainer ID ready\, and participate in one of our activities- coloring pages\, trivia\, pack battle*\, Pokemon GO\, Pokemon TCG Pocket\, and more!  \nThis event is ideal for younger children\, and we’ll have stickers\, Pikachu Visors\, deckboxes\, coins\, posters and more! \nWe’ll also be holding a raffle for everyone that submits their trainer ID\, with our winners to be revealed at 6PM.  \nGo out and Play! \n*A Purchase is necessary for the pack battle if using Booster Set Packs.
URL:https://ilovebabylon.com/event/pokemon-day-2026/
LOCATION:1883-B Deer Park Avenue\, Deer Park\, NY\, United States\, New York 11729\, 1883-B Deer Park Avenue\, Deer Park\, NY\, United States\, New York 11729
END:VEVENT
BEGIN:VEVENT
DTSTART;TZID=America/New_York:20260227T140000
DTEND;TZID=America/New_York:20260227T180000
DTSTAMP:20260420T035546
CREATED:20260226T184335Z
LAST-MODIFIED:20260226T184335Z
UID:10007743-1772200800-1772215200@ilovebabylon.com
SUMMARY:Mobile Pet Adoption Event! Meet Adoptable Dogs\, Cats\, Puppies\, & Kittens
DESCRIPTION:Find your new best friend a little closer to home as we bring our adoptable dogs\, cats\, puppies\, and kittens to your neighborhood! \nEVENT DETAILS:Friday\, Feb. 272pm – 6pm  \nPetSmart 535 Montauk Hwy.West Babylon\, NY \nGet preapproved by emailing offsite@animalleague.org!
URL:https://ilovebabylon.com/event/mobile-pet-adoption-event-meet-adoptable-dogs-cats-puppies-kittens-2/
LOCATION:PetSmart\, 1208 Deer Park Ave\, North Babylon\, NY\, 11703\, US
END:VEVENT
BEGIN:VEVENT
DTSTART;TZID=America/New_York:20260227T180000
DTEND;TZID=America/New_York:20260227T210000
DTSTAMP:20260420T035546
CREATED:20260226T184340Z
LAST-MODIFIED:20260302T135253Z
UID:10007744-1772215200-1772226000@ilovebabylon.com
SUMMARY:BELFAST GASTROPUB
DESCRIPTION:Live music at Lindenhurst’s Emerald Jem!
URL:https://ilovebabylon.com/event/belfast-gastropub-8/
LOCATION:Belfast Gastropub\, 101 North Wellwood Avenue\, Lindenhurst\, NY\, 11757\, US
CATEGORIES:Music
END:VEVENT
BEGIN:VEVENT
DTSTART;TZID=America/New_York:20260227T180000
DTEND;TZID=America/New_York:20260227T220000
DTSTAMP:20260420T035546
CREATED:20260217T190254Z
LAST-MODIFIED:20260226T184337Z
UID:10007730-1772215200-1772229600@ilovebabylon.com
SUMMARY:One Track Mind returns to Lily's!!
DESCRIPTION:One Track Mind returns to Lily’s in Babylon\, home of the best Happy Hour!!! The boys have been working on new material and the party is going parabolic!!!
URL:https://ilovebabylon.com/event/one-track-mind-returns-to-lilys/
LOCATION:Lily Flanagans Pub\, Lily Flanagans Pub
END:VEVENT
BEGIN:VEVENT
DTSTART;TZID=America/New_York:20260227T183000
DTEND;TZID=America/New_York:20260227T213000
DTSTAMP:20260420T035546
CREATED:20260226T184342Z
LAST-MODIFIED:20260226T184342Z
UID:10007745-1772217000-1772227800@ilovebabylon.com
SUMMARY:Eclipse and Mission Prog at The Warehouse
DESCRIPTION:Eclipse and Mission Prog at The Warehouse \nFriday February 27\, 2026 \nEclipse – Pink Floyd Tribute \nand \nMission Prog – A Tribute to the Giants of Prog Rock \nTickets available at: www.thewarehouseli.com/calendar \nWalk-ins welcome \nDoors 6:30pm
URL:https://ilovebabylon.com/event/eclipse-and-mission-prog-at-the-warehouse/
LOCATION:The Warehouse Live Music & Events\, The Warehouse Live Music & Events
END:VEVENT
BEGIN:VEVENT
DTSTART;TZID=America/New_York:20260227T190000
DTEND;TZID=America/New_York:20260227T220000
DTSTAMP:20260420T035546
CREATED:20260125T215222Z
LAST-MODIFIED:20260226T184344Z
UID:10007606-1772218800-1772229600@ilovebabylon.com
SUMMARY:High Street at Goccia D’Oro II
DESCRIPTION:High Street are back at Goccia D’Oro II
URL:https://ilovebabylon.com/event/high-street-at-goccia-doro-ii/
LOCATION:Goccia D’Oro II\, Goccia D’Oro II
END:VEVENT
BEGIN:VEVENT
DTSTART;TZID=America/New_York:20260227T190000
DTEND;TZID=America/New_York:20260227T220000
DTSTAMP:20260420T035546
CREATED:20260217T190259Z
LAST-MODIFIED:20260226T184346Z
UID:10007731-1772218800-1772229600@ilovebabylon.com
SUMMARY:Eclipse-Long Island's PREMIERE Tribute to Pink Floyd at The Warehouse
DESCRIPTION:Eclipse-Long Island’s PREMIERE Tribute to Pink Floyd returns to the Warehouse for a powerful set taking you on a journey from Meddle to The Wall. \nEclipse is the real deal. If you want to experience a Pink Floyd concert but can’t find your Time Machine\, no worries. Come to the Warehouse on Feb 27…
URL:https://ilovebabylon.com/event/eclipse-long-islands-premiere-tribute-to-pink-floyd-at-the-warehouse/
LOCATION:The Warehouse Live Music & Events\, The Warehouse Live Music & Events
END:VEVENT
BEGIN:VEVENT
DTSTART;TZID=America/New_York:20260227T200000
DTEND;TZID=America/New_York:20260227T223000
DTSTAMP:20260420T035546
CREATED:20260226T184349Z
LAST-MODIFIED:20260302T135249Z
UID:10007746-1772222400-1772231400@ilovebabylon.com
SUMMARY:Music Bingo with Tracy
DESCRIPTION:Music Bingo with Tracy$10 to play four rounds of bingo. Additional cards available for $5Identify the song and/or artist and match to your game card to win.
URL:https://ilovebabylon.com/event/music-bingo-with-tracy/
LOCATION:371 Little East Neck Rd\, West Babylon\, NY\, 371 Little East Neck Rd\, West Babylon\, NY
CATEGORIES:Music
END:VEVENT
BEGIN:VEVENT
DTSTART;TZID=America/New_York:20260227T220000
DTEND;TZID=America/New_York:20260228T010000
DTSTAMP:20260420T035546
CREATED:20260125T215224Z
LAST-MODIFIED:20260302T135247Z
UID:10007607-1772229600-1772240400@ilovebabylon.com
SUMMARY:Mission Prog at The Warehouse
DESCRIPTION:Looking forward to bringing the music of iconic bands back to our home base. Can’t wait to play in front of our fans and friends!
URL:https://ilovebabylon.com/event/mission-prog-at-the-warehouse/
LOCATION:The Warehouse\, 203 Broadway\, Amityville\, NY 11701\, The Warehouse\, 203 Broadway\, Amityville\, NY 11701
CATEGORIES:Music
END:VEVENT
BEGIN:VEVENT
DTSTART;TZID=America/New_York:20260228T100000
DTEND;TZID=America/New_York:20260228T120000
DTSTAMP:20260420T035546
CREATED:20260226T184353Z
LAST-MODIFIED:20260226T184353Z
UID:10007747-1772272800-1772280000@ilovebabylon.com
SUMMARY:Kingdom Creatives
DESCRIPTION:🎨🎶 🧶 Kingdom Creatives is all about empowering creatives for the glory of Christ! Our mission is to make a space where creatives can explore and expand their giftings\, and to provide an opportunity for them to partner with other creatives in our region. We’re a diverse\, creative community that represents all the arts: visual\, written\, and performing arts.  \nOur gatherings are completely free\, come as you are\, bring your creative preference\, let us know if you can make it by RSVPing on the event!👇🏼 \nNext meeting : Saturday\, February 28th at 10am at The Convergence Equipping Center\, 45 Burch Ave\, Amityville\, NY (directly across from the Amityville LIRR station) 🚉
URL:https://ilovebabylon.com/event/kingdom-creatives/
LOCATION:45 Burch Avenue\, Amityville\, NY\, 45 Burch Avenue\, Amityville\, NY
END:VEVENT
BEGIN:VEVENT
DTSTART;TZID=America/New_York:20260228T100000
DTEND;TZID=America/New_York:20260228T153000
DTSTAMP:20260420T035546
CREATED:20260217T190306Z
LAST-MODIFIED:20260226T184355Z
UID:10007732-1772272800-1772292600@ilovebabylon.com
SUMMARY:Healing 101
DESCRIPTION:This training will give the theological and practical foundation to minister healing\, following the teachings in the New Testament and the model Jesus established in the Gospels. Much of what we have seen in how people pray for healing of the sick is actually not how scripture demonstrates. We believe knowing how to pray should be supported through a proper Biblical and theological foundation. It is important to know how to pray\, but equally important to understand why you\, as a believer\, have the authority to pray. We will address the following questions: \n1 – What do the Gospels teach about the ministry of healing?2 – When we look at the New Testament\, what does it teach should be the foundation of ministry with the Holy Spirit?3 – How does faith actually work as demonstrated in the Gospels\, the Book of Acts\, and the Epistles?4 – How should you approach partnering with God in healing prayer?5 – How does discernment work?6 – Is it God’s will always to heal?7 – When someone doesn’t get healed\, how do you minister God’s love to them?8 – What are the practical steps to praying for someone that needs healing? \nYou will receive Biblical answers to all of these questions and more. You will learn how to be naturally supernatural in your approach\, it doesn’t need to be weird — you can be authentic\, safe\, and effective. We will do activations in Words of Knowledge\, as they often work alongside healing. We create a safe space for you to ask questions\, share\, step out and risk\, and grow in your personal partnership with the Holy Spirit. The Great Commision calls all of Jesus’ followers to do this. \nJesus came and said to them\, “All authority in heaven and on earth has been given to me. Go therefore and make disciples of all nations\, baptizing them in the name of the Father and of the Son and of the Holy Spirit\, teaching them to observe all that I have commanded you. And behold\, I am with you always\, to the end of the age.” Matthew 28:18-21 \nOnly the Living God can heal\, however\, He has chosen to empower His children as ambassadors of His Kingdom\, by obediently risking in faith for those around to see and understand who Jesus is\, by both our His word and His works. We sincerely hope you’ll join us! \nWe have limited space (15 max) and the cost is $25 and includes a Student Workbook and a pizza and salad lunch with beverages and desserts included. Bring a friend and you will each get a discounted registration\, just $20. Bring 3 or more friends and each pay $15.  \n** This time around it will not be available online\, you must attend in person. If you are interested in attending our Power Evangelism Training in April\, this will be very helpful\, though not mandatory.
URL:https://ilovebabylon.com/event/healing-101/
LOCATION:45 Burch Avenue\, Amityville\, NY\, 45 Burch Avenue\, Amityville\, NY
END:VEVENT
BEGIN:VEVENT
DTSTART;TZID=America/New_York:20260228T103000
DTEND;TZID=America/New_York:20260228T113000
DTSTAMP:20260420T035546
CREATED:20260217T190308Z
LAST-MODIFIED:20260226T184359Z
UID:10007733-1772274600-1772278200@ilovebabylon.com
SUMMARY:Saturday Slime Fest
DESCRIPTION:$25 per child – 3 Slimes and Topping BarGrown ups / Non-Participating Children are ALWAYS FREE! Parents may also drop off.
URL:https://ilovebabylon.com/event/saturday-slime-fest/
LOCATION:The Color Palette Lindenhurst\, 51 West Hoffman Ave.\, Lindenhurst\, NY\, 11757\, US
END:VEVENT
BEGIN:VEVENT
DTSTART;TZID=America/New_York:20260228T110000
DTEND;TZID=America/New_York:20260228T140000
DTSTAMP:20260420T035546
CREATED:20260226T184403Z
LAST-MODIFIED:20260302T135243Z
UID:10007748-1772276400-1772287200@ilovebabylon.com
SUMMARY:Village Pub Lindenhurst
DESCRIPTION:First show of 2026 — let’s make it loud 🔥join us Haleys Emotional Fall Out\, No Excuses and Kegbelly! Who’s ready for what’s coming this year? #Anthurium #LiveMusic #2026Shows #greatmusicwithgreatfriends
URL:https://ilovebabylon.com/event/village-pub-lindenhurst/
LOCATION:Village Pub Lindenhurst\, 174 N Wellwood Ave\, Lindenhurst\, NY\, 11757\, US
CATEGORIES:Music
END:VEVENT
BEGIN:VEVENT
DTSTART;TZID=America/New_York:20260228T120000
DTEND;TZID=America/New_York:20260228T143000
DTSTAMP:20260420T035546
CREATED:20260217T190310Z
LAST-MODIFIED:20260226T184405Z
UID:10007734-1772280000-1772289000@ilovebabylon.com
SUMMARY:Year of the Fire Horse Manifestation with Christine & Jackie
DESCRIPTION:Saturday\, February 28 12:00PM-2:30PM $60  \nStep into the fierce\, luminous power of the Year of the Fire Horse — a rare cosmic cycle known for unstoppable momentum\, visionary courage\, and the kind of wild-hearted energy that breaks old patterns wide open. This is a year for bold moves\, intuitive leaps\, and claiming the life you’ve been quietly dreaming of. \nJoin us for a soulful afternoon designed to help you ignite your intentions and align with this fiery\, transformative frequency. \nDuring this workshop\, you’ll experience:A Guided Manifestation JourneyTap into the Fire Horse’s fearless spirit to call in what you truly desire.Journaling Prompts for Clarity & CourageWrite your way into alignment\, purpose\, and possibility.A Healing Sound BathLet vibration soften resistance\, clear energetic blocks\, and anchor your intentions into the body.Why the Fire Horse Year MattersThis year invites you to:Move with passion and purposeTrust your instinctsRelease what dims your sparkStep boldly into your next chapter \nCome gather in community\, breathe deeply\, and set intentions that feel alive\, aligned\, and ready to manifest.
URL:https://ilovebabylon.com/event/year-of-the-fire-horse-manifestation-with-christine-jackie/
LOCATION:107 E Main St\, Babylon\, NY\, 107 E Main St\, Babylon\, NY
END:VEVENT
BEGIN:VEVENT
DTSTART;TZID=America/New_York:20260228T120000
DTEND;TZID=America/New_York:20260228T150000
DTSTAMP:20260420T035546
CREATED:20260125T215230Z
LAST-MODIFIED:20260226T184409Z
UID:10007608-1772280000-1772290800@ilovebabylon.com
SUMMARY:2026 Black Legacy Awards: Next Gen Edition
DESCRIPTION:As we gear up for a new year\, Black Legacy Partners is excited to announce the 2026 Black Legacy Awards: Next Gen Edition\, a powerful Black History Month awards brunch celebration taking place on Saturday\, February 28th\, 2026.  \nWe are thrilled to celebrate young Black leaders ages 13–21 who are using their voices\, businesses\, creativity\, and advocacy to uplift our communities and shape a stronger future. At a time when culture\, representation\, and education are being tested\, it’s more important than ever to celebrate and champion the next generation of visionaries who are changing the world.  \nThis fundraising event highlights their impact while supporting Black Legacy Partners’ year-round efforts to strengthen and elevate unseen accomplishments in Black communities across Long Island and beyond.Learn more at blacklegacypartners.org
URL:https://ilovebabylon.com/event/2026-black-legacy-awards-next-gen-edition/
LOCATION:The BISOU Experience\, The BISOU Experience
END:VEVENT
BEGIN:VEVENT
DTSTART;TZID=America/New_York:20260228T120000
DTEND;TZID=America/New_York:20260228T150000
DTSTAMP:20260420T035546
CREATED:20260217T190316Z
LAST-MODIFIED:20260226T184411Z
UID:10007735-1772280000-1772290800@ilovebabylon.com
SUMMARY:Galentine’s Day Brunch
DESCRIPTION:🌸✨Bloom Where You Are Loved: A Self-Love Workshop ✨🌸 \nJoin us February 28th 12-3pm at Island Soul Restaurant for a beautiful Galentine’s experience centered on self-care\, connection\, and community. \n✨ Celebrate yourself\, your heart\, and your glow. ✨ \nThis is your reminder to pause\, pour into yourself\, and bloom in spaces that truly love you back. 💕 \n✨ Brunch✨ Live entertainment✨ Self-care workshops✨ Networking & vendors✨ Feel-good vibes \n🎟️ Tickets are $65Zelle: Empoweringjourneys@gmail.comSales close February 26th
URL:https://ilovebabylon.com/event/galentines-day-brunch/
LOCATION:Lindenhurts NY\, Lindenhurts NY
END:VEVENT
BEGIN:VEVENT
DTSTART;TZID=America/New_York:20260228T160000
DTEND;TZID=America/New_York:20260228T200000
DTSTAMP:20260420T035546
CREATED:20260226T184415Z
LAST-MODIFIED:20260301T074739Z
UID:10007749-1772294400-1772308800@ilovebabylon.com
SUMMARY:Annual Pasta Dinner
DESCRIPTION:Troop 399 is holding its annual Pasta Dinner on Sat\, Feb 28th at Cross of Christ Lutheran Church at 576 Deer Park Ave\, Babylon\, NY from 4-8PM.In-person dining or takeout.
URL:https://ilovebabylon.com/event/annual-pasta-dinner/
LOCATION:576 Deer Park Ave\, Babylon\, NY 11702-1928\, United States\, 576 Deer Park Ave\, Babylon\, NY 11702-1928\, United States
END:VEVENT
BEGIN:VEVENT
DTSTART;TZID=America/New_York:20260228T180000
DTEND;TZID=America/New_York:20260228T210000
DTSTAMP:20260420T035546
CREATED:20260217T190322Z
LAST-MODIFIED:20260302T135241Z
UID:10007736-1772301600-1772312400@ilovebabylon.com
SUMMARY:Stardust Acoustic at Cebolline’s
DESCRIPTION:Stardust Acoustic will be at Cebollines on 02/28/2026.Come out for good food\, drinks\, fun live music and positive vibes. \nReservations are recommended.  \nhttps://www.brisktable.com/book?r=cebollinesgrill
URL:https://ilovebabylon.com/event/stardust-acoustic-at-cebollines-2/
LOCATION:Cebollines Grill\, 170 E Montauk hwy\, Lindenhurst\, NY\, 11757\, US
CATEGORIES:Music
END:VEVENT
BEGIN:VEVENT
DTSTART;TZID=America/New_York:20260228T180000
DTEND;TZID=America/New_York:20260228T210000
DTSTAMP:20260420T035546
CREATED:20260226T184426Z
LAST-MODIFIED:20260302T135239Z
UID:10007750-1772301600-1772312400@ilovebabylon.com
SUMMARY:Tribute Banned at Lily's babylon
DESCRIPTION:Join us for a great night of music. Great food and drink at Lily’s. 7:00 sharp start time.
URL:https://ilovebabylon.com/event/tribute-banned-at-lilys-babylon-2/
LOCATION:Lily’s Babylon\, 345 Deer Park Ave\, Babylon\, NY\, 11702\, US
CATEGORIES:Music
END:VEVENT
BEGIN:VEVENT
DTSTART;TZID=America/New_York:20260228T183000
DTEND;TZID=America/New_York:20260228T213000
DTSTAMP:20260420T035546
CREATED:20260226T184428Z
LAST-MODIFIED:20260301T074753Z
UID:10007751-1772303400-1772314200@ilovebabylon.com
SUMMARY:The Legendary Murphys and Zocial at The Warehouse
DESCRIPTION:The Legendary Murphys and Zocial at The Warehouse \nSaturday February 28\, 2026 \nThe Legendary Murphys – Guitar-driven Classic Rock with a Shamrock Twist \nand \nZocial – High-powered Rock from the 70’s through today.  \nTickets available at: www.thewarehouseli.com/calendar \nWalk-ins welcome \nDoors 6:30pm
URL:https://ilovebabylon.com/event/the-legendary-murphys-and-zocial-at-the-warehouse/
LOCATION:The Warehouse Live Music & Events\, The Warehouse Live Music & Events
END:VEVENT
BEGIN:VEVENT
DTSTART;TZID=America/New_York:20260228T190000
DTEND;TZID=America/New_York:20260228T220000
DTSTAMP:20260420T035546
CREATED:20260226T184430Z
LAST-MODIFIED:20260301T074757Z
UID:10007752-1772305200-1772316000@ilovebabylon.com
SUMMARY:Blood 🩸 Must Boil on February’s End!!
DESCRIPTION:And explorative night of original wildness Featuring The Good Earth OrchestraNewBlood Boilers Sideshift
URL:https://ilovebabylon.com/event/blood-%f0%9f%a9%b8-must-boil-on-februarys-end/
LOCATION:Bartini Bar\, 124 N Carll Ave\, Babylon\, NY\, 11702\, US
END:VEVENT
BEGIN:VEVENT
DTSTART;TZID=America/New_York:20260228T190000
DTEND;TZID=America/New_York:20260228T230000
DTSTAMP:20260420T035546
CREATED:20260226T184435Z
LAST-MODIFIED:20260302T135237Z
UID:10007753-1772305200-1772319600@ilovebabylon.com
SUMMARY:Grand Marshal's Ball
DESCRIPTION:Cocktail Hour\, Open Bar\, Dinner\, Dessert\, Live Music
URL:https://ilovebabylon.com/event/grand-marshals-ball/
LOCATION:Lily’s Babylon\, 345 Deer Park Ave\, Babylon\, NY\, 11702\, US
CATEGORIES:Music
END:VEVENT
BEGIN:VEVENT
DTSTART;TZID=America/New_York:20260228T193000
DTEND;TZID=America/New_York:20260228T223000
DTSTAMP:20260420T035546
CREATED:20260226T184439Z
LAST-MODIFIED:20260302T135235Z
UID:10007754-1772307000-1772317800@ilovebabylon.com
SUMMARY:Legendary Murphys at The Warehouse
DESCRIPTION:We will be playing the Warehouse\, 7:30pm start. We would love to see you.  \nDoors open at 6pm. Tickets available at: thewarehouseli.com/calendarWalk-ins welcome!!!!! \nPLEASE PASS THE WORD!!! xoxo \nThe Warehouse203 BroadwayAmityvillle\, NY \nhttp://www.LegendaryMurphys.com#thewarehouseli #longislandmusic #classicrock
URL:https://ilovebabylon.com/event/legendary-murphys-at-the-warehouse/
LOCATION:The Warehouse L.I.\, 203 Broadway\, Amityville\, NY\, 11701\, US
CATEGORIES:Music
END:VEVENT
BEGIN:VEVENT
DTSTART;TZID=America/New_York:20260228T200000
DTEND;TZID=America/New_York:20260228T230000
DTSTAMP:20260420T035546
CREATED:20260226T184441Z
LAST-MODIFIED:20260301T074809Z
UID:10007755-1772308800-1772319600@ilovebabylon.com
SUMMARY:Unmasked-The Kiss Cover Band & Bloody Sabbath Invade Whiskey Rocks
DESCRIPTION:Bloody Sabbath & Unmasked at Whiskey Rocks
URL:https://ilovebabylon.com/event/unmasked-the-kiss-cover-band-bloody-sabbath-invade-whiskey-rocks/
LOCATION:419 Great East Neck Rd\, West Babylon\, NY 11704-7622\, United States\, 419 Great East Neck Rd\, West Babylon\, NY 11704-7622\, United States
END:VEVENT
BEGIN:VEVENT
DTSTART;TZID=America/New_York:20260228T200000
DTEND;TZID=America/New_York:20260228T230000
DTSTAMP:20260420T035546
CREATED:20260226T184444Z
LAST-MODIFIED:20260301T074814Z
UID:10007756-1772308800-1772319600@ilovebabylon.com
SUMMARY:The Daplorabulls Live! @ Popei’s Deer Park
DESCRIPTION:“HOMETOWN COOKING” #3! The DAPLORABULLS are back for our 3rd show at Popeis of Deer Park! The first 2 Events were epic gatherings of The Daplorabulls faithful\, full of laughter\, delicious food\, potent cocktails and plenty of dancing! Let’s rinse and repeat Saturday February 28th! Reservations suggested for tables. Long Bar for cocktails and dancing.
URL:https://ilovebabylon.com/event/the-daplorabulls-live-popeis-deer-park/
LOCATION:Popei’s Clam Bar Deer Park\, Popei's Clam Bar Deer Park
END:VEVENT
BEGIN:VEVENT
DTSTART;TZID=America/New_York:20260228T220000
DTEND;TZID=America/New_York:20260301T010000
DTSTAMP:20260420T035546
CREATED:20260226T184446Z
LAST-MODIFIED:20260301T074817Z
UID:10007757-1772316000-1772326800@ilovebabylon.com
SUMMARY:Zocial live at The Warehouse
DESCRIPTION:Zocial is a high energy party band covering all the Decades of Rock. They will be sharing the stage with the Legendary Murphy’s covering all your classic rock.
URL:https://ilovebabylon.com/event/zocial-live-at-the-warehouse/
LOCATION:The Warehouse Live Music & Events\, The Warehouse Live Music & Events
END:VEVENT
BEGIN:VEVENT
DTSTART;TZID=America/New_York:20260301T111500
DTEND;TZID=America/New_York:20260301T141500
DTSTAMP:20260420T035546
CREATED:20260226T184448Z
LAST-MODIFIED:20260301T074821Z
UID:10007758-1772363700-1772374500@ilovebabylon.com
SUMMARY:Fastnacht and Hot Cross Buns Fellowship
DESCRIPTION:Fastnacht and Hot Cross Buns FellowshipServed by the Sunday School downstairs after church.Come enjoy a Fastnacht\, hot cross bun and some fellowship.
URL:https://ilovebabylon.com/event/fastnacht-and-hot-cross-buns-fellowship/
LOCATION:147 Park Ave\, Amityville\, NY\, 147 Park Ave\, Amityville\, NY
END:VEVENT
BEGIN:VEVENT
DTSTART;TZID=America/New_York:20260301T120000
DTEND;TZID=America/New_York:20260301T160000
DTSTAMP:20260420T035546
CREATED:20260226T184450Z
LAST-MODIFIED:20260301T074824Z
UID:10007759-1772366400-1772380800@ilovebabylon.com
SUMMARY:Club Brunch
DESCRIPTION:‼️‼️ THIS SUNDAY! Hit me baby one more time… with another mimosa 💿🥂 $30 unlimited mimosas (2hr max)\, specialty brunch menu\, and pop classics playing 12pm-4pm! Tables are booking up quick\, so be sure to make your reservation NOW! This is gonna be a party for the ages 🍾🎊🎉 \n#brunch #longislandeats #sundaybrunch #90sera #2000sera
URL:https://ilovebabylon.com/event/club-brunch/
LOCATION:7 Depot Pl\, Babylon\, NY\, United States\, New York 11702\, 7 Depot Pl\, Babylon\, NY\, United States\, New York 11702
END:VEVENT
END:VCALENDAR