BEGIN:VCALENDAR
VERSION:2.0
PRODID:-//I Love Babylon, NY - ECPv6.15.20//NONSGML v1.0//EN
CALSCALE:GREGORIAN
METHOD:PUBLISH
X-ORIGINAL-URL:https://ilovebabylon.com
X-WR-CALDESC:Events for I Love Babylon, NY
REFRESH-INTERVAL;VALUE=DURATION:PT1H
X-Robots-Tag:noindex
X-PUBLISHED-TTL:PT1H
BEGIN:VTIMEZONE
TZID:America/New_York
BEGIN:DAYLIGHT
TZOFFSETFROM:-0500
TZOFFSETTO:-0400
TZNAME:EDT
DTSTART:20250309T070000
END:DAYLIGHT
BEGIN:STANDARD
TZOFFSETFROM:-0400
TZOFFSETTO:-0500
TZNAME:EST
DTSTART:20251102T060000
END:STANDARD
BEGIN:DAYLIGHT
TZOFFSETFROM:-0500
TZOFFSETTO:-0400
TZNAME:EDT
DTSTART:20260308T070000
END:DAYLIGHT
BEGIN:STANDARD
TZOFFSETFROM:-0400
TZOFFSETTO:-0500
TZNAME:EST
DTSTART:20261101T060000
END:STANDARD
BEGIN:DAYLIGHT
TZOFFSETFROM:-0500
TZOFFSETTO:-0400
TZNAME:EDT
DTSTART:20270314T070000
END:DAYLIGHT
BEGIN:STANDARD
TZOFFSETFROM:-0400
TZOFFSETTO:-0500
TZNAME:EST
DTSTART:20271107T060000
END:STANDARD
END:VTIMEZONE
BEGIN:VEVENT
DTSTART;TZID=America/New_York:20260116T183000
DTEND;TZID=America/New_York:20260116T213000
DTSTAMP:20260419T221755
CREATED:20251231T103226Z
LAST-MODIFIED:20260115T184350Z
UID:10007361-1768588200-1768599000@ilovebabylon.com
SUMMARY:BUNCO
DESCRIPTION:$20Bring $3-$4 in quartersNo experience necessary No walkinsRes & Info:Linda. 516-356-0949
URL:https://ilovebabylon.com/event/bunco-2/
LOCATION:deer park long island NY\, deer park long island NY
END:VEVENT
BEGIN:VEVENT
DTSTART;TZID=America/New_York:20260116T183000
DTEND;TZID=America/New_York:20260116T213000
DTSTAMP:20260419T221755
CREATED:20251231T103229Z
LAST-MODIFIED:20260115T184354Z
UID:10007362-1768588200-1768599000@ilovebabylon.com
SUMMARY:BUNCO
DESCRIPTION:$20 per person Bring $3-$4 in quarters Money prizesSnacks provided No walk-insRes & Info:Linda 516-356-0949
URL:https://ilovebabylon.com/event/bunco-3/
LOCATION:Deer Park\, Long Island\, New York. USA\, Deer Park\, Long Island\, New York. USA
END:VEVENT
BEGIN:VEVENT
DTSTART;TZID=America/New_York:20260116T183000
DTEND;TZID=America/New_York:20260116T213000
DTSTAMP:20260419T221755
CREATED:20251231T103231Z
LAST-MODIFIED:20260115T184356Z
UID:10007363-1768588200-1768599000@ilovebabylon.com
SUMMARY:BUNCO
DESCRIPTION:$20 per person Bring $3-4 in quarters Money prizesNo walk-insFor Res & Info:Linda 516-356-0949
URL:https://ilovebabylon.com/event/bunco-4/
LOCATION:Deer Park\, Long Island\, New York. USA\, Deer Park\, Long Island\, New York. USA
END:VEVENT
BEGIN:VEVENT
DTSTART;TZID=America/New_York:20260116T183000
DTEND;TZID=America/New_York:20260116T213000
DTSTAMP:20260419T221755
CREATED:20251231T103233Z
LAST-MODIFIED:20260115T184400Z
UID:10007364-1768588200-1768599000@ilovebabylon.com
SUMMARY:BUNCO
DESCRIPTION:$20 per person Bring $3-$4 in quarters Money prizesNo walk-insRes & Info:Linda. 516-356-0949
URL:https://ilovebabylon.com/event/bunco-5/
LOCATION:Deer Park\, Long Island\, New York. USA\, Deer Park\, Long Island\, New York. USA
END:VEVENT
BEGIN:VEVENT
DTSTART;TZID=America/New_York:20260116T183000
DTEND;TZID=America/New_York:20260116T213000
DTSTAMP:20260419T221755
CREATED:20251231T103235Z
LAST-MODIFIED:20260115T184404Z
UID:10007365-1768588200-1768599000@ilovebabylon.com
SUMMARY:BUNCO
DESCRIPTION:$20 per person Bring $3-$4 in quarters Money prizesNo walk-insRes & Info:Linda 516-356-0949
URL:https://ilovebabylon.com/event/bunco-6/
LOCATION:Deer Park\, Long Island\, New York. USA\, Deer Park\, Long Island\, New York. USA
END:VEVENT
BEGIN:VEVENT
DTSTART;TZID=America/New_York:20260116T183000
DTEND;TZID=America/New_York:20260116T213000
DTSTAMP:20260419T221755
CREATED:20251231T103238Z
LAST-MODIFIED:20260115T184410Z
UID:10007366-1768588200-1768599000@ilovebabylon.com
SUMMARY:BUNCO
DESCRIPTION:$20 per person Bring $3-$4 in quarters Money prizesNo walk-insRes & Info: Linda 516-356-0949
URL:https://ilovebabylon.com/event/bunco-7/
LOCATION:deer park long island NY\, deer park long island NY
END:VEVENT
BEGIN:VEVENT
DTSTART;TZID=America/New_York:20260116T183000
DTEND;TZID=America/New_York:20260116T213000
DTSTAMP:20260419T221755
CREATED:20251231T103240Z
LAST-MODIFIED:20260115T184414Z
UID:10007367-1768588200-1768599000@ilovebabylon.com
SUMMARY:BUNCO
DESCRIPTION:$20 per person Bring $3-$4 in quarters Money prizesNo walk-insRes & info:Linda 516-356-0949
URL:https://ilovebabylon.com/event/bunco-8/
LOCATION:deer park long island NY\, deer park long island NY
END:VEVENT
BEGIN:VEVENT
DTSTART;TZID=America/New_York:20260116T183000
DTEND;TZID=America/New_York:20260116T213000
DTSTAMP:20260419T221755
CREATED:20251231T103242Z
LAST-MODIFIED:20260115T184416Z
UID:10007368-1768588200-1768599000@ilovebabylon.com
SUMMARY:BUNCO
DESCRIPTION:$20 per person Bring $3-$4 in quarters Money prizesNo walk-insFor Res & Info:Linda 516-356-0949
URL:https://ilovebabylon.com/event/bunco-9/
LOCATION:deer park long island NY\, deer park long island NY
END:VEVENT
BEGIN:VEVENT
DTSTART;TZID=America/New_York:20260116T183000
DTEND;TZID=America/New_York:20260116T213000
DTSTAMP:20260419T221755
CREATED:20260115T184352Z
LAST-MODIFIED:20260115T184352Z
UID:10007456-1768588200-1768599000@ilovebabylon.com
SUMMARY:BUNCO
DESCRIPTION:$20 per person Bring $3-$4 in quarters Money prizesSnacks provided No walk-insRes & Info:Lind 516-356-0949
URL:https://ilovebabylon.com/event/bunco-16/
LOCATION:Deer Park\, Long Island\, New York. USA\, Deer Park\, Long Island\, New York. USA
END:VEVENT
BEGIN:VEVENT
DTSTART;TZID=America/New_York:20260116T190000
DTEND;TZID=America/New_York:20260116T220000
DTSTAMP:20260419T221755
CREATED:20260109T075654Z
LAST-MODIFIED:20260115T184417Z
UID:10007448-1768590000-1768600800@ilovebabylon.com
SUMMARY:WINTER POWERLAND 3 - REINA & DENINE LIVE
DESCRIPTION:WINTER POWERLAND 3 Power 78.7 Radio 6th Year Anniversary. Live performance by legendary dance diva REINA. Special guest DENINE. Power Showgirls live on stage plus giveaways
URL:https://ilovebabylon.com/event/winter-powerland-3-reina-denine-live/
LOCATION:The Warehouse Live Music & Events\, The Warehouse Live Music & Events
END:VEVENT
BEGIN:VEVENT
DTSTART;TZID=America/New_York:20260116T190000
DTEND;TZID=America/New_York:20260116T220000
DTSTAMP:20260419T221755
CREATED:20260109T075659Z
LAST-MODIFIED:20260115T184421Z
UID:10007449-1768590000-1768600800@ilovebabylon.com
SUMMARY:Power 78.7 Winter Powerland 3 featuring Reina at The Warehouse
DESCRIPTION:Power 78.7 Winter Powerland 3 featuring Reina at The Warehouse \nFriday January 16\, 2026 \nCelebrate Power 78.7 Radio’s 6th Anniversary! \nSpecial Guest Reina performs her hits\, No One’s Gonna Change You\, Find Another Woman\, and More! \nDenine performs her hits\, “Then Came You\,” and “When You Talk” \nDJ MDW\, DJ Tita\, and DJ Nismo spin Freestyle Favorites and Club Classics All Night! \nDrink Specials! Giveaways! Pop-up Performances! \nTickets available at: www.thewarehouseli.com/calendar \nWalk-ins welcome \nDoors 7pm
URL:https://ilovebabylon.com/event/power-78-7-winter-powerland-3-featuring-reina-at-the-warehouse/
LOCATION:The Warehouse Live Music & Events\, The Warehouse Live Music & Events
END:VEVENT
BEGIN:VEVENT
DTSTART;TZID=America/New_York:20260116T190000
DTEND;TZID=America/New_York:20260116T220000
DTSTAMP:20260419T221755
CREATED:20251231T103245Z
LAST-MODIFIED:20260115T184419Z
UID:10007369-1768590000-1768600800@ilovebabylon.com
SUMMARY:Live at Sand City South
DESCRIPTION:The Collective appearing Live at Sand City South – playing music from the 90’s to 2000’s Alternative
URL:https://ilovebabylon.com/event/live-at-sand-city-south/
LOCATION:Sand City South\, 150 South Wellwood Ave\, Lindenhurst\, NY\, 11757\, US
END:VEVENT
BEGIN:VEVENT
DTSTART;TZID=America/New_York:20260116T193000
DTEND;TZID=America/New_York:20260116T223000
DTSTAMP:20260419T221755
CREATED:20260109T075701Z
LAST-MODIFIED:20260115T184423Z
UID:10007450-1768591800-1768602600@ilovebabylon.com
SUMMARY:Meditation\, Sound Healing and Aromatherapy
DESCRIPTION:Join Denise of Monarch Nature for a deeply restorative experience designed to calm your mind and body through a trifecta of healing modalities. \nDenise will guide a soothing meditation\, followed by the resonant vibrations of singing bowls\, tuning forks\, and chimes. The session is enhanced with unique blends of aromatherapy essential oils carefully chosen for their calming effects and peaceful scents. \nWhether you’re seeking stress relief\, mental clarity\, or just a moment of peace\, this experience offers a sanctuary for your mind\, body\, and spirit. Leave feeling centered and renewed! \nNo experience necessary. Please bring your own mat (rentals available) and wear comfortable clothing. \nBy donation\, pay what you’d like.
URL:https://ilovebabylon.com/event/meditation-sound-healing-and-aromatherapy/
LOCATION:Third Season Yoga\, Third Season Yoga
END:VEVENT
BEGIN:VEVENT
DTSTART;TZID=America/New_York:20260116T193000
DTEND;TZID=America/New_York:20260116T223000
DTSTAMP:20260419T221755
CREATED:20260115T184425Z
LAST-MODIFIED:20260115T184425Z
UID:10007457-1768591800-1768602600@ilovebabylon.com
SUMMARY:MTG Lorwyn Eclipsed PreRelease
DESCRIPTION:MTG Lorwyn Eclipsed PreRelease \nEvent Type: PrereleaseFormat: SealedStructure: 3 rounds of swissEvent Code: J23G5VZTime: 7:30pmEntry: $30 \nPrize support: Pack per win\, Booster Packs of the newest set. \nRegistration for all events closes 10 minutes prior to each event \nGotham City Hobbies70 Route 109West Babylon\, NY 11704
URL:https://ilovebabylon.com/event/mtg-lorwyn-eclipsed-prerelease/
LOCATION:70 Route 109\, West Babylon\, NY\, United States\, New York 11704\, 70 Route 109\, West Babylon\, NY\, United States\, New York 11704
END:VEVENT
BEGIN:VEVENT
DTSTART;TZID=America/New_York:20260116T200000
DTEND;TZID=America/New_York:20260116T235900
DTSTAMP:20260419T221755
CREATED:20251231T103249Z
LAST-MODIFIED:20260115T184427Z
UID:10007370-1768593600-1768607940@ilovebabylon.com
SUMMARY:Tasty Biscuits @ Liam's Landing
DESCRIPTION:Tasty Biscuits returns to Liam’s for our monthly (3rd Friday) gig.Join us for an eclectic assortment of music. \nhttps://www.facebook.com/events/1266882058536770/?event_time_id=1266882071870102
URL:https://ilovebabylon.com/event/tasty-biscuits-liams-landing-2/
LOCATION:Liam’s Landing\, 248 S Ketchum Ave\, Amityville\, NY\, 11701\, US
END:VEVENT
BEGIN:VEVENT
DTSTART;TZID=America/New_York:20260117T090000
DTEND;TZID=America/New_York:20260117T180000
DTSTAMP:20260419T221755
CREATED:20260109T075707Z
LAST-MODIFIED:20260115T184429Z
UID:10007451-1768640400-1768672800@ilovebabylon.com
SUMMARY:Sports Equipment Trade-In Event
DESCRIPTION:💰Sports Equipment Trade-in Event at MonkeySports – Farmingdale\, NY \n📅 Date: 1/17 – 1/18 📍 Location: MonkeySports\, 213 Airport Plaza Blvd Suite 22\, Farmingdale\, NY 11735 \nWe’re back for another week in Farmingdale. Trade-in your gently used sports gear and receive the trade-in value in a MonkeySports Gift Card this weekend! Whether it’s hockey\, lacrosse\, baseball\, or any other sport\, bring items that are still in good shape and save on next season’s purchase. \n✅ What We Accept:Gear from all sports—hockey\, lacrosse\, baseball\, softball\, fishing\, snow sports\, tennis\, and more.Items in good working condition\, purchased within the last 5 years.Products with an original retail value of over $100. \n❌ What We Don’t Accept:Damaged or heavily worn items.Products that are hard to clean (no mold or mildew).Items purchased over 5 years ago.Knock-offs\, generic store brands\, and counterfeits.Bulky items like bikes\, kayaks\, treadmills\, and free weights.Anything with an original retail value under $100. \n🕒 Hours:Saturday: 9 AM – 6 PMSaturday & Sunday: 10 AM -5 PM \n🗓️ Additional Events: Not available this weekend? No problem. We’ll be back in {{City}} on the following dates:  \n1/24 – 1/251/31 – 2/1 \nAll trade-ins are assessed using SidelineSwap’s Value Guide to ensure you get the best value for your gear. Make sure your items meet our trade-in criteria by checking out our guidelines and details on all upcoming events: https://sidelineswap.com/events. \nhttps://www.facebook.com/events/1553222922561889/?event_time_id=1553222935895221
URL:https://ilovebabylon.com/event/sports-equipment-trade-in-event/
LOCATION:MonkeySports – 213 Airport Plaza Blvd Suite 22\, Farmingdale\, NY 11735\, MonkeySports - 213 Airport Plaza Blvd Suite 22\, Farmingdale\, NY 11735
END:VEVENT
BEGIN:VEVENT
DTSTART;TZID=America/New_York:20260117T100000
DTEND;TZID=America/New_York:20260117T130000
DTSTAMP:20260419T221755
CREATED:20260115T184431Z
LAST-MODIFIED:20260115T184431Z
UID:10007458-1768644000-1768654800@ilovebabylon.com
SUMMARY:Coffee and Canvas - Jan 17th
DESCRIPTION:Come down & have some coffee and snacks and paint Saturday morning at 10am.Liz will be doing step by step instruction for this easy beginner painting of the moon.No experience needed – all ages welcome.Must have a reservation.Great for friends\, family\, or solo!
URL:https://ilovebabylon.com/event/coffee-and-canvas-jan-17th/
LOCATION:The Color Palette Lindenhurst\, 51 West Hoffman Ave.\, Lindenhurst\, NY\, 11757\, US
END:VEVENT
BEGIN:VEVENT
DTSTART;TZID=America/New_York:20260117T120000
DTEND;TZID=America/New_York:20260117T150000
DTSTAMP:20260419T221755
CREATED:20260109T081205Z
LAST-MODIFIED:20260115T184433Z
UID:10007452-1768651200-1768662000@ilovebabylon.com
SUMMARY:Boozy Bingo Brunch
DESCRIPTION:Enjoy bottomless brunch cocktails\, 2 games of music bingo\, brunch buffet\, prizes\, and more.
URL:https://ilovebabylon.com/event/boozy-bingo-brunch-3/
LOCATION:345 Deer Park Ave\, Babylon\, NY\, United States\, New York 11702\, 345 Deer Park Ave\, Babylon\, NY\, United States\, New York 11702
END:VEVENT
BEGIN:VEVENT
DTSTART;TZID=America/New_York:20260117T130000
DTEND;TZID=America/New_York:20260117T160000
DTSTAMP:20260419T221755
CREATED:20260115T184436Z
LAST-MODIFIED:20260115T184436Z
UID:10007459-1768654800-1768665600@ilovebabylon.com
SUMMARY:Gundam: ST07/ST08 Release Event
DESCRIPTION:Test out the new cards early and you can win a prize exclusively made for the Release Tournament! \n— Event Type: Release Event— Dates:—- January 17th @ 1:00pm—- January 19th @ 7:00pm— Format: Sealed— Starter Deck Choice— Prize support — Entry: $20 ($25 on the day of the event) \nOnline Registration: https://gothamcityhobbies.com/gundam-release-event/ \nhttps://www.facebook.com/events/984826321376078/?event_time_id=984826324709411
URL:https://ilovebabylon.com/event/gundam-st07-st08-release-event/
LOCATION:70 Route 109\, West Babylon\, NY\, United States\, New York 11704\, 70 Route 109\, West Babylon\, NY\, United States\, New York 11704
END:VEVENT
BEGIN:VEVENT
DTSTART;TZID=America/New_York:20260117T143000
DTEND;TZID=America/New_York:20260117T160000
DTSTAMP:20260419T221755
CREATED:20260109T081208Z
LAST-MODIFIED:20260115T184438Z
UID:10007453-1768660200-1768665600@ilovebabylon.com
SUMMARY:Women Together with Jackie Morrison & Thelma Condra
DESCRIPTION:Saturday\, January 17 2:30PM-4:00PM $20  \nEmbracing our Dignity\, Power and Self-Respect…Honoring our Sacred Wholeness \nJoin us for a sacred gathering of women coming together to remember who we are\, reclaim what we’ve lost\, and rise into our fullest expression. This is a space of connection\, reflection\, and empowerment- where our voices matter\, our stories are honored\, and our wholeness is celebrated. \nWe honor all of who we are- the shadow and the light- as we embrace our sacred wholeness. For ourselves. For our families. For our communities. For our world. \nJoin us to embrace your wholeness through ceremony\, guided meditation\, and reiki with Jackie Morrison and Thelma Condra.
URL:https://ilovebabylon.com/event/women-together-with-jackie-morrison-thelma-condra/
LOCATION:107 E Main St\, Babylon\, NY\, 107 E Main St\, Babylon\, NY
END:VEVENT
BEGIN:VEVENT
DTSTART;TZID=America/New_York:20260117T163000
DTEND;TZID=America/New_York:20260117T183000
DTSTAMP:20260419T221755
CREATED:20251231T103251Z
LAST-MODIFIED:20260115T184442Z
UID:10007371-1768667400-1768674600@ilovebabylon.com
SUMMARY:St. Boniface Mom's Group
DESCRIPTION:December 20th –Join us as we welcome the Alzheimer’s Association of Long Island.At any age\, there are lifestyle habits we can adopt to help maintain or even potentially improve our health. These habits may also help to keep our brains healthy as we age and possibly delay the onset of cognitive decline. \nDorinda Ag. Richberg\, LMHC NCC and the Mother’s Group at St. Boniface Episcopal Church present a Monthly meeting to absorb and unwind.This open and welcoming space invites mothers and mothering persons of all generations to share experiences\, gain support and connect authentically – without comparison or criticism.Come as you are and leave feeling heard\, supported and encouraged. \nReal Talk. Real Support. Zero Judgement. \nhttps://www.facebook.com/events/1363899111892777/?event_time_id=1363899118559443
URL:https://ilovebabylon.com/event/st-boniface-moms-group/
LOCATION:100 46th St\, Lindenhurst\, NY\, United States\, New York 11757\, 100 46th St\, Lindenhurst\, NY\, United States\, New York 11757
END:VEVENT
BEGIN:VEVENT
DTSTART;TZID=America/New_York:20260117T180000
DTEND;TZID=America/New_York:20260117T200000
DTSTAMP:20260419T221755
CREATED:20251231T103256Z
LAST-MODIFIED:20260115T184444Z
UID:10007372-1768672800-1768680000@ilovebabylon.com
SUMMARY:Ecstatic Dance with Stephanos
DESCRIPTION:Experience an evening of Ecstatic Dance with Stephanos where movement becomes a form of prayer and the music becomes a doorway inward. There are no steps to follow\, only a gentle invitation to let the rhythm guide you into release\, clarity\, and a deeper connection with your own spirit. Stephanos will open the space with grounding and intention\, then lead you into a wave of sound that rises\, expands\, and softens\, creating room for whatever needs to move through you. We dance barefoot\, without talking or phones\, so the studio becomes a sanctuary for freedom\, healing\, and awakening. \nAdmission: $40 – Limited Space
URL:https://ilovebabylon.com/event/ecstatic-dance-with-stephanos/
LOCATION:180 Great East Neck Rd\, West Babylon\, NY\, United States\, New York 11704\, 180 Great East Neck Rd\, West Babylon\, NY\, United States\, New York 11704
END:VEVENT
BEGIN:VEVENT
DTSTART;TZID=America/New_York:20260117T180000
DTEND;TZID=America/New_York:20260117T210000
DTSTAMP:20260419T221755
CREATED:20260115T184446Z
LAST-MODIFIED:20260115T184446Z
UID:10007460-1768672800-1768683600@ilovebabylon.com
SUMMARY:ED RYAN at BELFAST GASTROPUB in Lindenhurst
DESCRIPTION:Happy New Year\, Everybody!! \n I started this year by correcting a problem with my left foot that’s been bothering me for years. I had surgery on January 2nd and have to be off my feet for a week\, followed by a month of wearing a “boot” and playing while sitting down. But after the healing is done\, I expect to be a bit bouncier on my feet\, just like Fred Astaire!(or maybe Fred Mertz\, we’ll see) \n My first gig of the new year will be thisSATURDAY JAN 10th\, which happens to be the 10th Anniversary of David Bowie’s passing. Come celebrate the Life & Music of the Thin White Duke from 4:00 – 7:00pm atMcGRATH’S on Main St in Farmingdale. \n Speaking of all things Bowie\, my Tribute Band BOWIE STATION is coming to DARYL’S HOUSE in Pawling NY onFRIDAY FEBRUARY 27th8:00pm ShowtimeWe would LOVE to Pack The House\, being our first time there and wanting to impress\, so if you can make the trip Please Do So.Get your tickets here:https://www.ticketweb.com/event/bowie-station-david-daryls-house-tickets/14567703?pl=daryl \nHere’s the January Schedule: \nSATURDAY JAN 10thMcGRATH’S on Main St in Farmingdale 4:00 – 7:00pm*** David Bowie Tribute Show – All Bowie. All Day. *** \nSUNDAY JAN 11thMcGRATH’S in Farmingdale 4:00 – 7:00pm \nWEDNESDAY JAN 14thBUNKER HILL AMERICAN TAP ROOM on Wantagh Ave in Wantagh 7:00 – 10:00pm \nTHURSDAY JAN 15thTHE 3RD RAIL on Pettit Ave in Bellmore 7:00 – 10:00pm \nFRIDAY JAN 16thMcGRATH’S in Farmingdale 4:00 – 7:00pm \nSATURDAY JAN 17thBELFAST GASTRO PUB on Wellwood Ave in Lindenhurst 6:00 – 9:00pm \nSUNDAY JAN 18thMcGRATH’S in Farmingdale 4:00 – 7:00pm \nTHURSDAY JAN 22ndTHE 3RD RAIL in Bellmore 7:00 – 10:00pm \nFRIDAY JAN 23rdPADDY POWER on Merrick Ave in Merrick 5:00 – 9:00pm \nSATURDAY JAN 24thMcGRATH’S in Farmingdale 4:00 – 7:00pm \nSUNDAY JAN 25thMcGRATH’S in Farmingdale 4:00 – 7:00pm \nWEDNESDAY JAN 28thBUNKER HILL on Wantagh Ave in Wantagh 7:00 – 10:00pm \nTHURSDAY JAN 29thTHE 3RD RAIL in Bellmore 7:00 – 10:00pm \nFRIDAY JAN 30thBELFAST GASTRO PUB in Lindenhurst 6:00 – 9:00pm \nSATURDAY JAN 31stMcGRATH’S in Farmingdale 4:00 – 7:00pm \nThat’s it for now.Check my Facebook Page or Website Calendar for any last minute changes or cancelations. \nMuch Love\,Ed & Rain
URL:https://ilovebabylon.com/event/ed-ryan-at-belfast-gastropub-in-lindenhurst-3/
LOCATION:Belfast Gastropub\, 101 North Wellwood Avenue\, Lindenhurst\, NY\, 11757\, US
END:VEVENT
BEGIN:VEVENT
DTSTART;TZID=America/New_York:20260117T183000
DTEND;TZID=America/New_York:20260117T213000
DTSTAMP:20260419T221755
CREATED:20251231T103258Z
LAST-MODIFIED:20260115T184448Z
UID:10007373-1768674600-1768685400@ilovebabylon.com
SUMMARY:Boozy Bingo Night
DESCRIPTION:Please message us if you would like tickets. Only a few weeks away. We take Venmo.
URL:https://ilovebabylon.com/event/boozy-bingo-night/
LOCATION:Amityville Fire Department\, Amityville Fire Department
END:VEVENT
BEGIN:VEVENT
DTSTART;TZID=America/New_York:20260117T183000
DTEND;TZID=America/New_York:20260117T213000
DTSTAMP:20260419T221755
CREATED:20260115T184449Z
LAST-MODIFIED:20260115T184449Z
UID:10007461-1768674600-1768685400@ilovebabylon.com
SUMMARY:Vinyl Revival and Tasty Wave with DJ Ronnie Sparks at The Warehouse
DESCRIPTION:Vinyl Revival and Tasty Wave with DJ Ronnie Sparks at The Warehouse \nSaturday January 17\, 2026 \nVinyl Revival – Pop\, Dance\, and Funk Rock! \nand \nTasty Wave – New Wave and Beyond! \nDJ Ronnie Sparks keeps the party going all night! \nTickets available at: www.thewarehouseli.com/calendar \nWalk-ins welcome \nDoors 6:30pm
URL:https://ilovebabylon.com/event/vinyl-revival-and-tasty-wave-with-dj-ronnie-sparks-at-the-warehouse/
LOCATION:The Warehouse Live Music & Events\, The Warehouse Live Music & Events
END:VEVENT
BEGIN:VEVENT
DTSTART;TZID=America/New_York:20260117T190000
DTEND;TZID=America/New_York:20260117T220000
DTSTAMP:20260419T221755
CREATED:20251231T103405Z
LAST-MODIFIED:20260115T184451Z
UID:10007374-1768676400-1768687200@ilovebabylon.com
SUMMARY:SAT. 1/17 - VINYL REVIVAL\, TASTY WAVE & DJ RONNIE SPARKS!! GET YER GROOVE ON!!
DESCRIPTION:Hey\, you cool katz! TASTY is STOKED to be playing with the long-standing\, funky disco-ball dancin’ tunes of the incredible VINYL REVIVAL!MARK YOUR CALENDARS\, KIDS\, bc you’re in for a tasty treat of a body movin’\, kind-o-night! BE THERE!!  \nVINYL REVIVAL kicks it off @ 7:00 PM!TASTY WAVE\, TO FOLLOW!! DJ RONNIE SPARKS spinnin’ & tag-teamin’\, throughout!
URL:https://ilovebabylon.com/event/sat-1-17-vinyl-revival-tasty-wave-get-yer-groove-on/
LOCATION:The Warehouse Live Music & Events\, The Warehouse Live Music & Events
END:VEVENT
BEGIN:VEVENT
DTSTART;TZID=America/New_York:20260117T190000
DTEND;TZID=America/New_York:20260117T220000
DTSTAMP:20260419T221755
CREATED:20260115T184455Z
LAST-MODIFIED:20260115T184455Z
UID:10007462-1768676400-1768687200@ilovebabylon.com
SUMMARY:Saturday night with Sea Monster at Bartini
DESCRIPTION:❄️☃️ Bundle Up for a Winter Night with Sea Monster! ☃️❄️ \nGet ready to rock and warm up the winter blues with Sea Monster — live at Bartini in Babylon Village! 🎸🎶🥁🦑🪩 \n🗓️ Saturday\, January 17🕖 Show starts at 7:00 PM📍 Just steps from the Babylon LIRR stop🏍️ MC parking out front🚗 Parking lot behind the venue \nGrab your crew and a drink\, ditch the cold\, and dive into a night of heavy grooves that’ll keep the energy high and the heat on all night long. 🔥❄️🎸🍻🌊🤘 \nTurn up the volume and melt the winter away — see you there! 🎶❄️🔥
URL:https://ilovebabylon.com/event/saturday-night-with-sea-monster-at-bartini-2/
LOCATION:Bartini Bar\, 124 N Carll Ave\, Babylon\, NY\, 11702\, US
END:VEVENT
BEGIN:VEVENT
DTSTART;TZID=America/New_York:20260117T193000
DTEND;TZID=America/New_York:20260117T223000
DTSTAMP:20260419T221755
CREATED:20260115T184459Z
LAST-MODIFIED:20260115T184459Z
UID:10007463-1768678200-1768689000@ilovebabylon.com
SUMMARY:Get Freaky with The Grindhouse Coffee + Cult Cinema
DESCRIPTION:Come get FREAKY with your friends at The Grindhouse Coffee & Cult Cinema!  \nSat\, Jan 17th we’ll be at W.A. Meadwerks for a night of strange cinema and themed cocktails! \nWe’re doing things a bit differently this time which will allow all of us to get to know each other a little better!  \nSo come on down\, have a drink\, watch a couple movies\, and hangout with your fellow freaks
URL:https://ilovebabylon.com/event/get-freaky-with-the-grindhouse-coffee-cult-cinema/
LOCATION:W A Meadwerks\, W A Meadwerks
END:VEVENT
BEGIN:VEVENT
DTSTART;TZID=America/New_York:20260117T200000
DTEND;TZID=America/New_York:20260117T230000
DTSTAMP:20260419T221755
CREATED:20251231T103407Z
LAST-MODIFIED:20260115T184508Z
UID:10007375-1768680000-1768690800@ilovebabylon.com
SUMMARY:Big Time Trouble Rockin' Lindenhurst
DESCRIPTION:Great night of Pure Rock! with special Guests: STONE HOUNDS and NATIVE SONS.
URL:https://ilovebabylon.com/event/big-time-trouble-rockin-lindenhurst/
LOCATION:Village Pub Lindenhurst\, 174 N Wellwood Ave\, Lindenhurst\, NY\, 11757\, US
END:VEVENT
BEGIN:VEVENT
DTSTART;TZID=America/New_York:20260117T200000
DTEND;TZID=America/New_York:20260117T230000
DTSTAMP:20260419T221755
CREATED:20251231T103412Z
LAST-MODIFIED:20260115T184512Z
UID:10007376-1768680000-1768690800@ilovebabylon.com
SUMMARY:The Argyle Theater with Fleetwood Macked and Refugee
DESCRIPTION:Two of the country’s premier tribute bands to Tom Petty and Fleetwood Mac together on one night of amazing music!
URL:https://ilovebabylon.com/event/the-argyle-theater-with-fleetwood-macked-and-refugee/
LOCATION:The Argyle Theatre at Babylon Village
END:VEVENT
END:VCALENDAR