BEGIN:VCALENDAR
VERSION:2.0
PRODID:-//I Love Babylon, NY - ECPv6.15.20//NONSGML v1.0//EN
CALSCALE:GREGORIAN
METHOD:PUBLISH
X-ORIGINAL-URL:https://ilovebabylon.com
X-WR-CALDESC:Events for I Love Babylon, NY
REFRESH-INTERVAL;VALUE=DURATION:PT1H
X-Robots-Tag:noindex
X-PUBLISHED-TTL:PT1H
BEGIN:VTIMEZONE
TZID:America/New_York
BEGIN:DAYLIGHT
TZOFFSETFROM:-0500
TZOFFSETTO:-0400
TZNAME:EDT
DTSTART:20250309T070000
END:DAYLIGHT
BEGIN:STANDARD
TZOFFSETFROM:-0400
TZOFFSETTO:-0500
TZNAME:EST
DTSTART:20251102T060000
END:STANDARD
BEGIN:DAYLIGHT
TZOFFSETFROM:-0500
TZOFFSETTO:-0400
TZNAME:EDT
DTSTART:20260308T070000
END:DAYLIGHT
BEGIN:STANDARD
TZOFFSETFROM:-0400
TZOFFSETTO:-0500
TZNAME:EST
DTSTART:20261101T060000
END:STANDARD
BEGIN:DAYLIGHT
TZOFFSETFROM:-0500
TZOFFSETTO:-0400
TZNAME:EDT
DTSTART:20270314T070000
END:DAYLIGHT
BEGIN:STANDARD
TZOFFSETFROM:-0400
TZOFFSETTO:-0500
TZNAME:EST
DTSTART:20271107T060000
END:STANDARD
END:VTIMEZONE
BEGIN:VEVENT
DTSTART;TZID=America/New_York:20260317T190000
DTEND;TZID=America/New_York:20260317T210000
DTSTAMP:20260419T165837
CREATED:20260226T185020Z
LAST-MODIFIED:20260312T175445Z
UID:10007817-1773774000-1773781200@ilovebabylon.com
SUMMARY:Detox the Mind Through Meditation
DESCRIPTION:Experiencing the Soul Part VI \nThese workshops are Part 6 of a Multi-Part Series entitled Experiencing the Soul.Meditation can be the key that unlocks the inner doorway to a life of deep inner peace. It has been practiced for thousands of years and is the core of all great spiritual traditions. By learning how to “tap inside\,” as Emerson put it\, each of us can mine the unlimited wealth lying dormant inside us. \nPresenter: Andrew Vidich\, PhD \n7-Part Workshop SeriesMissed the last one? No worries – each workshop is designed so you can attend independently. \nDate: Tuesday\, March 17Time: 7 – 9 pm Location: Science of Spirituality Meditation Center79 County Line Road\, Amityville\, NY 11701 \nEvent is free of charge! All are welcome!  \nFor more information contact:Stephanie631-822-7979infotristate@sos.org
URL:https://ilovebabylon.com/event/detox-the-mind-through-meditation-5/
LOCATION:79 County Line Rd\, Amityville\, NY 11701\, 79 County Line Rd\, Amityville\, NY 11701
END:VEVENT
BEGIN:VEVENT
DTSTART;TZID=America/New_York:20260318T070000
DTEND;TZID=America/New_York:20260318T210000
DTSTAMP:20260419T165837
CREATED:20260312T175447Z
LAST-MODIFIED:20260312T175447Z
UID:10007920-1773817200-1773867600@ilovebabylon.com
SUMMARY:Special Election for Village Trustee!
DESCRIPTION:Farmyard fowl\, it’s time to flap those wings and head to the polls.  \nOn Wednesday\, March 18\, the @VillageofBabylon will hold its Special Election for Village Trustee. On the ballot: Better Babylon Party member and Mayor Adams’ appointee Jeff Szabo\, and challenger Jordan Hoffman. \nWhether you roost on the right side of the fence or the left side of the coop\, the important thing is this: use your vote. \nShow up. Speak up. Cast that ballot. The coop is counting on you
URL:https://ilovebabylon.com/event/special-election-for-village-trustee/
LOCATION:Village Hall 153 West Main Street\, Babylon\, NY\, Village Hall 153 West Main Street\, Babylon\, NY
END:VEVENT
BEGIN:VEVENT
DTSTART;TZID=America/New_York:20260318T113000
DTEND;TZID=America/New_York:20260318T130000
DTSTAMP:20260419T165837
CREATED:20260312T175452Z
LAST-MODIFIED:20260312T175452Z
UID:10007921-1773833400-1773838800@ilovebabylon.com
SUMMARY:Monthly Book Club with Monica & Jackie
DESCRIPTION:All About Love: New Visions by Bell Hooks Wednesday\, March 18 11:30AM-2:00PM \n“The word ‘love’ is most often defined as a noun\, yet we would all love better if we used it as a verb\,” writes bell hooks as she comes out fighting and on fire in All About Love. Provocative and intensely personal\, renowned scholar\, cultural critic and feminist bell hooks offers a proactive new ethic for a society stricken with lovelessness—not the lack of romance\, but the lack of care\, compassion\, and unity. People are divided\, she declares\, by society’s failure to provide a model for learning to love.” \n“In this landmark book\, bell hooks explores the question “What is love?” Her answers strike at both the mind and heart. Disputing that the ideal love is infused with sex and desire\, she provides a new path to love that is sacred\, redemptive\, and healing for individuals and for a nation. All About Love is a powerful\, timely affirmation of just how profoundly love and community can change hearts and minds for the better.”
URL:https://ilovebabylon.com/event/monthly-book-club-with-monica-jackie/
LOCATION:107 E Main St\, Babylon\, NY\, 107 E Main St\, Babylon\, NY
END:VEVENT
BEGIN:VEVENT
DTSTART;TZID=America/New_York:20260318T150000
DTEND;TZID=America/New_York:20260318T180000
DTSTAMP:20260419T165837
CREATED:20260312T175455Z
LAST-MODIFIED:20260312T175455Z
UID:10007922-1773846000-1773856800@ilovebabylon.com
SUMMARY:Prioritize You! Spring Refresh for Vibrant Body\, Mind & Spirit with Linda & Jackie
DESCRIPTION:Wednesdays March 18\, 25\, April 1 & 83:00PM-4:30PM$100 Full Series $30 Per Session  \nLet’s make the conscious choice to care for our bodies with intention and compassion. In this workshop series\, Linda will guide you through a step‑by‑step process to reconnect with your physical well‑being\, understand what your body truly needs\, and make healthier choices in everyday life. Light Movement\, meditation and journaling will be part of this workshop. Please bring a journal. \nThroughout our time together\, we will explore: \n• Ayurvedic approaches to food \n• Food as medicine \n• Everyday food habits \n• Breaking old patterns \n• Smart shopping basics \n• Understanding common food challenges \n• The truth about sugar \n• How the body works \n• Vitamins and essential nutrients \n• Caring for your pantry and fridge \n• Meals and beverages that support better health
URL:https://ilovebabylon.com/event/prioritize-you-spring-refresh-for-vibrant-body-mind-spirit-with-linda-jackie/
LOCATION:107 E Main St\, Babylon\, NY\, 107 E Main St\, Babylon\, NY
END:VEVENT
BEGIN:VEVENT
DTSTART;TZID=America/New_York:20260318T160000
DTEND;TZID=America/New_York:20260318T190000
DTSTAMP:20260419T165837
CREATED:20260226T185023Z
LAST-MODIFIED:20260312T175457Z
UID:10007818-1773849600-1773860400@ilovebabylon.com
SUMMARY:Mid-week Lenten Service
DESCRIPTION:Beatitudes of Promise – A Worship Series for LentJoin us for a special series for Lent called “Beatitudes of Promise.” This series focuses on the promises made by Jesus in the beloved words of blessing from his Sermon on the Mount\, applying these messages to our Lenten journey at our 4 PM and 7:30 PM services for Lent with communion.
URL:https://ilovebabylon.com/event/mid-week-lenten-service-2/
LOCATION:St. Paul’s Lutheran Church Amityville\, NY\, 147 Park Ave\, Amityville\, NY\, 11701\, US
END:VEVENT
BEGIN:VEVENT
DTSTART;TZID=America/New_York:20260318T170000
DTEND;TZID=America/New_York:20260318T200000
DTSTAMP:20260419T165837
CREATED:20260301T075351Z
LAST-MODIFIED:20260312T175459Z
UID:10007882-1773853200-1773864000@ilovebabylon.com
SUMMARY:Messy Church - Easter Surprise!
DESCRIPTION:Family-friendly Messy Church with dinner\, praise band\, worship\, and hands-on crafts as we explore the Easter story together. \nJoin us for a joyful\, family-friendly Messy Church experience as we celebrate the good news of Easter in creative and meaningful ways! Our “Easter Surprise” session invites kids\, parents\, grandparents\, and everyone in between to explore the story of Jesus’ death and resurrection through hands-on crafts\, interactive activities\, music\, and worship. \nWe’ll share a simple meal together\, enjoy praise music led by our band\, and close with a short\, engaging worship time that brings the Easter story to life in a way that’s fun\, welcoming\, and accessible for all ages. No prior church experience needed—just come as you are and be ready for a little holy mess! \n🗓 Tuesday\, March 18🕕 6:00–7:30 PM🍽 Dinner provided🎶 Praise band & worship🎨 Crafts & activities for all ages💛 A freewill offering will be received to support our ministry \nMessy Church is all about faith\, food\, creativity\, and community. Come experience the joy of Easter together—surprises included!
URL:https://ilovebabylon.com/event/messy-church-easter-surprise/
LOCATION:21 James St\, Babylon\, NY\, United States\, New York 11702\, 21 James St\, Babylon\, NY\, United States\, New York 11702
CATEGORIES:Music
END:VEVENT
BEGIN:VEVENT
DTSTART;TZID=America/New_York:20260318T181500
DTEND;TZID=America/New_York:20260318T203000
DTSTAMP:20260419T165837
CREATED:20260226T185025Z
LAST-MODIFIED:20260312T175502Z
UID:10007819-1773857700-1773865800@ilovebabylon.com
SUMMARY:Mid-week Lenten Dinner & Service
DESCRIPTION:Beatitudes of Promise – A Worship Series for LentJoin us for a special series for Lent called “Beatitudes of Promise.” This series focuses on the promises made by Jesus in the beloved words of blessing from his Sermon on the Mount\, applying these messages to our Lenten journey at our 4 PM and 7:30 PM services for Lent with communion. \nIf you are attending dinners before 7:30 pm service\, then please sign up in the Narthex. Dinner is at 6:15 pmWe will be Italian Night
URL:https://ilovebabylon.com/event/mid-week-lenten-dinner-service/
LOCATION:St. Paul’s Lutheran Church Amityville\, NY\, 147 Park Ave\, Amityville\, NY\, 11701\, US
END:VEVENT
BEGIN:VEVENT
DTSTART;TZID=America/New_York:20260318T183000
DTEND;TZID=America/New_York:20260318T213000
DTSTAMP:20260419T165837
CREATED:20260312T175507Z
LAST-MODIFIED:20260312T175507Z
UID:10007923-1773858600-1773869400@ilovebabylon.com
SUMMARY:Half Step - Grateful Dead Tribute at The Warehouse
DESCRIPTION:Half Step – Grateful Dead Tribute at The Warehouse \nWednesday March 18\, 2026 \nHalf Step – Playing the Music of Grateful Dead and More \nTickets available at: www.thewarehouseli.com/calendar \nWalk-ins welcome \nDoors 6:30pm
URL:https://ilovebabylon.com/event/half-step-grateful-dead-tribute-at-the-warehouse/
LOCATION:The Warehouse Live Music & Events\, The Warehouse Live Music & Events
END:VEVENT
BEGIN:VEVENT
DTSTART;TZID=America/New_York:20260318T183000
DTEND;TZID=America/New_York:20260318T213000
DTSTAMP:20260419T165837
CREATED:20260226T185027Z
LAST-MODIFIED:20260312T175504Z
UID:10007820-1773858600-1773869400@ilovebabylon.com
SUMMARY:Mosaic Sea Glass Tray Craft Workshop-Lindenhurst HS NAHS at Hurricane Grill in Lindenhurst
DESCRIPTION:Join us for a fun evening of crafting at Hurricane Grill & Wings in Lindenhurst to benefit NAHS of Lindenhurst HS. All are welcome!  \nSea Glass mosaics trays.$40-$65 Round\, rectangle or square. Includes Tray & all craft supplies. Choose a design or freestyle it.Rectangle: 12” 14” 16”Round: 10” 12”Square: 10″ \nPlease note a food/Bev purchase is required for this event. We will be crafting first hour & then dining.To dine before the event please arrive early.  \nPLEASE REGISTER EACH PERSON SEPERATELY \nNo refunds will be given\, if you cannot attend your supplies will be packaged as a To Go kit.
URL:https://ilovebabylon.com/event/mosaic-sea-glass-tray-craft-workshop-lindenhurst-hs-nahs-at-hurricane-grill-in-lindenhurst/
LOCATION:Hurricane Grill & Wings\, 127 East Montauk Highway\, Lindenhurst\, NY\, 11757\, US
CATEGORIES:Arts and Crafts
END:VEVENT
BEGIN:VEVENT
DTSTART;TZID=America/New_York:20260318T190000
DTEND;TZID=America/New_York:20260318T203000
DTSTAMP:20260419T165837
CREATED:20260226T185029Z
LAST-MODIFIED:20260312T175509Z
UID:10007821-1773860400-1773865800@ilovebabylon.com
SUMMARY:Modern Calligraphy for Beginners at WA Meadwerks
DESCRIPTION:Join Sip & ScriptⓇ for Modern Calligraphy Fun! \nJoin us at W A Meadwerks in Lindenhurst\, NY for pretty lettering! Whether you’re a stationery nerd\, DIY Bride-to-be\, or just a crafty individual\, you’ll be introduced to modern calligraphy with a pointed dip pen and ink in this workshop. We will cover all the basics and prepare you to add those unique lettered details to your snail mail\, wedding paper goods\, home decor\, and more! The perfect crafty night out! \nClass includes 1.5 hours of instruction and demonstration\, our beginner’s calligraphy kit (two nibs\, black ink pot\, 2 letter guides\, tracing paper\, and straight pen holder)\, and all materials to write on. Everything is yours to keep at the end of the workshop!
URL:https://ilovebabylon.com/event/modern-calligraphy-for-beginners-at-wa-meadwerks/
LOCATION:Online Event\, West Babylon\, NY\, US
CATEGORIES:Arts and Crafts
END:VEVENT
BEGIN:VEVENT
DTSTART;TZID=America/New_York:20260318T190000
DTEND;TZID=America/New_York:20260318T210000
DTSTAMP:20260419T165837
CREATED:20260226T185033Z
LAST-MODIFIED:20260312T175511Z
UID:10007822-1773860400-1773867600@ilovebabylon.com
SUMMARY:Push with Confidence
DESCRIPTION:Learn all about the second stage of birth\, what you can do to increase your chances of a vaginal birth\, decrease your risk of tearing\, practice breathing techniques\, positions\, and exercises to prepare you for pushing.
URL:https://ilovebabylon.com/event/push-with-confidence/
LOCATION:2 Dubon Court\, Farmingdale\, NY\, United States\, New York 11735\, 2 Dubon Court\, Farmingdale\, NY\, United States\, New York 11735
END:VEVENT
BEGIN:VEVENT
DTSTART;TZID=America/New_York:20260319T073000
DTEND;TZID=America/New_York:20260319T103000
DTSTAMP:20260419T165837
CREATED:20260226T185035Z
LAST-MODIFIED:20260312T175514Z
UID:10007823-1773905400-1773916200@ilovebabylon.com
SUMMARY:OAAR's 10th Annniversary Gala Celebration
DESCRIPTION:✨ OUR EARLY BIRD SPECIAL IS LIVE! ✨ \nA decade of second chances deserves a celebration like no other. Our 10th Anniversary Gala is coming – and trust us\, you want to be there. Grab your tickets now through December 31st to save big! Prices go up 1/1/26.  \nJoin us Thursday\, March 19th\, from 7:30–11:30 PM at The Piermont in Bay Shore. The night includes a fabulous cocktail hour\, top-shelf open bar\, sit-down dinner\, dessert\, silent & live auctions\, honorary guests\, and so much more. \nIndividual Tickets: $135 ($155 as of 1/1)Reserved Table of 10: $1250 ($1400 as of 1/1) \nVENMO: @olliesgalaPAYPAL: mailto:Info@OlliesAngels.orgZELLE: Please PM for info \nPlease include your name and phone number with payment.
URL:https://ilovebabylon.com/event/oaars-10th-annniversary-gala-celebration/
LOCATION:The Piermont\, The Piermont
END:VEVENT
BEGIN:VEVENT
DTSTART;TZID=America/New_York:20260319T163000
DTEND;TZID=America/New_York:20260319T180000
DTSTAMP:20260419T165837
CREATED:20260226T185037Z
LAST-MODIFIED:20260312T175516Z
UID:10007824-1773937800-1773943200@ilovebabylon.com
SUMMARY:St. Patrick's Day | Community Sit-Down Dinner
DESCRIPTION:Join us for a community sit-down dinner in celebration of St. Patrick’s day!
URL:https://ilovebabylon.com/event/st-patricks-day-community-sit-down-dinner/
LOCATION:79 East Main Street\, Babylon\, NY\, United States\, New York 11702\, 79 East Main Street\, Babylon\, NY\, United States\, New York 11702
END:VEVENT
BEGIN:VEVENT
DTSTART;TZID=America/New_York:20260319T180000
DTEND;TZID=America/New_York:20260319T200000
DTSTAMP:20260419T165837
CREATED:20260312T175518Z
LAST-MODIFIED:20260312T175518Z
UID:10007924-1773943200-1773950400@ilovebabylon.com
SUMMARY:🎉 Dine for a Cause at Texas Roadhouse! 🎉
DESCRIPTION:Join us from 6:00–8:00 PM at Texas Roadhouse for a special night of food\, fun\, and giving back! ❤️ \nDuring this time\, 10% of all proceeds will be donated to Make-A-Wish Foundation to help grant life-changing wishes for children in need. \n✨ All attendees will receive bracelets so everyone knows you’re there supporting this amazing cause! \n🎟️ Plus\, don’t miss your chance to win some incredible raffle prizes\, including:🏒 New York Rangers memorabilia🎁 And more exciting items! \nBring your friends and family\, enjoy a great meal\, and help make wishes come true. We can’t wait to see you there!
URL:https://ilovebabylon.com/event/%f0%9f%8e%89-dine-for-a-cause-at-texas-roadhouse-%f0%9f%8e%89/
LOCATION:502 Commack Rd\, Deer Park\, NY 11729-3804\, United States\, 502 Commack Rd\, Deer Park\, NY 11729-3804\, United States
END:VEVENT
BEGIN:VEVENT
DTSTART;TZID=America/New_York:20260319T180000
DTEND;TZID=America/New_York:20260319T210000
DTSTAMP:20260419T165837
CREATED:20260312T175523Z
LAST-MODIFIED:20260312T175523Z
UID:10007925-1773943200-1773954000@ilovebabylon.com
SUMMARY:Mix Mingle & Meet
DESCRIPTION:Get Ready to Mix & Mingle! \nBabylon Pride is back with our monthly social\, and we’re heading to the heart of the village! Whether you’re a regular or joining us for the first time\, this is the perfect spot to connect with the community in a relaxed\, stylish setting. \n�When: Thursday\, March 19th� Time: 6:00 PM – 9:00 PM� Where: Barrique Kitchen & Wine Bar\, Babylon Village \nCome for the incredible wine and tapas\, stay for the even better company. We’re extending our happy hour just for you! Join us in Babylon for a night dedicated to celebrating community\, connection\, and great conversation. \n#babylon #babylonvillage #longisland #lgbtq
URL:https://ilovebabylon.com/event/mix-mingle-meet-2/
LOCATION:Barrique Kitchen & Wine Bar\, Barrique Kitchen & Wine Bar
END:VEVENT
BEGIN:VEVENT
DTSTART;TZID=America/New_York:20260319T180000
DTEND;TZID=America/New_York:20260319T210000
DTSTAMP:20260419T165837
CREATED:20260312T175528Z
LAST-MODIFIED:20260312T175528Z
UID:10007926-1773943200-1773954000@ilovebabylon.com
SUMMARY:SOPHIA ITALIAN BISTRO
DESCRIPTION:Live music in Amityville!Dinner & Dance
URL:https://ilovebabylon.com/event/sophia-italian-bistro-5/
LOCATION:Sophia Italian Bistro\, 71 Merrick Rd\, Amityville\, NY\, 11701\, US
END:VEVENT
BEGIN:VEVENT
DTSTART;TZID=America/New_York:20260319T190000
DTEND;TZID=America/New_York:20260319T220000
DTSTAMP:20260419T165837
CREATED:20260226T185039Z
LAST-MODIFIED:20260312T175530Z
UID:10007825-1773946800-1773957600@ilovebabylon.com
SUMMARY:Playin' English Back at the Warehouse!
DESCRIPTION:Join us for an evening of Squeeze\, Joe Jackson\, Elvis Costello\, Tears for Fears and more!
URL:https://ilovebabylon.com/event/playin-english-back-at-the-warehouse/
LOCATION:The Warehouse Live Music & Events\, The Warehouse Live Music & Events
END:VEVENT
BEGIN:VEVENT
DTSTART;TZID=America/New_York:20260320T100000
DTEND;TZID=America/New_York:20260320T180000
DTSTAMP:20260419T165837
CREATED:20260312T175532Z
LAST-MODIFIED:20260312T175532Z
UID:10007927-1774000800-1774029600@ilovebabylon.com
SUMMARY:Opening Day at The Adventure Park
DESCRIPTION:Adventure season is back! 🌲⚡ We’re kicking things off on Friday\, March 20\, and it’s time to climb higher\, zip faster\, and make some unforgettable memories. \nMark your calendar\, rally your crew\, and get ready for another incredible season in the trees. We’ll see you up there!
URL:https://ilovebabylon.com/event/opening-day-at-the-adventure-park/
LOCATION:75 Colonial Springs Rd\, East Gate\, Wheatley Heights\, NY\, United States\, New York 11798\, 75 Colonial Springs Rd\, East Gate\, Wheatley Heights\, NY\, United States\, New York 11798
END:VEVENT
BEGIN:VEVENT
DTSTART;TZID=America/New_York:20260320T180000
DTEND;TZID=America/New_York:20260320T210000
DTSTAMP:20260419T165837
CREATED:20260226T185041Z
LAST-MODIFIED:20260312T175535Z
UID:10007826-1774029600-1774040400@ilovebabylon.com
SUMMARY:Bangers and Mash Gig
DESCRIPTION:We are back for parade weekend in Lindenhurst. The Village Lanterne is a great German restaurant with awesome German beer and food. The perfect spot for Celtic Insanity
URL:https://ilovebabylon.com/event/bangers-and-mash-gig/
LOCATION:The Village Lanterne Restaurant\, The Village Lanterne Restaurant
END:VEVENT
BEGIN:VEVENT
DTSTART;TZID=America/New_York:20260320T180000
DTEND;TZID=America/New_York:20260320T210000
DTSTAMP:20260419T165837
CREATED:20260226T185045Z
LAST-MODIFIED:20260312T175537Z
UID:10007827-1774029600-1774040400@ilovebabylon.com
SUMMARY:Biohazard\, Merauder\, Stout\, Shattered Realm\, Frothing Mad\, Top Of The World @ AMH
DESCRIPTION:Friday March 20th 2026 \nBiohazardMerauderStoutShattered RealmFrothing MadTop of The World \n@ AMH198 Broadway\, Amityville NY \n$35 ADV / $40 DOS6 PMUnder 16 w/ parent / legal guardianPurchase Tickets: https://www.etix.com/ticket/servlet/s/38221687
URL:https://ilovebabylon.com/event/biohazard-merauder-stout-shattered-realm-frothing-mad-top-of-the-world-amh/
LOCATION:198 Broadway Amityville\, NY 11701-2727\, 198 Broadway Amityville\, NY 11701-2727
END:VEVENT
BEGIN:VEVENT
DTSTART;TZID=America/New_York:20260320T180000
DTEND;TZID=America/New_York:20260320T210000
DTSTAMP:20260419T165837
CREATED:20260226T185047Z
LAST-MODIFIED:20260312T175539Z
UID:10007828-1774029600-1774040400@ilovebabylon.com
SUMMARY:Tres Palms Happy Hour!
DESCRIPTION:.
URL:https://ilovebabylon.com/event/tres-palms-happy-hour/
LOCATION:Tres Palms\, 16 East Ct\, Babylon\, NY\, 11702\, US
END:VEVENT
BEGIN:VEVENT
DTSTART;TZID=America/New_York:20260320T183000
DTEND;TZID=America/New_York:20260320T213000
DTSTAMP:20260419T165837
CREATED:20260312T175544Z
LAST-MODIFIED:20260312T175544Z
UID:10007928-1774031400-1774042200@ilovebabylon.com
SUMMARY:Acoustic Rewind - Rockin' Cebollines!
DESCRIPTION:Dinner and music at an amazing venue!
URL:https://ilovebabylon.com/event/acoustic-rewind-rockin-cebollines/
LOCATION:Cebollines Grill\, 170 E Montauk hwy\, Lindenhurst\, NY\, 11757\, US
END:VEVENT
BEGIN:VEVENT
DTSTART;TZID=America/New_York:20260320T183000
DTEND;TZID=America/New_York:20260320T213000
DTSTAMP:20260419T165837
CREATED:20260226T185049Z
LAST-MODIFIED:20260312T175542Z
UID:10007829-1774031400-1774042200@ilovebabylon.com
SUMMARY:Bulldog Basket Bash
DESCRIPTION:Friday\, March 20\, 2026Fireman’s PavilionDoors Open at 6:30pm; Drawings Start at 8:00pm$10 admission includes 1 sheet of Level 1 tickets \nHundreds of baskets and prizes available! \nTickets (Pre Sale)Level 1 tickets: 3 sheets of 25 tickets for $20Level 2 tickets: 3 sheets of 25 tickets for $30Level 3 tickets: 5 tickets for $20MUST ORDER BY MARCH 1ST \nTickets (Regular Price)Level 1: $10/sheetLevel 2: $15/sheetLevel 3: $5 each \nAdults Only – Drinks\, Snacks and additional tickets will be sold \nFor more information or to pre order tickets contact: Dorothy Ramirez at 917-834-0246 BulldogBash@AlbanyPTALindenhurst.com
URL:https://ilovebabylon.com/event/bulldog-basket-bash/
LOCATION:Fireman’s Pavilion\, 555 Heiling Boulevard\, Lindenhurst\, NY\, 11757\, US
END:VEVENT
BEGIN:VEVENT
DTSTART;TZID=America/New_York:20260320T190000
DTEND;TZID=America/New_York:20260320T220000
DTSTAMP:20260419T165837
CREATED:20260312T175557Z
LAST-MODIFIED:20260312T175557Z
UID:10007929-1774033200-1774044000@ilovebabylon.com
SUMMARY:Thank You - That’s All - The Art of Accepting a Compliment
DESCRIPTION:https://www.westdooryoga.com/event-details/a-powerful-evening-for-women-to-connect-1Thank You\, That’s All: The Art of Accepting a ComplimentHave you ever received a compliment and deflected it with\,“Oh this old thing?”Then thought\,Wait… why do I do that?Join us and find out why.Women’s CircleWest Door Yoga + Wellness | Bay Shore
URL:https://ilovebabylon.com/event/thank-you-thats-all-the-art-of-accepting-a-compliment/
LOCATION:Babylon \, New York
END:VEVENT
BEGIN:VEVENT
DTSTART;TZID=America/New_York:20260320T190000
DTEND;TZID=America/New_York:20260320T220000
DTSTAMP:20260419T165837
CREATED:20260226T185053Z
LAST-MODIFIED:20260312T175546Z
UID:10007830-1774033200-1774044000@ilovebabylon.com
SUMMARY:Acupuncture & Yoga
DESCRIPTION:Give yourself the gift of true rest. This special class combines the gentle\, supportive postures of restorative yoga with the grounding\, healing benefits of acupuncture. \nWe’ll begin with restorative yoga\, using props to fully support the body so you can melt into deep relaxation. Once the body and mind are at ease\, you’ll receive a calming acupuncture treatment designed to release tension\, balance energy\, and encourage the nervous system to reset. \nBenefits include: \n•Relieving stress + anxiety \n•Supporting deeper sleep \n•Calming the nervous system \n•Promoting physical + emotional balance \nThis is a powerful opportunity to pause\, reset\, and restore — leaving you feeling lighter\, calmer\, and deeply nourished. \n$50 per person
URL:https://ilovebabylon.com/event/acupuncture-yoga/
LOCATION:2 Dubon Court\, Farmingdale\, NY\, United States\, New York 11735\, 2 Dubon Court\, Farmingdale\, NY\, United States\, New York 11735
END:VEVENT
BEGIN:VEVENT
DTSTART;TZID=America/New_York:20260320T190000
DTEND;TZID=America/New_York:20260320T220000
DTSTAMP:20260419T165837
CREATED:20260301T075441Z
LAST-MODIFIED:20260312T175553Z
UID:10007883-1774033200-1774044000@ilovebabylon.com
SUMMARY:7th Annual Parent’s Night Out
DESCRIPTION:Parent’s Night Out supports the South Huntington Youth Lacrosse Program\, raising funds to award scholarships annually and offer low to no cost positional training programs\, all while keeping the sport of lacrosse accessible in our community.
URL:https://ilovebabylon.com/event/7th-annual-parents-night-out/
LOCATION:The Main Event NY\, 1815 Broadhollow Rd Ste 6\, Farmingdale\, NY\, 11735\, US
END:VEVENT
BEGIN:VEVENT
DTSTART;TZID=America/New_York:20260320T190000
DTEND;TZID=America/New_York:20260321T010000
DTSTAMP:20260419T165837
CREATED:20260226T185055Z
LAST-MODIFIED:20260312T175551Z
UID:10007831-1774033200-1774054800@ilovebabylon.com
SUMMARY:Decadia + DJ MDW @ THE WAREHOUSE LI
DESCRIPTION:Now that the blizzard of 2026 is behind us\, let’s make some room for one of the hottest bands on Long Island Decadia to rattle your boots. I will be throwing down your favorite party joints The Warehouse Live Music & Events #decadia #djmdw #theearehouse #power787radio
URL:https://ilovebabylon.com/event/decadia-dj-mdw-the-warehouse-li/
LOCATION:The Warehouse Live Music & Events\, The Warehouse Live Music & Events
CATEGORIES:Music
END:VEVENT
BEGIN:VEVENT
DTSTART;TZID=America/New_York:20260320T200000
DTEND;TZID=America/New_York:20260320T230000
DTSTAMP:20260419T165837
CREATED:20260301T075449Z
LAST-MODIFIED:20260312T175602Z
UID:10007884-1774036800-1774047600@ilovebabylon.com
SUMMARY:LIR Dance Party | Depeche Mode ft DJ Andre
DESCRIPTION:Mark your calendars for @theworldfamouslir !@andreferroradio returns to The Other Room for our Friday Night Dance Party @depechemode style 🕺🏻
URL:https://ilovebabylon.com/event/lir-dance-party-depeche-mode-ft-dj-andre/
LOCATION:The Other Room\, The Other Room
END:VEVENT
BEGIN:VEVENT
DTSTART;TZID=America/New_York:20260320T210000
DTEND;TZID=America/New_York:20260321T000000
DTSTAMP:20260419T165837
CREATED:20260312T175607Z
LAST-MODIFIED:20260312T175607Z
UID:10007930-1774040400-1774051200@ilovebabylon.com
SUMMARY:The Mixx Up @ The Coop
DESCRIPTION:🎶 The Mixx Up LIVE at The Coop 🎶 \nKick off your Friday night with The Mixx Up as we bring high-energy live music to The Coop in Farmingdale. \n📅 Friday\, March 20⏰ 9:00 PM📍 The Coop – Farmingdale\, NY \nExpect big sing-alongs\, a lively crowd\, and nonstop vibes all night. Grab a drink\, bring your friends\, and start the weekend right. \n🍗 Live Music • Cold Drinks • Friday Night Energy💵 No cover (adjust if needed) \nClick Interested or Going\, invite your crew\, and we’ll see you there 🎸🔥
URL:https://ilovebabylon.com/event/the-mixx-up-the-coop/
LOCATION:Online Event\, West Babylon\, NY\, US
END:VEVENT
BEGIN:VEVENT
DTSTART;TZID=America/New_York:20260320T210000
DTEND;TZID=America/New_York:20260321T000000
DTSTAMP:20260419T165837
CREATED:20260226T185057Z
LAST-MODIFIED:20260312T175612Z
UID:10007832-1774040400-1774051200@ilovebabylon.com
SUMMARY:Old School Classic Rock @ RipTides Cocktails & Grill\, 168 E. Montauk Highway\, Lindenhurst\, NY
DESCRIPTION:60’s\, 70’s & 80’s: Van Halen\, Talking Heads\, Cars\,ZZ Top\, Elvis Costello\, Rainbow\, Marshall Tucker\,Queen\, Stevie Ray Vaughan\, Eddie Money\, Kinks\,Cheap Trick\, Golden Earring\, Allman Bros.\, C.C.R.\,Who\, Doors\, Jethro Tull\, Cream\, Pink Floyd\, Beatles\,Lynyrd Skynyrd\, Stones\, Santana\, Bad Co.\, Thin Lizzy\,Led Zeppelin\, Jimi Hendrix\, Deep Purple\, Judas Priest\,Black Sabbath\, Motorhead & Much More. \nFeaturing:Keyboardist\, Paul Morris\, X-Member of: Rainbow/T.S.O. (Trans-Siberian Orchestra) Yngwie Malmsteen.X-Rainbow/Blackmore’s Night\, Background SingerScott Hazell-Lead Vocals/Flute/Percussion/SoundBert Berner-Lead Guitar/Backing VocalsRich Cavalier-Bass Guitar/Backing VocalsJohn Siragusa-Drums/Backing Vocals
URL:https://ilovebabylon.com/event/old-school-classic-rock-riptides-cocktails-grill-168-e-montauk-highway-lindenhurst-ny/
LOCATION:RipTides Cocktails and Grill\, 168 East Montauk Highway\, Lindenhurst\, NY\, 11757\, US
END:VEVENT
END:VCALENDAR