BEGIN:VCALENDAR
VERSION:2.0
PRODID:-//I Love Babylon, NY - ECPv6.15.20//NONSGML v1.0//EN
CALSCALE:GREGORIAN
METHOD:PUBLISH
X-ORIGINAL-URL:https://ilovebabylon.com
X-WR-CALDESC:Events for I Love Babylon, NY
REFRESH-INTERVAL;VALUE=DURATION:PT1H
X-Robots-Tag:noindex
X-PUBLISHED-TTL:PT1H
BEGIN:VTIMEZONE
TZID:America/New_York
BEGIN:DAYLIGHT
TZOFFSETFROM:-0500
TZOFFSETTO:-0400
TZNAME:EDT
DTSTART:20250309T070000
END:DAYLIGHT
BEGIN:STANDARD
TZOFFSETFROM:-0400
TZOFFSETTO:-0500
TZNAME:EST
DTSTART:20251102T060000
END:STANDARD
BEGIN:DAYLIGHT
TZOFFSETFROM:-0500
TZOFFSETTO:-0400
TZNAME:EDT
DTSTART:20260308T070000
END:DAYLIGHT
BEGIN:STANDARD
TZOFFSETFROM:-0400
TZOFFSETTO:-0500
TZNAME:EST
DTSTART:20261101T060000
END:STANDARD
BEGIN:DAYLIGHT
TZOFFSETFROM:-0500
TZOFFSETTO:-0400
TZNAME:EDT
DTSTART:20270314T070000
END:DAYLIGHT
BEGIN:STANDARD
TZOFFSETFROM:-0400
TZOFFSETTO:-0500
TZNAME:EST
DTSTART:20271107T060000
END:STANDARD
END:VTIMEZONE
BEGIN:VEVENT
DTSTART;TZID=America/New_York:20260425T140000
DTEND;TZID=America/New_York:20260425T160000
DTSTAMP:20260420T231738
CREATED:20260331T231840Z
LAST-MODIFIED:20260420T202021Z
UID:10008127-1777125600-1777132800@ilovebabylon.com
SUMMARY:Sean Goodwin Day
DESCRIPTION:The Babylon Beautification Society\, the Village of Babylon\, and the Village of Babylon Historical & Preservation Society are honored to present Sean Goodwin Day. \nJoin us as we celebrate the life and legacy of Sean Goodwin\, a beloved member of our community who dedicated so much to our village. \nThe event will be held at The Nathaniel Conklin House on Saturday\, April 25\, 2026\, from 2:00 PM to 4:00 PM. \nComplimentary light food and refreshments will be served. \nThis is a family event and is open to the public.The event will be held rain or shine.
URL:https://ilovebabylon.com/event/sean-goodwin-day/
LOCATION:Nathaniel Conklin House\, Nathaniel Conklin House
END:VEVENT
BEGIN:VEVENT
DTSTART;TZID=America/New_York:20260425T140000
DTEND;TZID=America/New_York:20260425T160000
DTSTAMP:20260420T231738
CREATED:20260420T202025Z
LAST-MODIFIED:20260420T202025Z
UID:10008287-1777125600-1777132800@ilovebabylon.com
SUMMARY:Sean Goodwin Day in the Village of Babylon
DESCRIPTION:The Babylon Beautification Society\, the Village of Babylon\, and the Village of Babylon Historical & Preservation Society are honored to present Sean Goodwin Day. \nJoin us as we celebrate the life and legacy of Trustee Sean Goodwin\, a beloved member of our community who dedicated so much to our village. \nThe event will be held at The Nathaniel Conklin House on Saturday\, April 25\, 2026\, from 2:00 PM to 4:00 PM. \nComplimentary light food and refreshments will be served.This is a family event and is open to the public. The event will be held rain or shine.
URL:https://ilovebabylon.com/event/sean-goodwin-day-in-the-village-of-babylon/
LOCATION:Nathaniel Conklin House\, 280 Deer Park Avenue\, Nathaniel Conklin House\, 280 Deer Park Avenue
END:VEVENT
BEGIN:VEVENT
DTSTART;TZID=America/New_York:20260425T150000
DTEND;TZID=America/New_York:20260425T170000
DTSTAMP:20260420T231738
CREATED:20260323T124606Z
LAST-MODIFIED:20260420T202030Z
UID:10008043-1777129200-1777136400@ilovebabylon.com
SUMMARY:Water Safety Splash & Learn - Saf-T-Swim Deer Park\, NY
DESCRIPTION:Mark your calendar for Water Safety Splash & Learn at Saf-T-Swim Deer Park on Saturday April 25th. \nSummer is right around the corner & water safety is top of mind for every parent. Join us for a free\, family-friendly event designed to help swimmers of all ages build confidence\, learn essential water safety skills\, and head into the season prepared. \nThis event brings water safety to life through hands-on demonstrations\, expert instructor guidance\, and kid-friendly activities that reinforce the most important rules for staying safer in and around the water. It’s a great opportunity for new families exploring swim lessons and current families wanting to strengthen skills before summer. \nYou’ll also meet local safety partners\, from fire departments to EMS teams to community organizations\, who share our commitment to helping families prevent water emergencies. \nWhether your swimmer is brand new\, building confidence\, or preparing for more advanced technique\, this event helps your family start the season safer\, stronger\, and more prepared. \n– Date: Saturday\, April 25th\, 2026– Time: 3-5 PM EST– Location: Saf-T-Swim New Hyde Park– Cost: Free and open to the public! \nWhat to Expect– Live water-safety demonstrations with our certified instructors– Safety briefings & tips for parents– Water-safety crafts and kid-friendly activities– Free swim evaluations to find the best level for your swimmer– Warm-water open-swim time (supervised)– Community partner tables (EMS\, fire\, local safety organizations)– Staff available for tours\, level recommendations\, and enrollment support– Bring another family; if they enroll\, you both get a $50 credit \nNew to Saf-T-Swim?At Saf-T-Swim\, we teach more than swim strokes — we teach life-saving skills and lifelong water confidence. Our certified instructors use a proven\, progressive curriculum that supports swimmers of all ages and abilities\, from toddlers to teens to adults. \nDuring our water safety event\, we reinforce the safety principles at the heart of everything we do\, ensuring families feel prepared\, reassured\, and confident heading into summer. Whether you’re exploring lessons for the first time or looking to accelerate progress before pool season\, our team is here to help you get started. \nHave questions?Email us at deer-park-ny@saf-t-swim.com or call 631-254-4025.
URL:https://ilovebabylon.com/event/water-safety-splash-learn-saf-t-swim-deer-park-ny/
LOCATION:1015 Grand Boulevard\, Deer Park\, NY\, United States\, New York 11729\, 1015 Grand Boulevard\, Deer Park\, NY\, United States\, New York 11729
END:VEVENT
BEGIN:VEVENT
DTSTART;TZID=America/New_York:20260425T150000
DTEND;TZID=America/New_York:20260425T180000
DTSTAMP:20260420T231738
CREATED:20260420T202033Z
LAST-MODIFIED:20260420T202033Z
UID:10008288-1777129200-1777140000@ilovebabylon.com
SUMMARY:Kite Festival
DESCRIPTION:Come by to see us at the annual Kite Festival in Babylon! �������
URL:https://ilovebabylon.com/event/kite-festival/
LOCATION:Babylon\, New York\, Babylon\, NY\, US
END:VEVENT
BEGIN:VEVENT
DTSTART;TZID=America/New_York:20260425T170000
DTEND;TZID=America/New_York:20260425T190000
DTSTAMP:20260420T231738
CREATED:20260420T200734Z
LAST-MODIFIED:20260420T200734Z
UID:10008263-1777136400-1777143600@ilovebabylon.com
SUMMARY:Saturday Soirée
DESCRIPTION:Step into the weekend at Saturday Soirée at Lionz Den in Lindenhurst! Enjoy an exciting happy hour from 5–7 PM featuring great drink specials and delicious bites. Stick around as the night heats up with a DJ spinning starting at 10 PM. Whether you’re out with friends or making new connections\, this is the perfect Saturday night destination for good vibes\, music\, and unforgettable energy.
URL:https://ilovebabylon.com/event/saturday-soiree/
CATEGORIES:Entertainment,Food & Drink,Music,Social Events
ATTACH;FMTTYPE=image/jpeg:https://ilovebabylon.com/wp-content/uploads/2026/04/Lionz-Den-Saturday-soiree.jpg
END:VEVENT
BEGIN:VEVENT
DTSTART;TZID=America/New_York:20260425T180000
DTEND;TZID=America/New_York:20260425T220000
DTSTAMP:20260420T231738
CREATED:20260420T202037Z
LAST-MODIFIED:20260420T202037Z
UID:10008289-1777140000-1777154400@ilovebabylon.com
SUMMARY:LocoMojo Live at VERN
DESCRIPTION:We’re back with the Bourbon Street Experience! Join us for great drinks\, savory cuisine\, and the music of LocoMojo! 301 Bergen Ave. West Babylon\, NY6-10pm
URL:https://ilovebabylon.com/event/locomojo-live-at-vern/
LOCATION:West Babylon\, New York\, West Babylon\, New York
END:VEVENT
BEGIN:VEVENT
DTSTART;TZID=America/New_York:20260425T190000
DTEND;TZID=America/New_York:20260425T220000
DTSTAMP:20260420T231738
CREATED:20260420T202045Z
LAST-MODIFIED:20260420T202045Z
UID:10008290-1777143600-1777154400@ilovebabylon.com
SUMMARY:TEXAS HOLD’EM TOURNAMENT
DESCRIPTION:TEXAS HOLD’EM TOURNAMENTHosted by the  \nCopiague Fire Department \n320 Great Neck Rd \nDoors open at 5\, game starts at 7 \nOnly a few days left to enter on-line and claim your $1500 bonus for registering early. \nIf you prefer to pay at the door\, walk-ins are welcome. \nClick below for more information:  \nwww.vigilantenginecompany.com
URL:https://ilovebabylon.com/event/texas-holdem-tournament/
LOCATION:Copiague Fire Department\, 320 Great Neck Rd\, Copiague\, NY\, 11726\, US
END:VEVENT
BEGIN:VEVENT
DTSTART;TZID=America/New_York:20260425T190000
DTEND;TZID=America/New_York:20260425T220000
DTSTAMP:20260420T231738
CREATED:20260323T124612Z
LAST-MODIFIED:20260420T202042Z
UID:10008044-1777143600-1777154400@ilovebabylon.com
SUMMARY:The Greatest Tour Ever - Red Hot Chili Peppers\, Smashing Pumpkins\, Pearl Jam
DESCRIPTION:In 1991\, the Red Hot Chili Peppers followed up the release of BloodSugarSexMagik with a tour that featured alt-rock pioneers Smashing Pumpkins and the then unknown\, Seattle band\, Pearl Jam. \nThis tour is often cited as the greatest tour ever and we pay tribute to this iconic line up with three tribute bands.Get Tickets 🎟️: https://www.thewarehouseli.com/
URL:https://ilovebabylon.com/event/the-greatest-tour-ever-red-hot-chili-peppers-smashing-pumpkins-pearl-jam/
LOCATION:The Warehouse Live Music & Events\, The Warehouse Live Music & Events
END:VEVENT
BEGIN:VEVENT
DTSTART;TZID=America/New_York:20260425T200000
DTEND;TZID=America/New_York:20260425T200000
DTSTAMP:20260420T231738
CREATED:20260420T185511Z
LAST-MODIFIED:20260420T185511Z
UID:10008229-1777147200-1777147200@ilovebabylon.com
SUMMARY:Jesus Christ Superstar
DESCRIPTION:Experience the powerful rock opera “Jesus Christ Superstar\,” presented by The James Street Players in Babylon. This dynamic theatrical production brings to life the final days of Jesus through unforgettable music and storytelling. Join the community for an engaging evening performance and enjoy a night out filled with drama\, emotion\, and iconic songs.
URL:https://ilovebabylon.com/event/jesus-christ-superstar-5/
CATEGORIES:Theater
ATTACH;FMTTYPE=image/jpeg:https://ilovebabylon.com/wp-content/uploads/2026/04/2026-04-14-17.31.26.jpg
END:VEVENT
BEGIN:VEVENT
DTSTART;TZID=America/New_York:20260425T200000
DTEND;TZID=America/New_York:20260425T230000
DTSTAMP:20260420T231738
CREATED:20260420T202052Z
LAST-MODIFIED:20260420T202052Z
UID:10008291-1777147200-1777158000@ilovebabylon.com
SUMMARY:TETSUO: THE IRON MAN + bonus mystery movie
DESCRIPTION:EXPERIENCE TETSUO: THE IRON MAN \nWATCH Shinya Tsukamoto’s frenetic fever dream about humankind’s ongoing battle with technology \nSEE a man mutate into an amalgamation of flesh and metal \nWITNESS the sado-sexual story of a man and his drill d!ck \nTETSUO: THE IRON MAN will be presented in its original language(Japanese) with English subtitles
URL:https://ilovebabylon.com/event/tetsuo-the-iron-man-bonus-mystery-movie/
LOCATION:Chapterhouse Boutique\, Chapterhouse Boutique
END:VEVENT
BEGIN:VEVENT
DTSTART;TZID=America/New_York:20260425T200000
DTEND;TZID=America/New_York:20260425T230000
DTSTAMP:20260420T231738
CREATED:20260420T202054Z
LAST-MODIFIED:20260420T202054Z
UID:10008292-1777147200-1777158000@ilovebabylon.com
SUMMARY:Dave Christian Project
DESCRIPTION:Acoustic guitar driven rock ballades to hard funky rhythms with high energy electric.
URL:https://ilovebabylon.com/event/dave-christian-project/
LOCATION:168 East Montauk Highway\, Lindenhurst\, NY\, United States\, New York 11757\, 168 East Montauk Highway\, Lindenhurst\, NY\, United States\, New York 11757
END:VEVENT
BEGIN:VEVENT
DTSTART;TZID=America/New_York:20260425T200000
DTEND;TZID=America/New_York:20260425T230000
DTSTAMP:20260420T231738
CREATED:20260323T124645Z
LAST-MODIFIED:20260420T202049Z
UID:10008045-1777147200-1777158000@ilovebabylon.com
SUMMARY:Jim Frazzitta\, Twenty Years Below Re-Release Show!
DESCRIPTION:On Saturday\, April 25th @ Dare Studios\, Jim Frazzitta – The Midnight Busker will host a special show to commemorate the Re-Release of his 2008 debut solo LP\, -Twenry Years Below-. Show begins at 8:00 with an OPEN MIC. All performers welcome. \nAdmission is $10 at door. CD’s will be available for sale at a discounted price. Light refreshments included.  \nDare Studios is @ 261F Suburban Avenue\, Deer Park\, NY.  \nJF’s music hotline: (631)368-1920.
URL:https://ilovebabylon.com/event/jim-frazzitta-twenty-years-below-re-release-show/
LOCATION:261F Suburban Avenue\, Deer Park\, NY\, United States\, New York 11729\, 261F Suburban Avenue\, Deer Park\, NY\, United States\, New York 11729
END:VEVENT
BEGIN:VEVENT
DTSTART;TZID=America/New_York:20260425T210000
DTEND;TZID=America/New_York:20260426T000000
DTSTAMP:20260420T231738
CREATED:20260420T202056Z
LAST-MODIFIED:20260420T202056Z
UID:10008293-1777150800-1777161600@ilovebabylon.com
SUMMARY:Y2K PARTY NIGHT
DESCRIPTION:come dressed to impress with your best 1998 to 2004 threads.take photos in our photo booth. Enjoy great food cocktails and tunes from the Y2K ERA. Call 631-450-4692 to reserve your spot.
URL:https://ilovebabylon.com/event/y2k-party-night/
LOCATION:143 N Wellwood Avenue\, Lindenhurst\, NY\, 143 N Wellwood Avenue\, Lindenhurst\, NY
END:VEVENT
BEGIN:VEVENT
DTSTART;TZID=America/New_York:20260426T080000
DTEND;TZID=America/New_York:20260426T160000
DTSTAMP:20260420T231738
CREATED:20260323T124647Z
LAST-MODIFIED:20260420T202059Z
UID:10008046-1777190400-1777219200@ilovebabylon.com
SUMMARY:Car Show Long Island Spring Classic at TOBAY Beach
DESCRIPTION:preregistration is now open at www.carshowli.com
URL:https://ilovebabylon.com/event/car-show-long-island-spring-classic-at-tobay-beach/
LOCATION:Tobay Beach\, West Gilgo Beach\, NY\, 11758\, US
END:VEVENT
BEGIN:VEVENT
DTSTART;TZID=America/New_York:20260426T100000
DTEND;TZID=America/New_York:20260426T130000
DTSTAMP:20260420T231738
CREATED:20260420T202101Z
LAST-MODIFIED:20260420T202101Z
UID:10008294-1777197600-1777208400@ilovebabylon.com
SUMMARY:2nd Annual Autism Fundraiser Walk
DESCRIPTION:2nd Annual ECGR and all dog lovers Walk for Finn. Finn was diagnosed with Autism at the age of one. Finn is currently a student at the Bay Shore Schools Universal Pre Kindergarten Center a school Finn has come to love. The students and professional staff have helped Finn and other children so much. We want to give back. Please join Finn\, his Grandmother Gabrielle\, family and friends along with Jax & Lily @Jax_Lily_whitegolden for a walk for Autism in Finn’s honor. Everyone is welcome to attend with or without a furry friend. Please if possible make a small donation to @bayshoreupksunshine (Please state donation is for Autism Pack walk in comments) Thank yoy
URL:https://ilovebabylon.com/event/2nd-annual-autism-fundraiser-walk/
LOCATION:Belmont Lake State Park\, 625 Belmont Ave\, Babylon\, NY\, 11704\, US
END:VEVENT
BEGIN:VEVENT
DTSTART;TZID=America/New_York:20260426T120000
DTEND;TZID=America/New_York:20260426T120000
DTSTAMP:20260420T231738
CREATED:20260420T185416Z
LAST-MODIFIED:20260420T185416Z
UID:10008239-1777204800-1777204800@ilovebabylon.com
SUMMARY:Black Long Island Business Expo 2026
DESCRIPTION:Join the Black Long Island Business Expo 2026 for an exciting day of connection\, shopping\, and networking with a diverse range of Black-owned businesses. Explore offerings in fashion\, beauty\, lifestyle\, and professional services while enjoying raffles\, giveaways\, and a welcoming\, family-friendly atmosphere. Whether you’re looking to support local entrepreneurs\, discover new products\, or expand your network\, this expo offers something for everyone.
URL:https://ilovebabylon.com/event/black-long-island-business-expo-2026/
CATEGORIES:Business,Community,Fairs and Festivals
ATTACH;FMTTYPE=image/jpeg:https://ilovebabylon.com/wp-content/uploads/2026/04/2026-04-14-07.59.48.jpg
END:VEVENT
BEGIN:VEVENT
DTSTART;TZID=America/New_York:20260426T130000
DTEND;TZID=America/New_York:20260426T160000
DTSTAMP:20260420T231738
CREATED:20260420T202103Z
LAST-MODIFIED:20260420T202103Z
UID:10008295-1777208400-1777219200@ilovebabylon.com
SUMMARY:Flesh and Blood Skirmish Season 14 - Silver Age
DESCRIPTION:Entry: $10.00 \nStart Time: 1PM \nThis event will be Silver Age format! \nhttps://gem.fabtcg.com/gem/join/?query=steadfast-rooster \nDecklists can be uploaded to GEM and are mandatory. \nFor more information regarding this event\, please contact us at Events@RipNShipArena.com\, or visit our  Event Page
URL:https://ilovebabylon.com/event/flesh-and-blood-skirmish-season-14-silver-age/
LOCATION:1883-B Deer Park Avenue\, Deer Park\, NY\, United States\, New York 11729\, 1883-B Deer Park Avenue\, Deer Park\, NY\, United States\, New York 11729
END:VEVENT
BEGIN:VEVENT
DTSTART;TZID=America/New_York:20260426T140000
DTEND;TZID=America/New_York:20260426T170000
DTSTAMP:20260420T231738
CREATED:20260323T124650Z
LAST-MODIFIED:20260331T231945Z
UID:10008047-1777212000-1777222800@ilovebabylon.com
SUMMARY:“My Betsey”: The Remarkable Wife of Alexander Hamilton – Elizabeth Kahn Kaplan
DESCRIPTION:Elizabeth Schuyler and Alexander Hamilton came from widely different family backgrounds\, yet their marriage was a great success. Included in this talk are their eight children; her reaction to his affair with Maria Reynolds; his fatal duel with Aaron Burr in 1804. She lived for 50 more years as a widow salvaging the reputation of her distinguished husband and working on behalf of orphans and public education in New York.
URL:https://ilovebabylon.com/event/my-betsey-the-remarkable-wife-of-alexander-hamilton-elizabeth-kahn-kaplan/
LOCATION:117 W Main St\, Babylon\, NY\, United States\, New York 11702\, 117 W Main St\, Babylon\, NY\, United States\, New York 11702
ORGANIZER;CN="Village of Babylon Historical & Preservation Society":MAILTO:noreply@facebookmail.com
END:VEVENT
BEGIN:VEVENT
DTSTART;TZID=America/New_York:20260426T140000
DTEND;TZID=America/New_York:20260426T180000
DTSTAMP:20260420T231738
CREATED:20260323T124652Z
LAST-MODIFIED:20260331T231949Z
UID:10008048-1777212000-1777226400@ilovebabylon.com
SUMMARY:Tuff Tails Animal Rescue 15th Annual Rock 'n Rollapalooza!
DESCRIPTION:Are you ready!!?? Ready for the opening party (along with a motorcycle run from Queens of course!) of the year?Yes folks we are happy to announce it’s the 15th Annual Tuff Tails Animal Rescue Rock n Rollapalooza 2026!! \nIf you have attended this day of merry mayhem before\, you know what we’re talkin’ about!Friends\, family\, musicians\, bikers\, animal peeps – we all come together as one in support of the homeless dogs and cats!Live bands\, out of control crazy-great raffles including original artwork\, and a day spent with the best peeps imaginable all for the cause!  \nThe GTB Band and the Godfrey Townsend Band will be in the house!Lots of great players including some kick-ass vocalists sharing the stage!Rock n Roll at its finest. Annnnddd Maria Milito of Q104.3 once again emceeing!!  \nStill just a $10 donation at the door – how can you beat that?? More info will follow soon but we wanted to get this invite out so we can see how many hundreds this year will attend.Every year bigger and better if that’s possible.A great\, great day with a smile on everyone’s face!Can’t wait! \nTuff Tails Animal Rescue is a small\, all volunteer\, private\, 501c3 tax exempt organization.100% of any and all donations go right to homeless animals – NO exceptions. \nSee ya there rockstars!
URL:https://ilovebabylon.com/event/tuff-tails-animal-rescue-15th-annual-rock-n-rollapalooza/
LOCATION:The Warehouse Live Music & Events\, The Warehouse Live Music & Events
END:VEVENT
BEGIN:VEVENT
DTSTART;TZID=America/New_York:20260426T150000
DTEND;TZID=America/New_York:20260426T150000
DTSTAMP:20260420T231738
CREATED:20260420T185452Z
LAST-MODIFIED:20260420T185452Z
UID:10008221-1777215600-1777215600@ilovebabylon.com
SUMMARY:An Acoustic Performance with M@
DESCRIPTION:Enjoy an afternoon of live music at The Christensen Gallery with a special acoustic performance by M@ (Matt Baumbach of Vision of Disorder)\, joined by special guest David Ohliger of willpilot. Taking place on Sunday\, April 26 at 3:00 PM\, this free\, non-ticketed event offers an intimate setting for music lovers to experience talented local artists up close. Arrive early\, as seating is first come\, first served.
URL:https://ilovebabylon.com/event/an-acoustic-performance-with-m/
LOCATION:The Christensen Gallery\, The Christensen Gallery
CATEGORIES:Entertainment,Music
ATTACH;FMTTYPE=image/jpeg:https://ilovebabylon.com/wp-content/uploads/2026/04/2026-04-14-17.43.09.jpg
END:VEVENT
BEGIN:VEVENT
DTSTART;TZID=America/New_York:20260426T150000
DTEND;TZID=America/New_York:20260426T150000
DTSTAMP:20260420T231738
CREATED:20260420T185515Z
LAST-MODIFIED:20260420T185515Z
UID:10008230-1777215600-1777215600@ilovebabylon.com
SUMMARY:Jesus Christ Superstar
DESCRIPTION:Experience the powerful rock opera “Jesus Christ Superstar\,” presented by The James Street Players in Babylon. This dynamic theatrical production brings to life the final days of Jesus through unforgettable music and storytelling. Join the community for a special matinee performance filled with drama\, emotion\, and iconic songs.
URL:https://ilovebabylon.com/event/jesus-christ-superstar-6/
CATEGORIES:Theater
ATTACH;FMTTYPE=image/jpeg:https://ilovebabylon.com/wp-content/uploads/2026/04/2026-04-14-17.31.26.jpg
END:VEVENT
BEGIN:VEVENT
DTSTART;TZID=America/New_York:20260426T153000
DTEND;TZID=America/New_York:20260426T203000
DTSTAMP:20260420T231738
CREATED:20260323T124654Z
LAST-MODIFIED:20260331T231952Z
UID:10008049-1777217400-1777235400@ilovebabylon.com
SUMMARY:Devoted Fusion 10 Years of Progressive Metal and Album Release Show at Amityville Music Hall!
DESCRIPTION:LONG ISLAND\, NEW YORK!We are please to announce that Devoted Fusion will be celebrating our 10 Year Anniversary and Album Release Show at Amityville Music Hall!We will be playing with our friends in Take The Flame (from Connecticut)\, Ramener\, The Greater Us\, and Gaveldown to celebrate this AMAZING night of all around metal! \nHuge thank you to Moon Groove Records and Amityville Music Hall for assisting us in setting this show up! \nTickets are available NOW through the ticket link here OR at the venue for cheaper price! \nSunday April 26th\, 2026 \nDevoted Fusion (Album Release)Take The FlameRamenerThe Greater UsGaveldown \n@ AMH198 Broadway\, Amityville NY \n3:30 PM$20Under 16 w/ parent / legal guardian
URL:https://ilovebabylon.com/event/devoted-fusion-10-years-of-progressive-metal-and-album-release-show-at-amityville-music-hall/
LOCATION:Amityville Music Hall\, 198 Broadway\, Amityville\, NY\, US
END:VEVENT
BEGIN:VEVENT
DTSTART;TZID=America/New_York:20260426T173000
DTEND;TZID=America/New_York:20260426T203000
DTSTAMP:20260420T231738
CREATED:20260323T124657Z
LAST-MODIFIED:20260331T231956Z
UID:10008050-1777224600-1777235400@ilovebabylon.com
SUMMARY:Grooving The Pino Wine Bar
DESCRIPTION:Stop by me & horsie will be bringing it
URL:https://ilovebabylon.com/event/grooving-the-pino-wine-bar-2/
LOCATION:Pino Wine Bar & Bistro\, 143 N Wellwood Avenue\, Lindenhurst\, NY\, 11757\, US
END:VEVENT
BEGIN:VEVENT
DTSTART;TZID=America/New_York:20260426T190000
DTEND;TZID=America/New_York:20260426T220000
DTSTAMP:20260420T231738
CREATED:20260331T232000Z
LAST-MODIFIED:20260331T232000Z
UID:10008128-1777230000-1777240800@ilovebabylon.com
SUMMARY:The Rockers @ Sand City South Lindenhurst - Sunday April 26th
DESCRIPTION:The Rockers will be playing at Sand City South brewery in Lindenhurst on Sunday\, April 26th at 7pm. Also performing will be our friends from the FREE Players Drum Corps. $10 suggested donation for admission.
URL:https://ilovebabylon.com/event/the-rockers-sand-city-south-lindenhurst-sunday-april-26th/
LOCATION:Online Event\, West Babylon\, NY\, US
END:VEVENT
BEGIN:VEVENT
DTSTART;TZID=America/New_York:20260428T170000
DTEND;TZID=America/New_York:20260428T180000
DTSTAMP:20260420T231738
CREATED:20260323T124659Z
LAST-MODIFIED:20260331T232004Z
UID:10008051-1777395600-1777399200@ilovebabylon.com
SUMMARY:Restorative Yoga with Celeste
DESCRIPTION:Indulge in the serenity of our gentle & restorative yoga class. This gentle practice invites you to unwind\, release tension\, and nourish your spirit. Through gentle warm ups\, supported poses and mindful breathwork\, you’ll find deep relaxation forpromoting a sense of inner peace. Celeste is always a treasure in offering yoga wisdoms to help us relax. Perfect for all levels.
URL:https://ilovebabylon.com/event/restorative-yoga-with-celeste-3/
LOCATION:107 E Main St\, Babylon\, NY\, 107 E Main St\, Babylon\, NY
END:VEVENT
BEGIN:VEVENT
DTSTART;TZID=America/New_York:20260428T183000
DTEND;TZID=America/New_York:20260428T213000
DTSTAMP:20260420T231738
CREATED:20260323T124701Z
LAST-MODIFIED:20260331T232008Z
UID:10008052-1777401000-1777411800@ilovebabylon.com
SUMMARY:Thursday presents Full City Devolución @ AMH
DESCRIPTION:April 28th 2026 \nTHURSDAY presentsFULL CITY DEVOLUCIONwith special guest CHRIS CONLEY Celebrating 25 Years of FULL COLLAPSE20 Years ofA CITY BY THE LIGHT DIVIDED 15 Years of NO DEVOLUCION  \n@ AMH198 Broadway\, Amityville NY \n$506:30 PMUnder 16 w/ parent / legal guardian \nPurchase Tickets: https://www.etix.com/ticket/servlet/s/38221374
URL:https://ilovebabylon.com/event/thursday-presents-full-city-devolucion-amh/
LOCATION:198 Broadway Amityville\, NY 11701-2727\, 198 Broadway Amityville\, NY 11701-2727
END:VEVENT
BEGIN:VEVENT
DTSTART;TZID=America/New_York:20260428T183000
DTEND;TZID=America/New_York:20260428T213000
DTSTAMP:20260420T231738
CREATED:20260323T124703Z
LAST-MODIFIED:20260331T232012Z
UID:10008053-1777401000-1777411800@ilovebabylon.com
SUMMARY:Thursday presents Full City Devolución @ AMH
DESCRIPTION:April 28th 2026 \nTHURSDAY presentsFULL CITY DEVOLUCIONwith special guest CHRIS CONLEY Celebrating 25 Years of FULL COLLAPSE20 Years ofA CITY BY THE LIGHT DIVIDED 15 Years of NO DEVOLUCION  \n@ AMH198 Broadway\, Amityville NY \n$506:30 PMUnder 16 w/ parent / legal guardian \nPurchase Tickets: https://www.etix.com/ticket/servlet/s/38221374
URL:https://ilovebabylon.com/event/thursday-presents-full-city-devolucion-amh-2/
LOCATION:198 Broadway Amityville\, NY 11701-2727\, 198 Broadway Amityville\, NY 11701-2727
END:VEVENT
BEGIN:VEVENT
DTSTART;TZID=America/New_York:20260428T183000
DTEND;TZID=America/New_York:20260428T213000
DTSTAMP:20260420T231738
CREATED:20260323T124705Z
LAST-MODIFIED:20260331T232015Z
UID:10008054-1777401000-1777411800@ilovebabylon.com
SUMMARY:Thursday presents Full City Devolución @ AMH
DESCRIPTION:April 28th 2026 \nTHURSDAY presentsFULL CITY DEVOLUCIONwith special guest CHRIS CONLEY Celebrating 25 Years of FULL COLLAPSE20 Years ofA CITY BY THE LIGHT DIVIDED 15 Years of NO DEVOLUCION  \n@ AMH198 Broadway\, Amityville NY \n$506:30 PMUnder 16 w/ parent / legal guardian \nPurchase Tickets: https://www.etix.com/ticket/servlet/s/38221374
URL:https://ilovebabylon.com/event/thursday-presents-full-city-devolucion-amh-3/
LOCATION:198 Broadway Amityville\, NY 11701-2727\, 198 Broadway Amityville\, NY 11701-2727
END:VEVENT
BEGIN:VEVENT
DTSTART;TZID=America/New_York:20260428T183000
DTEND;TZID=America/New_York:20260428T213000
DTSTAMP:20260420T231738
CREATED:20260331T232019Z
LAST-MODIFIED:20260331T232019Z
UID:10008129-1777401000-1777411800@ilovebabylon.com
SUMMARY:INDUSTRY NIGHT FUNDRAISER FOR JIMMY
DESCRIPTION:jimmy aka jimbo and Bubba needs our help. he’s been in the hospital since November 2025 and even though he’s getting better the medical expenses are piling up.As an industry legend he has helped and trained many of us become part of this amazing industry. Now it’s time to show how strong this this industry is and give back. A portion of sales from Pino will go directly to jimmy and we will also have 50/50 raffles and a Chinese auction. Come show your support on Tuesday April 28th.
URL:https://ilovebabylon.com/event/industry-night-fundraiser-for-jimmy/
LOCATION:143 N Wellwood Avenue\, Lindenhurst\, NY\, 143 N Wellwood Avenue\, Lindenhurst\, NY
END:VEVENT
BEGIN:VEVENT
DTSTART;TZID=America/New_York:20260429T160000
DTEND;TZID=America/New_York:20260429T203000
DTSTAMP:20260420T231738
CREATED:20260323T124707Z
LAST-MODIFIED:20260331T232021Z
UID:10008055-1777478400-1777494600@ilovebabylon.com
SUMMARY:1st Annual Community Blood Drive
DESCRIPTION:Better IT Now is proud to host and organize a community blood drive in partnership with the Amityville Fire Department and the New York Blood Center. \nAt a time when blood supplies are critically low\, this initiative unites local businesses and community members to take action and support patients across Long Island. \nOne donation can save up to three lives. Together\, we can make a direct\, life-saving impact in our own community. \nMake your reservation to donate today!https://donate.nybc.org/donor/schedules/drive_schedule/337764
URL:https://ilovebabylon.com/event/1st-annual-community-blood-drive/
LOCATION:55 W Oak St\, Amityville\, NY 11701\, United States\, 55 W Oak St\, Amityville\, NY 11701\, United States
END:VEVENT
END:VCALENDAR