BEGIN:VCALENDAR
VERSION:2.0
PRODID:-//I Love Babylon, NY - ECPv6.15.20//NONSGML v1.0//EN
CALSCALE:GREGORIAN
METHOD:PUBLISH
X-WR-CALNAME:I Love Babylon, NY
X-ORIGINAL-URL:https://ilovebabylon.com
X-WR-CALDESC:Events for I Love Babylon, NY
REFRESH-INTERVAL;VALUE=DURATION:PT1H
X-Robots-Tag:noindex
X-PUBLISHED-TTL:PT1H
BEGIN:VTIMEZONE
TZID:America/New_York
BEGIN:DAYLIGHT
TZOFFSETFROM:-0500
TZOFFSETTO:-0400
TZNAME:EDT
DTSTART:20250309T070000
END:DAYLIGHT
BEGIN:STANDARD
TZOFFSETFROM:-0400
TZOFFSETTO:-0500
TZNAME:EST
DTSTART:20251102T060000
END:STANDARD
BEGIN:DAYLIGHT
TZOFFSETFROM:-0500
TZOFFSETTO:-0400
TZNAME:EDT
DTSTART:20260308T070000
END:DAYLIGHT
BEGIN:STANDARD
TZOFFSETFROM:-0400
TZOFFSETTO:-0500
TZNAME:EST
DTSTART:20261101T060000
END:STANDARD
BEGIN:DAYLIGHT
TZOFFSETFROM:-0500
TZOFFSETTO:-0400
TZNAME:EDT
DTSTART:20270314T070000
END:DAYLIGHT
BEGIN:STANDARD
TZOFFSETFROM:-0400
TZOFFSETTO:-0500
TZNAME:EST
DTSTART:20271107T060000
END:STANDARD
END:VTIMEZONE
BEGIN:VEVENT
DTSTART;TZID=America/New_York:20260312T190000
DTEND;TZID=America/New_York:20260312T203000
DTSTAMP:20260419T175522
CREATED:20260312T175235Z
LAST-MODIFIED:20260312T175235Z
UID:10007902-1773342000-1773347400@ilovebabylon.com
SUMMARY:Beginner’s Salsa Dancing
DESCRIPTION:Join us for Beginner Salsa Classes every Thursday 7:00–8:30pm! 131 S. Smith St. A super fun way to get moving\, meet new people\, and try something exciting!  \nNo experience needed. Very beginner-friendly and perfect for couples or anyone wanting a fun night out (I know we all need it\, especially nowadays!).  \nRegister online: www.seachangehwc.com (under CLASS SCHEDULE)Or call David for more info (# in flyer).  \nIt was serendipity. I met with my old salsa teacher David from 20 years ago and cannot believe he started a class in Lindenhurst. I am so excited. He is the best Salsa teacher I’ve ever had in 20 years time. If you want to learn Salsa dancing\, he has the best approach and teaching style. Hope to see you there to have fun and dance the night away.
URL:https://ilovebabylon.com/event/beginners-salsa-dancing/
LOCATION:Lindenhurst\, NY 11757\, West Babylon\, NY\, US
END:VEVENT
BEGIN:VEVENT
DTSTART;TZID=America/New_York:20260312T170000
DTEND;TZID=America/New_York:20260312T200000
DTSTAMP:20260419T175522
CREATED:20260226T184805Z
LAST-MODIFIED:20260312T175231Z
UID:10007802-1773334800-1773345600@ilovebabylon.com
SUMMARY:Meet Ashley Graham at Stew Leonard's Wine & Spirits of Farmingdale!
DESCRIPTION:ASHLEY GRAHAM’S NEXT MOVE IS SPARKLING \nThe Supermodel Is Bringing Her Bubbly Lambrusco to Stew Leonard’s Wines & Spirits for a Bottle Signing. \nWHO: Supermodel\, entrepreneur\, and certified Lambrusco loyalist\, Ashley Graham will sashay down the aisle at Stew Leonard’s Wines & Spirits for a fashionable bottle signing. \nWHAT: Fresh off its debut this month\, Graham’s new Lambrusco label\, LUCCI\, launched with co-founder Danny Epstein\, is giving old-school Italian wine a flirty refresh. Crafted with a fifth-generation winemaker in Emilia-Romagna (aka Lambrusco country)\, the wine is bright\, lightly sparkling\, and packed with notes of ripe red and dark berries. \nWHEN: March 12th at 5:00pm \nWHERE: Stew Leonard’s Wines & Spirits210 Airport Plaza Blvd\, Farmingdale\, NY 11735 \nWHY: “To know me is to know I love Lambrusco. It’s been my go-to wine for years\,” says Ashley who initially slid into Danny’s DMs over their shared love of Lambrusco. “Lucci is a dry\, sparkling red wine that brings people together.” \n#ashleygraham #stewswines #farmingdale #celebrityevent
URL:https://ilovebabylon.com/event/meet-ashley-graham-at-stew-leonards-wine-spirits-of-farmingdale/
LOCATION:Stew Leonard’s Wine & Spirits of Farmingdale\, 210 Airport Plaza Blvd\, Farmingdale\, NY\, 11735\, US
CATEGORIES:Arts and Crafts
END:VEVENT
BEGIN:VEVENT
DTSTART;TZID=America/New_York:20260311T193000
DTEND;TZID=America/New_York:20260311T223000
DTSTAMP:20260419T175522
CREATED:20260226T184801Z
LAST-MODIFIED:20260307T121913Z
UID:10007801-1773257400-1773268200@ilovebabylon.com
SUMMARY:DWYWT's Live at Lily Flanagans - NY
DESCRIPTION:Join us for a great night of Irish Songs & Music as we make our yearly return to Lily’s
URL:https://ilovebabylon.com/event/dwywts-live-at-lily-flanagans-ny/
LOCATION:Lily Flanagans Pub\, Lily Flanagans Pub
CATEGORIES:Music
END:VEVENT
BEGIN:VEVENT
DTSTART;TZID=America/New_York:20260311T190000
DTEND;TZID=America/New_York:20260311T220000
DTSTAMP:20260419T175522
CREATED:20260301T075201Z
LAST-MODIFIED:20260307T121909Z
UID:10007878-1773255600-1773266400@ilovebabylon.com
SUMMARY:Derek Warfield & The Young Wolfetones
DESCRIPTION:Ticket is entry only – does not include table – Must make dinner reservations AFTER purchasing tickets
URL:https://ilovebabylon.com/event/derek-warfield-the-young-wolfetones/
LOCATION:345 Deer Park Ave\, Babylon\, NY\, United States\, New York 11702\, 345 Deer Park Ave\, Babylon\, NY\, United States\, New York 11702
END:VEVENT
BEGIN:VEVENT
DTSTART;TZID=America/New_York:20260311T180000
DTEND;TZID=America/New_York:20260311T210000
DTSTAMP:20260419T175522
CREATED:20260307T121905Z
LAST-MODIFIED:20260307T121905Z
UID:10007895-1773252000-1773262800@ilovebabylon.com
SUMMARY:Barbara & Joe at Pino
DESCRIPTION:Join us on hump day for a mid-week night out. Great vibe\, amazing food and drinks. And $6 Guinness for March☘️ Plus\, there will be plenty of fun tunes!
URL:https://ilovebabylon.com/event/barbara-joe-at-pino/
LOCATION:Pino Wine Bar & Bistro\, 143 N Wellwood Avenue\, Lindenhurst\, NY\, 11757\, US
END:VEVENT
BEGIN:VEVENT
DTSTART;TZID=America/New_York:20260311T160000
DTEND;TZID=America/New_York:20260311T190000
DTSTAMP:20260419T175522
CREATED:20260226T184759Z
LAST-MODIFIED:20260307T121902Z
UID:10007800-1773244800-1773255600@ilovebabylon.com
SUMMARY:Mid-week Lenten Service
DESCRIPTION:Beatitudes of Promise – A Worship Series for LentJoin us for a special series for Lent called “Beatitudes of Promise.” This series focuses on the promises made by Jesus in the beloved words of blessing from his Sermon on the Mount\, applying these messages to our Lenten journey at our 4 PM and 7:30 PM services for Lent with communion.
URL:https://ilovebabylon.com/event/mid-week-lenten-service/
LOCATION:St. Paul’s Lutheran Church Amityville\, NY\, 147 Park Ave\, Amityville\, NY\, 11701\, US
END:VEVENT
BEGIN:VEVENT
DTSTART;TZID=America/New_York:20260310T190000
DTEND;TZID=America/New_York:20260310T210000
DTSTAMP:20260419T175522
CREATED:20260226T184757Z
LAST-MODIFIED:20260307T121900Z
UID:10007799-1773169200-1773176400@ilovebabylon.com
SUMMARY:Detox the Mind Through Meditation
DESCRIPTION:Experiencing the Soul Part V \nThese workshops are Part 5 of a Multi-Part Series entitled Experiencing the Soul.Meditation can be the key that unlocks the inner doorway to a life of deep inner peace. It has been practiced for thousands of years and is the core of all great spiritual traditions. By learning how to “tap inside\,” as Emerson put it\, each of us can mine the unlimited wealth lying dormant inside us. \nPresenter: Andrew Vidich\, PhD \n7-Part Workshop SeriesMissed the last one? No worries – each workshop is designed so you can attend independently. \nDate: Tuesday\, March 10Time: 7 – 9 pm Location: Science of Spirituality Meditation Center79 County Line Road\, Amityville\, NY 11701 \nEvent is free of charge! All are welcome!  \nFor more information contact:Stephanie631-822-7979infotristate@sos.org
URL:https://ilovebabylon.com/event/detox-the-mind-through-meditation-4/
LOCATION:79 County Line Rd\, Amityville\, NY 11701\, 79 County Line Rd\, Amityville\, NY 11701
END:VEVENT
BEGIN:VEVENT
DTSTART;TZID=America/New_York:20260310T150000
DTEND;TZID=America/New_York:20260310T190000
DTSTAMP:20260419T175522
CREATED:20260307T121858Z
LAST-MODIFIED:20260307T121858Z
UID:10007894-1773154800-1773169200@ilovebabylon.com
SUMMARY:Meet Your New Best Friend at our MOBILE PET ADOPTION EVENT!
DESCRIPTION:Find your new best friend a little closer to home as we bring our adoptable dogs\, cats\, puppies\, and kittens to your neighborhood! \nEVENT DETAILS:Tuesday\, March 103pm-7pm \nPetSmart 241 Airport Plaza Blvd.Farmingdale\, NY \nGet preapproved by emailing offsite@animalleague.org!
URL:https://ilovebabylon.com/event/meet-your-new-best-friend-at-our-mobile-pet-adoption-event-4/
LOCATION:PetSmart\, 1208 Deer Park Ave\, North Babylon\, NY\, 11703\, US
END:VEVENT
BEGIN:VEVENT
DTSTART;TZID=America/New_York:20260309T190000
DTEND;TZID=America/New_York:20260309T220000
DTSTAMP:20260419T175522
CREATED:20260307T121853Z
LAST-MODIFIED:20260307T121853Z
UID:10007893-1773082800-1773093600@ilovebabylon.com
SUMMARY:March 2026 LMS PTA Meeting
DESCRIPTION:The LMS PTA would like to invite all parents\, guardians\, PTA members and students to our meeting\, March 9\, 2026 at 7pm. Please note that the meeting will take place in the Lindenhurst Middle School Auditorium. We will be featuring a special presentation from the Lindenhurst School District Administration concerning the 2026 Bond Proposition-Proposed Projects. \nAt the LMS PTA Meeting\, we will also have an agenda with the following reports and presentations. \nPrincipal ReportBond 2026 PresentationSpring DanceMiddle School Play ReportNominating CommitteeBylaw Committee8th Grade Committee….and more \nKindly\,Melody ButlerLMS PTA PresidentLindenhurst Middle School PTA
URL:https://ilovebabylon.com/event/march-2026-lms-pta-meeting/
LOCATION:Lindenhurst Middle School PTA\, Lindenhurst Middle School PTA
END:VEVENT
BEGIN:VEVENT
DTSTART;TZID=America/New_York:20260309T100000
DTEND;TZID=America/New_York:20260309T190000
DTSTAMP:20260419T175522
CREATED:20260307T121849Z
LAST-MODIFIED:20260307T121849Z
UID:10007892-1773050400-1773082800@ilovebabylon.com
SUMMARY:Preview Board of Elections New Voting Machines
DESCRIPTION:Just a friendly reminder that we will be doing live demos on the new machines Monday 3/9 at the Deer Park Library. 44 Lake Ave Deer Park. Come down any time between 10am and 7pm to check them out. This is not a full seminar and should not take long. Open to the public as well.
URL:https://ilovebabylon.com/event/preview-board-of-elections-new-voting-machines/
LOCATION:Deer Park Public Library\, Deer Park Public Library
END:VEVENT
BEGIN:VEVENT
DTSTART;TZID=America/New_York:20260308T190000
DTEND;TZID=America/New_York:20260308T220000
DTSTAMP:20260419T175522
CREATED:20260226T184755Z
LAST-MODIFIED:20260307T121847Z
UID:10007798-1772996400-1773007200@ilovebabylon.com
SUMMARY:Baroness\, Blood Vulture\, Commitment @ AMH
DESCRIPTION:Sunday March 8th 2026 \nBaronessBlood VultureCommitment \n@ AMH198 Broadway\, Amityville NY \n$30 ADV / $35 DOS7 PMUnder 16 w/ parent / legal guardianPurchase Tickets: https://www.etix.com/ticket/servlet/s/38221969
URL:https://ilovebabylon.com/event/baroness-blood-vulture-commitment-amh/
LOCATION:198 Broadway Amityville\, NY 11701-2727\, 198 Broadway Amityville\, NY 11701-2727
END:VEVENT
BEGIN:VEVENT
DTSTART;TZID=America/New_York:20260308T180000
DTEND;TZID=America/New_York:20260308T210000
DTSTAMP:20260419T175522
CREATED:20260301T075148Z
LAST-MODIFIED:20260307T121842Z
UID:10007877-1772992800-1773003600@ilovebabylon.com
SUMMARY:SUNDAY FUNDAY KARAOKE
DESCRIPTION:DON’T MISS OUT ON THE BEST SUNDAY FUNDAY KARAOKE. GREAT FOOD\, AMAZING COCKTAILS\, AND GOOD VIBES COME EARLY AND ENJOY A GREAT MEAL.FOR RESERVATIONS CALL 631-450-4692
URL:https://ilovebabylon.com/event/sunday-funday-karaoke-4/
LOCATION:143 N Wellwood Avenue\, Lindenhurst\, NY\, 143 N Wellwood Avenue\, Lindenhurst\, NY
END:VEVENT
BEGIN:VEVENT
DTSTART;TZID=America/New_York:20260308T153000
DTEND;TZID=America/New_York:20260308T193000
DTSTAMP:20260419T175522
CREATED:20260226T184750Z
LAST-MODIFIED:20260307T121840Z
UID:10007797-1772983800-1772998200@ilovebabylon.com
SUMMARY:Childbirth Prep Class
DESCRIPTION:A half day Childbirth Preparation Class for expectant parents to learn about the anatomy & physiology of birth\, stages of labor\, choices for labor & delivery\, tools & coping skills\, positions for labor\, induction & more!
URL:https://ilovebabylon.com/event/childbirth-prep-class/
LOCATION:2 Dubon Court\, Farmingdale\, NY\, United States\, New York 11735\, 2 Dubon Court\, Farmingdale\, NY\, United States\, New York 11735
END:VEVENT
BEGIN:VEVENT
DTSTART;TZID=America/New_York:20260308T150000
DTEND;TZID=America/New_York:20260308T170000
DTSTAMP:20260419T175522
CREATED:20260301T075138Z
LAST-MODIFIED:20260307T121835Z
UID:10007876-1772982000-1772989200@ilovebabylon.com
SUMMARY:Rain & ED RYAN'S ORIGINAL MUSIC MEDITATION & REIKI PROGRAM 🕊💗✨️🎶🙌🏻
DESCRIPTION:Hello Beautiful Souls!!JUST ANNOUNCED!����� \nSUNDAY MARCH 8th \n“RAIN & ED RYAN’S ORIGINAL MUSIC\, MEDITATION & REIKI” Program at \nYOGA DARSHANA CENTER on East Great Neck Rd. in West Babylon \n3:00pm until approx 5:00pm (ish) \nThis is an afternoon of Guided Meditation and Sound Healing featuring Original Songs & Soundscapes designed to enhance your meditative journey of inner healing and peace. \nShed your cares of the day and experience the calming effect of Musical Meditation coupled with the healing power of Self-Reiki. \nYou will walk away floating on air! \n**The Exchange is $50.00.** \nMake your Reservations directly with Ed & Rain (not the studio) by Pre-Paying via Venmo at 516-459-8585  \nor \nPaypal at rainryan69@gmail.com \nBe sure to comment that it’s for the Meditation and include your email\, please.  \nLooking forward to sharing the Love & Light with you all! \nPeace & Love\, \nEd & Rain
URL:https://ilovebabylon.com/event/rain-ed-ryans-original-music-meditation-reiki-program-%f0%9f%95%8a%f0%9f%92%97%e2%9c%a8%ef%b8%8f%f0%9f%8e%b6%f0%9f%99%8c%f0%9f%8f%bb-2/
LOCATION:Darshana\, 180 Great East Neck Rd\, West Babylon\, NY\, 11704\, US
CATEGORIES:Music
END:VEVENT
BEGIN:VEVENT
DTSTART;TZID=America/New_York:20260308T150000
DTEND;TZID=America/New_York:20260308T170000
DTSTAMP:20260419T175522
CREATED:20260226T184748Z
LAST-MODIFIED:20260307T121838Z
UID:10007796-1772982000-1772989200@ilovebabylon.com
SUMMARY:RAIN &ED RYAN'S ORIGINAL MUSIC MEDITATION &REIKI PROGRAM 🕊💗✨️🎶🙌🏻
DESCRIPTION:Hello Beautiful Souls!!JUST ANNOUNCED! \nSUNDAY MARCH 8th \n“RAIN & ED RYAN’S ORIGINAL MUSIC\, MEDITATION & REIKI” Program at \nYOGA DARSHANA CENTER on East Great Neck Rd. in West Babylon \n3:00pm until approx 5:00pm (ish) \nThis is an afternoon of Guided Meditation and Sound Healing featuring Original Songs & Soundscapes designed to enhance your meditative journey of inner healing and peace. \nShed your cares of the day and experience the calming effect of Musical Meditation coupled with the healing power of Self-Reiki. \nYou will walk away floating on air! \n**The Exchange is $50.00.** \nMake your Reservations directly with Ed & Rain (not the studio) by Pre-Paying via Venmo at 516-459-8585  \nor \nPaypal at rainryan69@gmail.com \nBe sure to comment that it’s for the Meditation and include your email\, please.  \nLooking forward to sharing the Love & Light with you all! \nPeace & Love\, \nJUST ANNOUNCED! \nSUNDAY MARCH 8th“RAIN & ED RYAN’S ORIGINAL MUSIC\, MEDITATION & REIKI” Program atYOGA DARSHANA CENTER on East Great Neck Rd. in West Babylon3:00pm until approx 5:00pm (ish) \nThis is an afternoon of Guided Meditation and Sound Healing featuring Original Songs & Soundscapes designed to enhance your meditative journey of inner healing and peace.Shed your cares of the day and experience the calming effect of Musical Meditation coupled with the healing power of Self-Reiki.You will walk away floating on air! \n**The Exchange is $50.00.**Make your Reservations directly with Ed & Rain (not the studio) by Pre-Paying via Venmo at 516-459-8585 orPaypal at rainryan69@gmail.comBe sure to comment that it’s for the Meditation and include your email\, please.  \nLooking forward to sharing the Love & Light with you all!Peace & Love\,Ed & Rain \nEd & Rain
URL:https://ilovebabylon.com/event/rain-ed-ryans-original-music-meditation-reiki-program-%f0%9f%95%8a%f0%9f%92%97%e2%9c%a8%ef%b8%8f%f0%9f%8e%b6%f0%9f%99%8c%f0%9f%8f%bb/
LOCATION:Darshana\, 180 Great East Neck Rd\, West Babylon\, NY\, 11704\, US
CATEGORIES:Music
END:VEVENT
BEGIN:VEVENT
DTSTART;TZID=America/New_York:20260308T140000
DTEND;TZID=America/New_York:20260308T160000
DTSTAMP:20260419T175522
CREATED:20260307T121831Z
LAST-MODIFIED:20260307T121831Z
UID:10007891-1772978400-1772985600@ilovebabylon.com
SUMMARY:Babylon Beautification Society presents "The True Story of the Culper Spy Ring w/ Bill Bleyer"
DESCRIPTION:Learn the true story of the Culper Spy Ring from former Newsday reporter Bill Bleyer\, author of George Washington’s Long Island Spy Ring: A History and Tour Guide. History buffs have long been fascinated by the operation of the Long Island-based Culper Spy Ring during the American Revolution\, especially since the airing of the AMC series “Turn.” \n Over the years\, there have been many legends\, such as the role played by Anna Strong’s clothesline\, and suppositions about how the spies operated to support George Washington’s Continental Army.  \nThe PowerPoint lecture separates facts from fiction and details the ingenious operation of the intelligence network that helped the Patriots win the war. \nFree for BVHS members\, $5 for non-members
URL:https://ilovebabylon.com/event/babylon-beautification-society-presents-the-true-story-of-the-culper-spy-ring-w-bill-bleyer/
LOCATION:Babylon Historical Society\, 117 W. Main Street\, Babylon\, Babylon Historical Society\, 117 W. Main Street\, Babylon
END:VEVENT
BEGIN:VEVENT
DTSTART;TZID=America/New_York:20260308T110000
DTEND;TZID=America/New_York:20260308T140000
DTSTAMP:20260419T175522
CREATED:20260226T184746Z
LAST-MODIFIED:20260307T121829Z
UID:10007795-1772967600-1772978400@ilovebabylon.com
SUMMARY:Pokemon TCG - League Cup
DESCRIPTION:Start Time: 11:00AMSignups: 10:00AMEntry: $20.00Format: Standard Swiss Rounds – Best of 1; Top Cut – Best of 3 \nThis is a competitive event where trainers can earn Championship points. \nDeck lists are required – Email to Events@RipNShipArena.com \nPlayers MUST show up with their play IDs. If you do not have one\, we can assign you a new one. If you will need a new ID\, please plan to show up early\, as we will be starting promptly at 10:00AM \nFor more information regarding this event\, please contact us by email at Events@RipNShipArena.com \n*On-site Registration Available based on availability
URL:https://ilovebabylon.com/event/pokemon-tcg-league-cup-2/
LOCATION:1883-B Deer Park Avenue\, Deer Park\, NY\, United States\, New York 11729\, 1883-B Deer Park Avenue\, Deer Park\, NY\, United States\, New York 11729
END:VEVENT
BEGIN:VEVENT
DTSTART;TZID=America/New_York:20260308T093000
DTEND;TZID=America/New_York:20260308T123000
DTSTAMP:20260419T175522
CREATED:20260226T184744Z
LAST-MODIFIED:20260307T121826Z
UID:10007794-1772962200-1772973000@ilovebabylon.com
SUMMARY:Guest Preacher Bishop Karen Oliveto
DESCRIPTION:Bishop Karen Oliveto continues our Lent sermon series\, “The Way\,” sharing insights from her time on the Camino de Santiago and what pilgrimage teaches us about faith and life.
URL:https://ilovebabylon.com/event/guest-preacher-bishop-karen-oliveto/
LOCATION:21 James St\, Babylon\, NY\, United States\, New York 11702\, 21 James St\, Babylon\, NY\, United States\, New York 11702
END:VEVENT
BEGIN:VEVENT
DTSTART;TZID=America/New_York:20260307T220000
DTEND;TZID=America/New_York:20260308T010000
DTSTAMP:20260419T175522
CREATED:20260226T184742Z
LAST-MODIFIED:20260307T121824Z
UID:10007793-1772920800-1772931600@ilovebabylon.com
SUMMARY:Pour Some 80's On Me at The Warehouse!
DESCRIPTION:🎸✨ Back to the 80s at The Warehouse! ✨🎸 \nGet ready to crank up the nostalgia! Pour Some 80’s On Me is bringing all your favorite 1980s rock & pop hits to The Warehouse in Amityville on Saturday\, March 7 at 10PM. \nBig hair\, neon vibes\, sing-along anthems\, and high-energy fun all night long — this is your ultimate throwback party! Grab your friends\, rock your best 80s look\, and get ready to dance and sing like it’s 1989. \n📍 The Warehouse – Amityville⏰ Saturday\, March 7 | 10PM🎶 Pour Some 80’s On Me \nDon’t miss it — let’s party like the 80s never ended! 🕺🎤🎶
URL:https://ilovebabylon.com/event/pour-some-80s-on-me-at-the-warehouse-2/
LOCATION:The Warehouse Live Music & Events\, The Warehouse Live Music & Events
END:VEVENT
BEGIN:VEVENT
DTSTART;TZID=America/New_York:20260307T200000
DTEND;TZID=America/New_York:20260307T230000
DTSTAMP:20260419T175522
CREATED:20260307T121820Z
LAST-MODIFIED:20260307T121820Z
UID:10007890-1772913600-1772924400@ilovebabylon.com
SUMMARY:Rock Solid Live @ Popei’s
DESCRIPTION:Up-Tempo\, party rock
URL:https://ilovebabylon.com/event/rock-solid-live-popeis/
LOCATION:Popei’s Clam Bar Deer Park\, Popei's Clam Bar Deer Park
END:VEVENT
BEGIN:VEVENT
DTSTART;TZID=America/New_York:20260307T200000
DTEND;TZID=America/New_York:20260307T230000
DTSTAMP:20260419T175522
CREATED:20260307T121817Z
LAST-MODIFIED:20260307T121817Z
UID:10007889-1772913600-1772924400@ilovebabylon.com
SUMMARY:Sanity and Stone Alice
DESCRIPTION:Come and Rock out with Sanity and Stone Alice. $10 cover at door.
URL:https://ilovebabylon.com/event/sanity-and-stone-alice/
LOCATION:West Babylon\, LI\, NY
END:VEVENT
BEGIN:VEVENT
DTSTART;TZID=America/New_York:20260307T200000
DTEND;TZID=America/New_York:20260307T230000
DTSTAMP:20260419T175522
CREATED:20260226T184740Z
LAST-MODIFIED:20260307T121815Z
UID:10007792-1772913600-1772924400@ilovebabylon.com
SUMMARY:March 7th Comedy Night
DESCRIPTION:The comics are back! Come down for a night of fun and laughs BYOB ad snacks$25 per person – purchase here in advance or at the door (if not sold out)Its a BLAST!21 plus only
URL:https://ilovebabylon.com/event/march-7th-comedy-night/
LOCATION:The Color Palette Lindenhurst\, 51 West Hoffman Ave.\, Lindenhurst\, NY\, 11757\, US
END:VEVENT
BEGIN:VEVENT
DTSTART;TZID=America/New_York:20260307T200000
DTEND;TZID=America/New_York:20260307T230000
DTSTAMP:20260419T175522
CREATED:20260226T184736Z
LAST-MODIFIED:20260307T121813Z
UID:10007791-1772913600-1772924400@ilovebabylon.com
SUMMARY:JENZ X doing Covers & originals
DESCRIPTION:we will be doing something a little different.This night we will be adding some cover songs to our set list. it’s gonna be a 50/50 night….
URL:https://ilovebabylon.com/event/jenz-x-doing-covers-originals/
LOCATION:Village Pub Lindenhurst\, 174 N Wellwood Ave\, Lindenhurst\, NY\, 11757\, US
END:VEVENT
BEGIN:VEVENT
DTSTART;TZID=America/New_York:20260307T200000
DTEND;TZID=America/New_York:20260307T230000
DTSTAMP:20260419T175522
CREATED:20260226T184732Z
LAST-MODIFIED:20260307T121811Z
UID:10007790-1772913600-1772924400@ilovebabylon.com
SUMMARY:Boogie Mama - Led Zeppelin Tribute @ Riptides
DESCRIPTION:A high-energy Led Zeppelin set featuring songs from every studio album\, performed with the fire\, vitality\, and soaring vocals of Zeppelin’s early live years. \nHeavy blues\, explosive rock\, and epic moments from the band’s pre-1972 era\, played loud and alive. \nGreat food\, great drinks\, and a night of real rock.
URL:https://ilovebabylon.com/event/boogie-mama-led-zeppelin-tribute-riptides/
LOCATION:RipTides Cocktails and Grill\, 168 East Montauk Highway\, Lindenhurst\, NY\, 11757\, US
END:VEVENT
BEGIN:VEVENT
DTSTART;TZID=America/New_York:20260307T193000
DTEND;TZID=America/New_York:20260307T210000
DTSTAMP:20260419T175522
CREATED:20260226T184728Z
LAST-MODIFIED:20260302T134610Z
UID:10007789-1772911800-1772917200@ilovebabylon.com
SUMMARY:Babylon Village Historical and Preservation Society "2nd Annual Vintage Oscar Party"
DESCRIPTION:It’s time for our 2nd annual vintage Oscar party. This year we will be celebrating the films of 1960. This is your chance to rewrite history and cast your ballot for the best films and performances of that great year in movie history. \nWhen: Saturday\, March 7th – 7:30 p.m. to 9-sh p.m.Where: The Village of Babylon Historical and Preservation Society\, located at 117 W. Main Street\, Babylon \nCost: $10 per person for Historical Society members/ $20 person for non-members \nRESERVATIONS ARE REQUIRED \nTo make a reservation\, please call 631-669-1756 and leave a message. We will get back to you to confirm your reservation.There will\, of course\, be refreshments and bubbly. Oscar attire is optional.  \nWhen it comes to walking the red carpet\, Hollywood takes second place behind the beautiful people of Babylon!
URL:https://ilovebabylon.com/event/babylon-village-historical-and-preservation-society-2nd-annual-vintage-oscar-party/
LOCATION:Babylon Historical Society\, 117 W. Main Street\, Babylon Historical Society\, 117 W. Main Street
CATEGORIES:Featured Events
END:VEVENT
BEGIN:VEVENT
DTSTART;TZID=America/New_York:20260307T190000
DTEND;TZID=America/New_York:20260307T220000
DTSTAMP:20260419T175522
CREATED:20260301T075112Z
LAST-MODIFIED:20260307T121806Z
UID:10007875-1772910000-1772920800@ilovebabylon.com
SUMMARY:Dueling Pianos @ Lily's
DESCRIPTION:Get ready for a sing-along showdown where YOU pick the playlist! Dueling Pianos @ Lily’s Babylon @ 7 pm
URL:https://ilovebabylon.com/event/dueling-pianos-lilys/
LOCATION:345 Deer Park Ave\, Babylon\, NY\, United States\, New York 11702\, 345 Deer Park Ave\, Babylon\, NY\, United States\, New York 11702
END:VEVENT
BEGIN:VEVENT
DTSTART;TZID=America/New_York:20260307T183000
DTEND;TZID=America/New_York:20260307T230000
DTSTAMP:20260419T175522
CREATED:20260226T184626Z
LAST-MODIFIED:20260307T121802Z
UID:10007788-1772908200-1772924400@ilovebabylon.com
SUMMARY:Gen X/Millennial party night!
DESCRIPTION:We’re celebrating Michele’s Birthday and a few others at our favorite brewery! Live music by Radio Active\, He Said She Said\, and some surprise guests too! Don’t miss out!Craft beer\, cocktails\, wine\, cider\, sangria.Food truck: Dusty’s BBQ 🤘🏻💚💜🥳🍻🎉🩷🩵🤘🏻$5 cover
URL:https://ilovebabylon.com/event/birthday-party-bash-at-sand-city-south/
LOCATION:Online Event\, West Babylon\, NY\, US
CATEGORIES:Music
END:VEVENT
BEGIN:VEVENT
DTSTART;TZID=America/New_York:20260307T140000
DTEND;TZID=America/New_York:20260307T180000
DTSTAMP:20260419T175522
CREATED:20260307T121758Z
LAST-MODIFIED:20260307T121758Z
UID:10007888-1772892000-1772906400@ilovebabylon.com
SUMMARY:The Lucky Social Pop-up market
DESCRIPTION:This isn’t just a pop-up — it’s a Lucky Social. \nFor one afternoon only\, The Lucky Social Pop-Up takes over Great South Bay Brewery with 17 carefully curated local vendors bringing together style\, creativity\, and community. \nThink flower bar moments\, permanent jewelry\, handmade and modern jewelry\, trucker hats\, custom merch and apparel\, unique men’s clothing\, crystals and tarot readings\, sweet treats\, tranquil candles\, meet an author\, plus all things books\, comics\, and collectibles—finished off with photo booth moments worth posting. \nCome shop\, sip\, eat great food\, explore\, and give back. A portion of all vendor proceeds will benefit Shelter Link who supports and advocates for the Babylon Animal Shelter\, supporting animals in need in our community  \nGreat South Bay Brewery – LindenhurstMarch 7\, 20262–6 PM \nTrust us\, you won’t want to miss this!
URL:https://ilovebabylon.com/event/the-lucky-social-pop-up-market/
LOCATION:Online Event\, West Babylon\, NY\, US
END:VEVENT
BEGIN:VEVENT
DTSTART;TZID=America/New_York:20260307T140000
DTEND;TZID=America/New_York:20260307T180000
DTSTAMP:20260419T175522
CREATED:20260301T075033Z
LAST-MODIFIED:20260307T121800Z
UID:10007874-1772892000-1772906400@ilovebabylon.com
SUMMARY:☘️The Lucky Social
DESCRIPTION:🍀This isn’t just a pop-up — it’s a Lucky Social☘️For one afternoon only\, The Lucky Social Pop-Up takes over 🍺Great South Bay Brewery 🍻 Lindenhurst with 17 carefully curated local vendors bringing together style\, creativity\, and community.Think 🌹flower bar moments\, permanent jewelry\, 📿handmade and modern jewelry\, 🧢trucker hats\, 👕custom merch and apparel\, 🕯️tranquil candles\, 👖unique men’s clothing\, 💎crystals and tarot readings\, 🍭sweet treats\, 📖meet an author\, plus all things books\, comics\, and collectibles—finished off with 📸 photo booth moments worth posting.Come shop\, sip\, eat great food\, explore\, and give back. A portion of all vendor proceeds will benefit Shelter Link who supports and advocates for the Babylon Animal Shelter\, supporting animals in need in our community 🐾🐾 \n📍 Great South Bay Brewery147 S Wellwood Ave\, Lindenhurst🗓️ March 7\, 2026⏰ 2–6 PM
URL:https://ilovebabylon.com/event/%e2%98%98%ef%b8%8fthe-lucky-social/
LOCATION:Online Event\, West Babylon\, NY\, US
CATEGORIES:Featured Events
END:VEVENT
BEGIN:VEVENT
DTSTART;TZID=America/New_York:20260307T140000
DTEND;TZID=America/New_York:20260307T170000
DTSTAMP:20260419T175522
CREATED:20260226T184622Z
LAST-MODIFIED:20260307T121756Z
UID:10007787-1772892000-1772902800@ilovebabylon.com
SUMMARY:PAINT & REFRESHMENT FUNDRAISER
DESCRIPTION:TICKETS $25 \nGet your tickets online today at: https://sacnaevents.org/product/registration/ \nCONTACTS:RON C: 917-912-5253LOUISE: 631-645-6627 \n#narcoticsanonymous\, #NAConvention\, #Recovery\, #Fellowship\, #Anonymous\, #support\, #Healing\, #Unity\, #12steps\, #12traditions\, #cleanliving\, #personalgrowth\, #servicee\, #community\, #babylon\, #newyork\, #longisland\, #suffolkcounty\, #nassaucounty\, #northbabylon\, #lindenhurst\, #islip\, #ronkonkama\, #bohemia
URL:https://ilovebabylon.com/event/paint-refreshment-fundraiser/
LOCATION:Hollywood Baptist Church\, Hollywood Baptist Church
CATEGORIES:Community,Fundraiser
END:VEVENT
END:VCALENDAR