BEGIN:VCALENDAR
VERSION:2.0
PRODID:-//I Love Babylon, NY - ECPv6.15.20//NONSGML v1.0//EN
CALSCALE:GREGORIAN
METHOD:PUBLISH
X-WR-CALNAME:I Love Babylon, NY
X-ORIGINAL-URL:https://ilovebabylon.com
X-WR-CALDESC:Events for I Love Babylon, NY
REFRESH-INTERVAL;VALUE=DURATION:PT1H
X-Robots-Tag:noindex
X-PUBLISHED-TTL:PT1H
BEGIN:VTIMEZONE
TZID:America/New_York
BEGIN:DAYLIGHT
TZOFFSETFROM:-0500
TZOFFSETTO:-0400
TZNAME:EDT
DTSTART:20250309T070000
END:DAYLIGHT
BEGIN:STANDARD
TZOFFSETFROM:-0400
TZOFFSETTO:-0500
TZNAME:EST
DTSTART:20251102T060000
END:STANDARD
BEGIN:DAYLIGHT
TZOFFSETFROM:-0500
TZOFFSETTO:-0400
TZNAME:EDT
DTSTART:20260308T070000
END:DAYLIGHT
BEGIN:STANDARD
TZOFFSETFROM:-0400
TZOFFSETTO:-0500
TZNAME:EST
DTSTART:20261101T060000
END:STANDARD
BEGIN:DAYLIGHT
TZOFFSETFROM:-0500
TZOFFSETTO:-0400
TZNAME:EDT
DTSTART:20270314T070000
END:DAYLIGHT
BEGIN:STANDARD
TZOFFSETFROM:-0400
TZOFFSETTO:-0500
TZNAME:EST
DTSTART:20271107T060000
END:STANDARD
END:VTIMEZONE
BEGIN:VEVENT
DTSTART;TZID=America/New_York:20260424T183000
DTEND;TZID=America/New_York:20260424T213000
DTSTAMP:20260421T003305
CREATED:20260417T073734Z
LAST-MODIFIED:20260420T201845Z
UID:10008208-1777055400-1777066200@ilovebabylon.com
SUMMARY:BUNCO NIGHT
DESCRIPTION:By Reservations Only no walk-insRaffle basketsSeveral monetary prizesSnacks and water providedPlease bring $4 in quartersContact: Linda @516–356-0949$25Please see flyer for additional info
URL:https://ilovebabylon.com/event/bunco-night-6/
LOCATION:Deer Park\, Long Island\, New York. USA\, Deer Park\, Long Island\, New York. USA
END:VEVENT
BEGIN:VEVENT
DTSTART;TZID=America/New_York:20260424T183000
DTEND;TZID=America/New_York:20260424T213000
DTSTAMP:20260421T003305
CREATED:20260323T124535Z
LAST-MODIFIED:20260420T201840Z
UID:10008030-1777055400-1777066200@ilovebabylon.com
SUMMARY:BUNCO
DESCRIPTION:By Reservations only. No WalkinsBrumidi Lodge of Sons of Italy Contact:Linda @ 516-356-0949Raffle Baskets Please bring $4 in quarters Snacks & water providedSeveral money prizes
URL:https://ilovebabylon.com/event/bunco-17/
LOCATION:Deer Park\, Long Island\, New York. USA\, Deer Park\, Long Island\, New York. USA
END:VEVENT
BEGIN:VEVENT
DTSTART;TZID=America/New_York:20260424T183000
DTEND;TZID=America/New_York:20260424T213000
DTSTAMP:20260421T003305
CREATED:20260323T124537Z
LAST-MODIFIED:20260420T201850Z
UID:10008031-1777055400-1777066200@ilovebabylon.com
SUMMARY:Lefty at Goccia D'oro
DESCRIPTION:Come on down to forget about life for awhile. Playing all the songs that bring back great memories
URL:https://ilovebabylon.com/event/lefty-at-goccia-doro-3/
LOCATION:Goccia D’oro Restaurant\, 118 S Wellwood Ave\, Lindenhurst\, NY\, 11757-4901\, US
END:VEVENT
BEGIN:VEVENT
DTSTART;TZID=America/New_York:20260424T183000
DTEND;TZID=America/New_York:20260424T213000
DTSTAMP:20260421T003305
CREATED:20260331T231730Z
LAST-MODIFIED:20260420T201838Z
UID:10008119-1777055400-1777066200@ilovebabylon.com
SUMMARY:BUNCO NIGHT
DESCRIPTION:By reservation only. No walk-ins.Contact: Linda at 516–356-0949 Raffle basketsPlease bring $4 in quartersSnacks and water providedCash bar available
URL:https://ilovebabylon.com/event/bunco-night-3/
LOCATION:Deer Park\, Long Island\, New York. USA\, Deer Park\, Long Island\, New York. USA
END:VEVENT
BEGIN:VEVENT
DTSTART;TZID=America/New_York:20260424T183000
DTEND;TZID=America/New_York:20260424T213000
DTSTAMP:20260421T003305
CREATED:20260331T231736Z
LAST-MODIFIED:20260420T201842Z
UID:10008120-1777055400-1777066200@ilovebabylon.com
SUMMARY:BUNCO  NIGHT
DESCRIPTION:By Reservation only. No walkinsContact:Linda 516-356-0949Raffle BasketsPlease bring $4 in quarters Several monetary prizes Snacks & water provided
URL:https://ilovebabylon.com/event/bunco-night-4/
LOCATION:Deer Park\, Long Island\, New York. USA\, Deer Park\, Long Island\, New York. USA
END:VEVENT
BEGIN:VEVENT
DTSTART;TZID=America/New_York:20260424T183000
DTEND;TZID=America/New_York:20260424T213000
DTSTAMP:20260421T003305
CREATED:20260331T231741Z
LAST-MODIFIED:20260420T201852Z
UID:10008121-1777055400-1777066200@ilovebabylon.com
SUMMARY:Serve the Servants\, Lightning Crashes and Seasons LIVE at The Warehouse
DESCRIPTION:🎸 90s Alternative Night at The Warehouse – Friday April 24th 🎸 \nGet ready for a powerful night of iconic ‘90s sound as three killer tribute bands take the stage at The Warehouse! \n🔥 Serve the Servants – Bringing the raw energy of Nirvana⚡ Lightning Crashed – A tribute to the soaring anthems of Live🌧 Seasons – Honoring the legendary sound of Chris Cornell \nFrom grunge to alt-rock classics\, this lineup delivers all the nostalgia and intensity of one of music’s greatest eras. \n🕡 Doors Open: 6:30 PM🎟 Tickets starting at $18.25 \nGrab your friends and come experience a night packed with unforgettable music and vibes you won’t want to miss.
URL:https://ilovebabylon.com/event/serve-the-servants-lightning-crashes-and-seasons-live-at-the-warehouse/
LOCATION:The Warehouse Live Music & Events\, The Warehouse Live Music & Events
END:VEVENT
BEGIN:VEVENT
DTSTART;TZID=America/New_York:20260424T190000
DTEND;TZID=America/New_York:20260424T220000
DTSTAMP:20260421T003305
CREATED:20260417T073741Z
LAST-MODIFIED:20260420T201854Z
UID:10008209-1777057200-1777068000@ilovebabylon.com
SUMMARY:Red Zone Comedy Feature Friday with Richie Minervini
DESCRIPTION:Kick back with Richie Minervini and laughs at Red Zone Comedy Feature this Friday—don’t miss the fun in person!
URL:https://ilovebabylon.com/event/red-zone-comedy-feature-friday-with-richie-minervini/
LOCATION:Red Zone Bar & Grill\, 770 Sunrise Highway\, West Babylon\, NY\, 11704\, US
END:VEVENT
BEGIN:VEVENT
DTSTART;TZID=America/New_York:20260424T190000
DTEND;TZID=America/New_York:20260424T210000
DTSTAMP:20260421T003305
CREATED:20260417T073743Z
LAST-MODIFIED:20260420T201859Z
UID:10008210-1777057200-1777064400@ilovebabylon.com
SUMMARY:Crystal Bingo & Pizza Night
DESCRIPTION:CRYSTAL LOTERÍA (bingo) PIZZA AND WINE NIGHTWith iiwii elements! 💎💎💎💎💎📍 @juventus_pizza 🎟️ Buy TicketsLINK IN BIO 🕖 7 pm EST (4/24/26) \nIncludes:⭐️ 90 min of Loteria\, prizes valued over $75 ⭐️ Crystal goodie bag valued at $50 filled with Crystal goodies ⭐️ 10inch pizza with a topping of your choice ⭐️ Can of soda and a glass of wine  \nDescription ⬇️⬇️⬇️⬇️ \nGet ready to shout “¡Lotería!” with a sparkling twist! Join us on April 24 at 7:00 PM at Juventus Pizza Shop in Deer Park for a game night that’s all about the gems. We’re swapping the old-school cards for custom versions featuring my own photography of the crystals sold at the shop over the last few years—it’s a literal trip down memory lane through a camera lens!Your ticket is a total vibe: you’ll snag a personal 10-inch pizza with your favorite topping\, a Coke\, and a glass of wine to keep the energy high. Every single person walks away with a crystal goodie bag\, and you’ll have six chances to win some truly high-end crystal prizes. If you love photography\, pizza\, or a little bit of “woo-woo” magic\, this is your night.
URL:https://ilovebabylon.com/event/crystal-bingo-pizza-night/
LOCATION:786 Grand Blvd Suite J\, Deer Park\, NY\, 786 Grand Blvd Suite J\, Deer Park\, NY
END:VEVENT
BEGIN:VEVENT
DTSTART;TZID=America/New_York:20260424T191500
DTEND;TZID=America/New_York:20260424T221500
DTSTAMP:20260421T003305
CREATED:20260417T073749Z
LAST-MODIFIED:20260420T201909Z
UID:10008211-1777058100-1777068900@ilovebabylon.com
SUMMARY:BUNCO NIGHT
DESCRIPTION:By reservation only. No walk-ins permitted.Raffle basketsSeveral monetary prizesSnacks and water provide providedContact: Linda @ 516-356-0949Please bring $4 in quartersHis mission: $25Please see flyer for additional details
URL:https://ilovebabylon.com/event/bunco-night-7/
LOCATION:Deer Park\, Long Island\, New York. USA\, Deer Park\, Long Island\, New York. USA
END:VEVENT
BEGIN:VEVENT
DTSTART;TZID=America/New_York:20260424T191500
DTEND;TZID=America/New_York:20260424T221500
DTSTAMP:20260421T003305
CREATED:20260420T201914Z
LAST-MODIFIED:20260420T201914Z
UID:10008280-1777058100-1777068900@ilovebabylon.com
SUMMARY:BUNCO NIGHT
DESCRIPTION:BUNCO NIGHT By Reservations only. No walk-ins permitted.Raffle basketsSeveral monetary prizesPlease bring $4 in quartersContact: Linda at 516–356-0949$25See flyer for additional details
URL:https://ilovebabylon.com/event/bunco-night-8/
LOCATION:Deer Park\, Long Island\, New York. USA\, Deer Park\, Long Island\, New York. USA
END:VEVENT
BEGIN:VEVENT
DTSTART;TZID=America/New_York:20260424T191500
DTEND;TZID=America/New_York:20260424T221500
DTSTAMP:20260421T003305
CREATED:20260420T201917Z
LAST-MODIFIED:20260420T201917Z
UID:10008281-1777058100-1777068900@ilovebabylon.com
SUMMARY:BUNCO NIGHT
DESCRIPTION:By reservation only no walk-ins permittedRaffle basketsSnacks\, coffee\, tea\, and water will be providedDoor prizesSeveral monetary prizesContact Linda @ 516-356-0949Please bring $4 in quarters
URL:https://ilovebabylon.com/event/bunco-night-9/
LOCATION:Deer Park\, Long Island\, New York. USA\, Deer Park\, Long Island\, New York. USA
END:VEVENT
BEGIN:VEVENT
DTSTART;TZID=America/New_York:20260424T191500
DTEND;TZID=America/New_York:20260424T221500
DTSTAMP:20260421T003305
CREATED:20260323T124539Z
LAST-MODIFIED:20260420T201904Z
UID:10008032-1777058100-1777068900@ilovebabylon.com
SUMMARY:BUNCO
DESCRIPTION:By Reservation only. No walkins. Contact Linda @ 516-356-0949Raffle Baskets Please bring $4 in quarters Snacks\, coffee\, tea & water provided Several money prizes Doors open at 6:30
URL:https://ilovebabylon.com/event/bunco-18/
LOCATION:Deer Park\, Long Island\, New York. USA\, Deer Park\, Long Island\, New York. USA
END:VEVENT
BEGIN:VEVENT
DTSTART;TZID=America/New_York:20260424T191500
DTEND;TZID=America/New_York:20260424T221500
DTSTAMP:20260421T003305
CREATED:20260323T124540Z
LAST-MODIFIED:20260420T201919Z
UID:10008033-1777058100-1777068900@ilovebabylon.com
SUMMARY:BUNCO NIGHT
DESCRIPTION:By Reservation Only. No walkins Doors open at 6:15Baskets and rafflesContact:Linda @ 516-356-0949Please bring $3 – $4 in quarters Snacks\, coffee\, tea\, and water provided$25 per personSee flyer from one details
URL:https://ilovebabylon.com/event/bunco-night-2/
LOCATION:Deer Park\, Long Island\, New York. USA\, Deer Park\, Long Island\, New York. USA
END:VEVENT
BEGIN:VEVENT
DTSTART;TZID=America/New_York:20260424T191500
DTEND;TZID=America/New_York:20260424T221500
DTSTAMP:20260421T003305
CREATED:20260331T231748Z
LAST-MODIFIED:20260420T201907Z
UID:10008122-1777058100-1777068900@ilovebabylon.com
SUMMARY:BUNCO NIGHT
DESCRIPTION:BUNCO NIGHT By Reservation only. No walk-ins.Contact: Linda @ 516-356-0949Raffle basketsMany monetary prizesSnacks\, coffee\, tea\, water providedPlease bring $4 in quartersWhere is open 6:15
URL:https://ilovebabylon.com/event/bunco-night-5/
LOCATION:Deer Park\, Long Island\, New York. USA\, Deer Park\, Long Island\, New York. USA
END:VEVENT
BEGIN:VEVENT
DTSTART;TZID=America/New_York:20260424T200000
DTEND;TZID=America/New_York:20260424T200000
DTSTAMP:20260421T003305
CREATED:20260420T185508Z
LAST-MODIFIED:20260420T185508Z
UID:10008228-1777060800-1777060800@ilovebabylon.com
SUMMARY:Jesus Christ Superstar
DESCRIPTION:Experience the powerful rock opera “Jesus Christ Superstar\,” presented by The James Street Players in Babylon. This dynamic theatrical production brings to life the final days of Jesus through unforgettable music and storytelling. Join the community for an engaging evening performance and enjoy a night out filled with drama\, emotion\, and iconic songs.
URL:https://ilovebabylon.com/event/jesus-christ-superstar-4/
CATEGORIES:Theater
ATTACH;FMTTYPE=image/jpeg:https://ilovebabylon.com/wp-content/uploads/2026/04/2026-04-14-17.31.26.jpg
END:VEVENT
BEGIN:VEVENT
DTSTART;TZID=America/New_York:20260424T200000
DTEND;TZID=America/New_York:20260424T230000
DTSTAMP:20260421T003305
CREATED:20260323T124542Z
LAST-MODIFIED:20260420T201922Z
UID:10008034-1777060800-1777071600@ilovebabylon.com
SUMMARY:Heavy Groove back at RIPTIDES Lindenhurst!
DESCRIPTION:We are BACK at RipTides! Special guest Tony Novarro!Fun show by Heavy Groove\, and NO COVER!
URL:https://ilovebabylon.com/event/heavy-groove-back-at-riptides-lindenhurst/
LOCATION:RipTides Cocktails and Grill\, 168 East Montauk Highway\, Lindenhurst\, NY\, 11757\, US
END:VEVENT
BEGIN:VEVENT
DTSTART;TZID=America/New_York:20260424T210000
DTEND;TZID=America/New_York:20260425T000000
DTSTAMP:20260421T003305
CREATED:20260420T201924Z
LAST-MODIFIED:20260420T201924Z
UID:10008282-1777064400-1777075200@ilovebabylon.com
SUMMARY:Now Hear This at The Village Pub
DESCRIPTION:3 Great Bands:Adding Auras – 8pmNow Hear This – 9pmThank You – 10pm (Led Zeppelin cover band)
URL:https://ilovebabylon.com/event/now-hear-this-at-the-village-pub/
LOCATION:Village Pub Lindenhurst\, 174 N Wellwood Ave\, Lindenhurst\, NY\, 11757\, US
END:VEVENT
BEGIN:VEVENT
DTSTART;TZID=America/New_York:20260425T070000
DTEND;TZID=America/New_York:20260425T173000
DTSTAMP:20260421T003305
CREATED:20260323T124544Z
LAST-MODIFIED:20260420T201929Z
UID:10008035-1777100400-1777138200@ilovebabylon.com
SUMMARY:Village of Babylon "Annual International Marconi Day"
DESCRIPTION:Join The Great South Bay Amateur Radio Club in commemorating the birthday of Guglielmo Marconi who sent the first communication with ships at sea!  \nEnjoy history and transmissions being sent on this day throughout the world as radio enthusiasts celebrate the birthday of Marconi. \nThere will also be a replica of the “shack” that Marconi communicated in. This event is free and open to the public from 7:00 am-5:30 pm in the Village of Babylon Municipal Parking Lot located at 153 W. Main Street.  \nThank you to the Great South Bay Amateur Radio Club for hosting this program every year!
URL:https://ilovebabylon.com/event/village-of-babylon-annual-international-marconi-day/
LOCATION:VIllage of Babylon Municipal Parking Lot\, 153 W. Main Street (across from Village Hall)\, VIllage of Babylon Municipal Parking Lot\, 153 W. Main Street (across from Village Hall)
END:VEVENT
BEGIN:VEVENT
DTSTART;TZID=America/New_York:20260425T090000
DTEND;TZID=America/New_York:20260425T120000
DTSTAMP:20260421T003305
CREATED:20260420T201932Z
LAST-MODIFIED:20260420T201932Z
UID:10008283-1777107600-1777118400@ilovebabylon.com
SUMMARY:Design Studio Moving Sale/Liquidation
DESCRIPTION:Moving to a new location – have home goods\, vanities\, construction plumbing sinks = materials accessories – cash and Carry same day – sinks
URL:https://ilovebabylon.com/event/design-studio-moving-sale-liquidation/
LOCATION:630 Oak St\, Copiague\, NY 11726-3217\, United States\, 630 Oak St\, Copiague\, NY 11726-3217\, United States
END:VEVENT
BEGIN:VEVENT
DTSTART;TZID=America/New_York:20260425T093000
DTEND;TZID=America/New_York:20260425T123000
DTSTAMP:20260421T003305
CREATED:20260323T124548Z
LAST-MODIFIED:20260420T201939Z
UID:10008036-1777109400-1777120200@ilovebabylon.com
SUMMARY:Second Annual Milo's 5K for the Homeless
DESCRIPTION:Join us for LICH’s 2nd annual 5K! Run\, walk\, or wag along to support people experiencing homelessness and their pets.
URL:https://ilovebabylon.com/event/second-annual-milos-5k-for-the-homeless/
LOCATION:Belmont Lake State Park\, 625 Belmont Ave\, Babylon\, NY\, 11704\, US
END:VEVENT
BEGIN:VEVENT
DTSTART;TZID=America/New_York:20260425T093000
DTEND;TZID=America/New_York:20260425T123000
DTSTAMP:20260421T003305
CREATED:20260331T231804Z
LAST-MODIFIED:20260420T201941Z
UID:10008123-1777109400-1777120200@ilovebabylon.com
SUMMARY:Milo's 5K for the Homeless
DESCRIPTION:MORE INFO & SIGN UPhttps://events.elitefeats.com/26coalition
URL:https://ilovebabylon.com/event/milos-5k-for-the-homeless/
LOCATION:Belmont Lake State Park Serene Picnics and Recreation on the Water\, West Babylon\, NY\, 11704 US\, Belmont Lake State Park Serene Picnics and Recreation on the Water\, West Babylon\, NY\, 11704 US
END:VEVENT
BEGIN:VEVENT
DTSTART;TZID=America/New_York:20260425T100000
DTEND;TZID=America/New_York:20260425T120000
DTSTAMP:20260421T003305
CREATED:20260323T124549Z
LAST-MODIFIED:20260420T201945Z
UID:10008037-1777111200-1777118400@ilovebabylon.com
SUMMARY:Long Island AGAPE Family Fun Day: Disney's Descendants: The Musical at The Argyle- Live Performance\,
DESCRIPTION:A Free\, In-Person\, Event for Adoptive\, Foster\, Guardianship and Kinship Families on Long Island \nEvent: Long Island AGAPE FREE Family Fun Day – Disney’s Descendants: The Musical Live Performance at The Argyle Theatre \nDate:Saturday April 25\, 2026 \nTime: 10:00am – 12:00pm \nLocation:The Argyle Theatre\, 34 West Main St. Babylon\, NY \nPerfect for families\, Disney fans\, and anyone who believes in second chances! Join the Long Island AGAPE team as we head to the Argyle Theatre for a FREE Family Fun Day in Babylon. Disney’s Descendants: The Musical is a magical theatrical experience you won’t want to miss! \nBased on the popular Disney Channel Original Movies\, Disney’s Descendants: The Musical is a brand-new musical jam-packed with comedy\, adventure\, Disney characters\, and hit songs from the films! \nImprisoned on the Isle of the Lost – home of the most infamous villains who ever lived – the teenaged children of Maleficent\, the Evil Queen\, Jafar\, and Cruella De Vil have never ventured off the island… until now. When the four troublemakers are sent to attend prep school alongside the children of beloved Disney heroes\, they have a difficult choice to make: should they follow in their parents’ wicked footsteps or learn to be good? \nImportant: \nRated G Run Time: Approx. 75 Minutes (Including a 15 Minute Intermission) \nSpace is limited must RSVP: Don’t miss this wickedly fun adventure! \nBring your own snacks \nMust arrive on time\, show starts promptly at 10:30 am. Please arrive 30 minutes prior at 10:00 am \nNote: This is an event for the entire family and not a drop-off event. \nTHIS EVENT IS SOLD OUT! \n We can’t wait to see you there!
URL:https://ilovebabylon.com/event/long-island-agape-family-fun-day-disneys-descendants-the-musical-at-the-argyle-live-performance/
LOCATION:The Argyle Theatre at Babylon Village
END:VEVENT
BEGIN:VEVENT
DTSTART;TZID=America/New_York:20260425T100000
DTEND;TZID=America/New_York:20260425T120000
DTSTAMP:20260421T003305
CREATED:20260331T231811Z
LAST-MODIFIED:20260420T201948Z
UID:10008124-1777111200-1777118400@ilovebabylon.com
SUMMARY:Kingdom Creatives - CANCELLED
DESCRIPTION:🎨🎶 🧶 Kingdom Creatives is all about empowering creatives for the glory of Christ! Our mission is to make a space where creatives can explore and expand their giftings\, and to provide an opportunity for them to partner with other creatives in our region. We’re a diverse\, creative community that represents all the arts: visual\, written\, and performing arts.  \nOur gatherings are completely free\, come as you are\, bring your creative preference\, let us know if you can make it by RSVPing on the event!👇🏼 \nNext meeting : Saturday\, April 25th at 10am at The Convergence Equipping Center\, 45 Burch Ave\, Amityville\, NY (directly across from the Amityville LIRR station) 🚉
URL:https://ilovebabylon.com/event/kingdom-creatives-2/
LOCATION:45 Burch Avenue\, Amityville\, NY\, 45 Burch Avenue\, Amityville\, NY
END:VEVENT
BEGIN:VEVENT
DTSTART;TZID=America/New_York:20260425T100000
DTEND;TZID=America/New_York:20260425T130000
DTSTAMP:20260421T003305
CREATED:20260323T124551Z
LAST-MODIFIED:20260420T201952Z
UID:10008038-1777111200-1777122000@ilovebabylon.com
SUMMARY:6th Annual Kite Festival - "Go Fly a Kite Over Babylon
DESCRIPTION:The North Babylon & West Babylon Chamber of Commerce has renamed our Annual Kite Festival to the “Diana C. Simulcik Memorial “Go Fly a Kite Over Babylon. This is to honor Diana who was instrumental in starting and nourishing this Festival in 2021.We will all love and miss her guidance.She devoted nearly 30 years to teaching in the North Babylon School District\, profoundly impacting countless students with her warmth\, dedication\, and encouragement. She also founded the North Babylon High School chapter of the Model United Nations\, inspiring generations of students to explore global issues and develop leadership skills.Diana later served as principal of North Babylon’s evening alternative school and spent many years privately tutoring students\, offering patient guidance and heartfelt support. To her\, students and colleagues were family\, treated with the same love and care as her own.Diana proudly founded the popular “Go Fly a Kite Over Babylon” festival\, bringing joy and creativity to the community. She was an avid traveler\, exploring approximately 50 countries across five continents\, including a recent journey to Antarctica.She loved the arts\, including museums\, galleries\, the Metropolitan Opera\, Broadway shows\, and stand-up comedy. A lifelong animal lover\, Diana adopted and cared for many cats\, welcoming stray and neighborhood cats to her home with food\, shelter\, and kindness.This year the Kite Festival is scheduled for Saturday\, April 25 – rain date Sunday\, April 26 at Overlook Beach – Town of Babylon Parks\, from 10 a.m. to 5 p.m. This event is open to the public.
URL:https://ilovebabylon.com/event/6th-annual-kite-festival-go-fly-a-kite-over-babylon/
LOCATION:Overlook Beach – Town of Babylon Parks\, Ocean Parkway\, Babylon\, NY\, 11702\, US
END:VEVENT
BEGIN:VEVENT
DTSTART;TZID=America/New_York:20260425T100000
DTEND;TZID=America/New_York:20260425T153000
DTSTAMP:20260421T003305
CREATED:20260323T124555Z
LAST-MODIFIED:20260420T201954Z
UID:10008039-1777111200-1777131000@ilovebabylon.com
SUMMARY:Empowered Evangelism
DESCRIPTION:|| Empowered Evangelism || Saturday\, April 25 || 10am – 3:30pm \n🎟️ FREE but must register!! \nWe follow the model of Jesus when sharing the Good News. Jesus applied both Word and Works. We see in the gospels He preached\, healed\, and operated in Words of Knowledge when declaring the Good News. Yet many have discarded the works of the Spirit when sharing the Gospel. Perhaps today\, more than ever before\, people need to see the power of God. \nDuring this training\, there will be a team of people that regularly evangelize in both Word and works that will partner with students to mentor. The morning will be the training. Then in the afternoon we will go and do. Afterwards\, we will get back together to debrief\, and hear all the Lord did. Phill has done power evangelism from the beginning of his walk with God and has been training people in it on four continents. \nThis is very practical training that every believer should have in their evangelism toolbox!
URL:https://ilovebabylon.com/event/empowered-evangelism/
LOCATION:45 Burch Avenue\, Amityville\, NY\, 45 Burch Avenue\, Amityville\, NY
END:VEVENT
BEGIN:VEVENT
DTSTART;TZID=America/New_York:20260425T100000
DTEND;TZID=America/New_York:20260425T170000
DTSTAMP:20260421T003305
CREATED:20260323T124557Z
LAST-MODIFIED:20260420T201956Z
UID:10008040-1777111200-1777136400@ilovebabylon.com
SUMMARY:6th Annual Go Fly A Kite Over Babylon
DESCRIPTION:This is the 6th Annual “Go Fly A Kite Over Babylon” event with size increasing each year! Come enjoy a day out with the family at beautiful Overlook Beach. This is a free event open to the public. \nFrequently Asked Questions: \nCan I bring my dog?Unfortunately no\, we must follow the town beach rules which state no dogs at this beach. \nCan I buy a Kite or bring one?Either! Kites will be available for sale or you can bring your own.  \nWhere do I park?In the Overlook Beach parking lot. DO NOT park on the side of Ocean Parkway\, you will be ticketed.  \nIs there an entrance fee?No! This is free to the public! \nDo I need to be a Town of Babylon resident?Nope! Open to anyone beyond!  \nHow can I become a vendor?Previous vendors were invited by the chamber at the start of the year. However\, to check for any openings\, please talk to the North Babylon & West Babylon Chamber directly.
URL:https://ilovebabylon.com/event/6th-annual-go-fly-a-kite-over-babylon/
LOCATION:Overlook Beach – Town of Babylon Parks\, Ocean Parkway\, Babylon\, NY\, 11702\, US
END:VEVENT
BEGIN:VEVENT
DTSTART;TZID=America/New_York:20260425T100000
DTEND;TZID=America/New_York:20260425T170000
DTSTAMP:20260421T003305
CREATED:20260420T191201Z
LAST-MODIFIED:20260420T191201Z
UID:10008234-1777111200-1777136400@ilovebabylon.com
SUMMARY:The 6th Annual Go Fly a Kite Over Babylon
DESCRIPTION:Join the community for the 6th Annual Go Fly a Kite Over Babylon\, a fun-filled day at beautiful Overlook Beach! Bring your family\, friends\, and kites to enjoy a relaxing day by the ocean with colorful kites filling the sky. This free festival offers the perfect opportunity to soak up the sun\, enjoy the fresh sea breeze\, and create lasting memories. Whether you’re flying your own kite or simply watching the vibrant display\, there’s something for everyone at this family-friendly beach event.
URL:https://ilovebabylon.com/event/the-6th-annual-go-fly-a-kite-over-babylon/
LOCATION:Overlook Beach\, Ocean Parkway\, Babylon\, NY\, 11702\, US
CATEGORIES:Community,Fairs and Festivals,Nature & Outdoors,Recreation & Amusements
ATTACH;FMTTYPE=image/jpeg:https://ilovebabylon.com/wp-content/uploads/2026/04/2026-04-14-07.52.01.jpg
END:VEVENT
BEGIN:VEVENT
DTSTART;TZID=America/New_York:20260425T103000
DTEND;TZID=America/New_York:20260425T113000
DTSTAMP:20260421T003305
CREATED:20260420T201958Z
LAST-MODIFIED:20260420T201958Z
UID:10008284-1777113000-1777116600@ilovebabylon.com
SUMMARY:Saturday Super Studio - Mario and Luigi
DESCRIPTION:Saturday Studio – we are doing step painting with Mario and Luigi! \nSaturday\, April 25th 10:30-11:30am \n$25 per person – all ages can paint!Step By Step Canvas \nGrown ups / Non-Participating Children areALWAYS FREE! Parents may also drop off.
URL:https://ilovebabylon.com/event/saturday-super-studio-mario-and-luigi/
LOCATION:The Color Palette Lindenhurst\, 51 West Hoffman Ave.\, Lindenhurst\, NY\, 11757\, US
END:VEVENT
BEGIN:VEVENT
DTSTART;TZID=America/New_York:20260425T110000
DTEND;TZID=America/New_York:20260425T140000
DTSTAMP:20260421T003305
CREATED:20260331T231825Z
LAST-MODIFIED:20260420T202000Z
UID:10008125-1777114800-1777125600@ilovebabylon.com
SUMMARY:KICK 4 CAUSE
DESCRIPTION:What Inspired This Event:Inspired by Kathy’s grandson\, who was born with severe clubfeet\, underwent a double amputation in March 2024\, and now uses prosthetics. This fundraiser is their way of paying it forward to families who may not have the same support. \nAbout the Event \nKick 4 Cause is a family-friendly community festival and kickball fundraiser focused on promoting awareness\, inclusion\, and empowerment for individuals and families affected by limb loss and limb difference. The day brings together local heroes\, community members\, families\, and supporters for a fun\, inclusive experience centered on connection\, representation\, and impact. \nEvent Info | Saturday\, April 25\, 2025 \nLocation | Herman Griems Park\, Wheatley Heights\, NYContact \nContact | Kathy Cortes Owner\, Just A Nibblejustanibble415@gmail.com631-838-1198
URL:https://ilovebabylon.com/event/kick-4-cause/
LOCATION:54 Brown Blvd\, Wyandanch\, NY 11798-1520\, United States\, 54 Brown Blvd\, Wyandanch\, NY 11798-1520\, United States
END:VEVENT
BEGIN:VEVENT
DTSTART;TZID=America/New_York:20260425T110000
DTEND;TZID=America/New_York:20260425T140000
DTSTAMP:20260421T003305
CREATED:20260420T191128Z
LAST-MODIFIED:20260420T191128Z
UID:10008238-1777114800-1777125600@ilovebabylon.com
SUMMARY:Annual Emergency Preparedness Day
DESCRIPTION:Join the Town of Babylon for Annual Emergency Preparedness Day\, a fun and educational event designed for the whole family! This interactive day features a Touch-A-Truck experience where kids can explore fire trucks\, police vehicles\, ambulances\, and more. Meet local heroes including firefighters\, EMTs\, and police officers while learning valuable safety tips through live demonstrations and activities. Plus\, enjoy exciting giveaways like free bikes and scooters while supplies last. It’s a great opportunity to learn\, connect\, and have fun in a safe and engaging environment!
URL:https://ilovebabylon.com/event/annual-emergency-preparedness-day/
CATEGORIES:Community,Educational,Health and Wellness
ATTACH;FMTTYPE=image/jpeg:https://ilovebabylon.com/wp-content/uploads/2026/04/2026-04-14-17.29.10.jpg
END:VEVENT
END:VCALENDAR