BEGIN:VCALENDAR
VERSION:2.0
PRODID:-//I Love Babylon, NY - ECPv6.15.20//NONSGML v1.0//EN
CALSCALE:GREGORIAN
METHOD:PUBLISH
X-ORIGINAL-URL:https://ilovebabylon.com
X-WR-CALDESC:Events for I Love Babylon, NY
REFRESH-INTERVAL;VALUE=DURATION:PT1H
X-Robots-Tag:noindex
X-PUBLISHED-TTL:PT1H
BEGIN:VTIMEZONE
TZID:America/New_York
BEGIN:DAYLIGHT
TZOFFSETFROM:-0500
TZOFFSETTO:-0400
TZNAME:EDT
DTSTART:20250309T070000
END:DAYLIGHT
BEGIN:STANDARD
TZOFFSETFROM:-0400
TZOFFSETTO:-0500
TZNAME:EST
DTSTART:20251102T060000
END:STANDARD
BEGIN:DAYLIGHT
TZOFFSETFROM:-0500
TZOFFSETTO:-0400
TZNAME:EDT
DTSTART:20260308T070000
END:DAYLIGHT
BEGIN:STANDARD
TZOFFSETFROM:-0400
TZOFFSETTO:-0500
TZNAME:EST
DTSTART:20261101T060000
END:STANDARD
BEGIN:DAYLIGHT
TZOFFSETFROM:-0500
TZOFFSETTO:-0400
TZNAME:EDT
DTSTART:20270314T070000
END:DAYLIGHT
BEGIN:STANDARD
TZOFFSETFROM:-0400
TZOFFSETTO:-0500
TZNAME:EST
DTSTART:20271107T060000
END:STANDARD
END:VTIMEZONE
BEGIN:VEVENT
DTSTART;TZID=America/New_York:20260310T150000
DTEND;TZID=America/New_York:20260310T190000
DTSTAMP:20260420T112701
CREATED:20260307T121858Z
LAST-MODIFIED:20260307T121858Z
UID:10007894-1773154800-1773169200@ilovebabylon.com
SUMMARY:Meet Your New Best Friend at our MOBILE PET ADOPTION EVENT!
DESCRIPTION:Find your new best friend a little closer to home as we bring our adoptable dogs\, cats\, puppies\, and kittens to your neighborhood! \nEVENT DETAILS:Tuesday\, March 103pm-7pm \nPetSmart 241 Airport Plaza Blvd.Farmingdale\, NY \nGet preapproved by emailing offsite@animalleague.org!
URL:https://ilovebabylon.com/event/meet-your-new-best-friend-at-our-mobile-pet-adoption-event-4/
LOCATION:PetSmart\, 1208 Deer Park Ave\, North Babylon\, NY\, 11703\, US
END:VEVENT
BEGIN:VEVENT
DTSTART;TZID=America/New_York:20260310T190000
DTEND;TZID=America/New_York:20260310T210000
DTSTAMP:20260420T112701
CREATED:20260226T184757Z
LAST-MODIFIED:20260307T121900Z
UID:10007799-1773169200-1773176400@ilovebabylon.com
SUMMARY:Detox the Mind Through Meditation
DESCRIPTION:Experiencing the Soul Part V \nThese workshops are Part 5 of a Multi-Part Series entitled Experiencing the Soul.Meditation can be the key that unlocks the inner doorway to a life of deep inner peace. It has been practiced for thousands of years and is the core of all great spiritual traditions. By learning how to “tap inside\,” as Emerson put it\, each of us can mine the unlimited wealth lying dormant inside us. \nPresenter: Andrew Vidich\, PhD \n7-Part Workshop SeriesMissed the last one? No worries – each workshop is designed so you can attend independently. \nDate: Tuesday\, March 10Time: 7 – 9 pm Location: Science of Spirituality Meditation Center79 County Line Road\, Amityville\, NY 11701 \nEvent is free of charge! All are welcome!  \nFor more information contact:Stephanie631-822-7979infotristate@sos.org
URL:https://ilovebabylon.com/event/detox-the-mind-through-meditation-4/
LOCATION:79 County Line Rd\, Amityville\, NY 11701\, 79 County Line Rd\, Amityville\, NY 11701
END:VEVENT
BEGIN:VEVENT
DTSTART;TZID=America/New_York:20260311T160000
DTEND;TZID=America/New_York:20260311T190000
DTSTAMP:20260420T112701
CREATED:20260226T184759Z
LAST-MODIFIED:20260307T121902Z
UID:10007800-1773244800-1773255600@ilovebabylon.com
SUMMARY:Mid-week Lenten Service
DESCRIPTION:Beatitudes of Promise – A Worship Series for LentJoin us for a special series for Lent called “Beatitudes of Promise.” This series focuses on the promises made by Jesus in the beloved words of blessing from his Sermon on the Mount\, applying these messages to our Lenten journey at our 4 PM and 7:30 PM services for Lent with communion.
URL:https://ilovebabylon.com/event/mid-week-lenten-service/
LOCATION:St. Paul’s Lutheran Church Amityville\, NY\, 147 Park Ave\, Amityville\, NY\, 11701\, US
END:VEVENT
BEGIN:VEVENT
DTSTART;TZID=America/New_York:20260311T180000
DTEND;TZID=America/New_York:20260311T210000
DTSTAMP:20260420T112701
CREATED:20260307T121905Z
LAST-MODIFIED:20260307T121905Z
UID:10007895-1773252000-1773262800@ilovebabylon.com
SUMMARY:Barbara & Joe at Pino
DESCRIPTION:Join us on hump day for a mid-week night out. Great vibe\, amazing food and drinks. And $6 Guinness for March☘️ Plus\, there will be plenty of fun tunes!
URL:https://ilovebabylon.com/event/barbara-joe-at-pino/
LOCATION:Pino Wine Bar & Bistro\, 143 N Wellwood Avenue\, Lindenhurst\, NY\, 11757\, US
END:VEVENT
BEGIN:VEVENT
DTSTART;TZID=America/New_York:20260311T190000
DTEND;TZID=America/New_York:20260311T220000
DTSTAMP:20260420T112701
CREATED:20260301T075201Z
LAST-MODIFIED:20260307T121909Z
UID:10007878-1773255600-1773266400@ilovebabylon.com
SUMMARY:Derek Warfield & The Young Wolfetones
DESCRIPTION:Ticket is entry only – does not include table – Must make dinner reservations AFTER purchasing tickets
URL:https://ilovebabylon.com/event/derek-warfield-the-young-wolfetones/
LOCATION:345 Deer Park Ave\, Babylon\, NY\, United States\, New York 11702\, 345 Deer Park Ave\, Babylon\, NY\, United States\, New York 11702
END:VEVENT
BEGIN:VEVENT
DTSTART;TZID=America/New_York:20260311T193000
DTEND;TZID=America/New_York:20260311T223000
DTSTAMP:20260420T112701
CREATED:20260226T184801Z
LAST-MODIFIED:20260307T121913Z
UID:10007801-1773257400-1773268200@ilovebabylon.com
SUMMARY:DWYWT's Live at Lily Flanagans - NY
DESCRIPTION:Join us for a great night of Irish Songs & Music as we make our yearly return to Lily’s
URL:https://ilovebabylon.com/event/dwywts-live-at-lily-flanagans-ny/
LOCATION:Lily Flanagans Pub\, Lily Flanagans Pub
CATEGORIES:Music
END:VEVENT
BEGIN:VEVENT
DTSTART;TZID=America/New_York:20260312T170000
DTEND;TZID=America/New_York:20260312T200000
DTSTAMP:20260420T112701
CREATED:20260226T184805Z
LAST-MODIFIED:20260312T175231Z
UID:10007802-1773334800-1773345600@ilovebabylon.com
SUMMARY:Meet Ashley Graham at Stew Leonard's Wine & Spirits of Farmingdale!
DESCRIPTION:ASHLEY GRAHAM’S NEXT MOVE IS SPARKLING \nThe Supermodel Is Bringing Her Bubbly Lambrusco to Stew Leonard’s Wines & Spirits for a Bottle Signing. \nWHO: Supermodel\, entrepreneur\, and certified Lambrusco loyalist\, Ashley Graham will sashay down the aisle at Stew Leonard’s Wines & Spirits for a fashionable bottle signing. \nWHAT: Fresh off its debut this month\, Graham’s new Lambrusco label\, LUCCI\, launched with co-founder Danny Epstein\, is giving old-school Italian wine a flirty refresh. Crafted with a fifth-generation winemaker in Emilia-Romagna (aka Lambrusco country)\, the wine is bright\, lightly sparkling\, and packed with notes of ripe red and dark berries. \nWHEN: March 12th at 5:00pm \nWHERE: Stew Leonard’s Wines & Spirits210 Airport Plaza Blvd\, Farmingdale\, NY 11735 \nWHY: “To know me is to know I love Lambrusco. It’s been my go-to wine for years\,” says Ashley who initially slid into Danny’s DMs over their shared love of Lambrusco. “Lucci is a dry\, sparkling red wine that brings people together.” \n#ashleygraham #stewswines #farmingdale #celebrityevent
URL:https://ilovebabylon.com/event/meet-ashley-graham-at-stew-leonards-wine-spirits-of-farmingdale/
LOCATION:Stew Leonard’s Wine & Spirits of Farmingdale\, 210 Airport Plaza Blvd\, Farmingdale\, NY\, 11735\, US
CATEGORIES:Arts and Crafts
END:VEVENT
BEGIN:VEVENT
DTSTART;TZID=America/New_York:20260312T190000
DTEND;TZID=America/New_York:20260312T203000
DTSTAMP:20260420T112701
CREATED:20260312T175235Z
LAST-MODIFIED:20260312T175235Z
UID:10007902-1773342000-1773347400@ilovebabylon.com
SUMMARY:Beginner’s Salsa Dancing
DESCRIPTION:Join us for Beginner Salsa Classes every Thursday 7:00–8:30pm! 131 S. Smith St. A super fun way to get moving\, meet new people\, and try something exciting!  \nNo experience needed. Very beginner-friendly and perfect for couples or anyone wanting a fun night out (I know we all need it\, especially nowadays!).  \nRegister online: www.seachangehwc.com (under CLASS SCHEDULE)Or call David for more info (# in flyer).  \nIt was serendipity. I met with my old salsa teacher David from 20 years ago and cannot believe he started a class in Lindenhurst. I am so excited. He is the best Salsa teacher I’ve ever had in 20 years time. If you want to learn Salsa dancing\, he has the best approach and teaching style. Hope to see you there to have fun and dance the night away.
URL:https://ilovebabylon.com/event/beginners-salsa-dancing/
LOCATION:Lindenhurst\, NY 11757\, West Babylon\, NY\, US
END:VEVENT
BEGIN:VEVENT
DTSTART;TZID=America/New_York:20260312T190000
DTEND;TZID=America/New_York:20260312T220000
DTSTAMP:20260420T112701
CREATED:20260312T175240Z
LAST-MODIFIED:20260312T175240Z
UID:10007903-1773342000-1773352800@ilovebabylon.com
SUMMARY:Thirsty Thursday 5K
DESCRIPTION:Can’t make it to Inside Out Run Club’s staple Sunday runs?We’ve got options!And Thursday 3/12 will be EXTRA special because we are going to check out our friends\, @smallcraftrunclub at 7pm SHARP (6:45pm if you are joining us for some stretches). After a 5k run\, drink specials at @smallcraftbrew !!! DM any questions and thank you @smallcraftrunclubfor such a warm welcome!
URL:https://ilovebabylon.com/event/thirsty-thursday-5k/
LOCATION:Online Event\, West Babylon\, NY\, US
END:VEVENT
BEGIN:VEVENT
DTSTART;TZID=America/New_York:20260312T193000
DTEND;TZID=America/New_York:20260312T223000
DTSTAMP:20260420T112701
CREATED:20260312T175243Z
LAST-MODIFIED:20260312T175243Z
UID:10007904-1773343800-1773354600@ilovebabylon.com
SUMMARY:One Piece Card Game - Heroine Battle
DESCRIPTION:$10.00 EntryFull Store Credit Prize PoolLimited to 32 playersPreRegistration will go live on our website at 6:00PM EST on Wednesday March 11th 2026 This event is expected to sell out. \nRegistering on the BandaiTCG+ website or app is not a sufficient registration and will not be valid without a payment made and email order confirmation from our website.
URL:https://ilovebabylon.com/event/one-piece-card-game-heroine-battle/
LOCATION:1883-B Deer Park Avenue\, Deer Park\, NY\, United States\, New York 11729\, 1883-B Deer Park Avenue\, Deer Park\, NY\, United States\, New York 11729
END:VEVENT
BEGIN:VEVENT
DTSTART;TZID=America/New_York:20260312T210000
DTEND;TZID=America/New_York:20260313T000000
DTSTAMP:20260420T112701
CREATED:20260226T184807Z
LAST-MODIFIED:20260312T175246Z
UID:10007803-1773349200-1773360000@ilovebabylon.com
SUMMARY:bingo!
DESCRIPTION:We are hosting our first bingo night! Raffle baskets\, gift card prizes\, and lots of fun with us!
URL:https://ilovebabylon.com/event/bingo/
LOCATION:American Legion\, American Legion
END:VEVENT
BEGIN:VEVENT
DTSTART;TZID=America/New_York:20260313T180000
DTEND;TZID=America/New_York:20260313T203000
DTSTAMP:20260420T112701
CREATED:20260226T184818Z
LAST-MODIFIED:20260312T175256Z
UID:10007807-1773424800-1773433800@ilovebabylon.com
SUMMARY:St. Patrick's Bash Kids Night Out
DESCRIPTION:Fri\, Mar 136:00 PM – 8:30 PM EST \nThe Color Palette51 West Hoffman AveLindenhurst\, NY 11757 \n$35 per child – 2.5 hoursPainting\, Green Slime\, Green Glow Foam\, Pizza & GamesPLUS parents get 10% off at local RestaurantsMust have a reservation thecolorpaletteli.com
URL:https://ilovebabylon.com/event/st-patricks-bash-kids-night-out/
LOCATION:The Color Palette Lindenhurst\, 51 West Hoffman Ave.\, Lindenhurst\, NY\, 11757\, US
END:VEVENT
BEGIN:VEVENT
DTSTART;TZID=America/New_York:20260313T180000
DTEND;TZID=America/New_York:20260313T210000
DTSTAMP:20260420T112701
CREATED:20260226T184811Z
LAST-MODIFIED:20260312T175248Z
UID:10007804-1773424800-1773435600@ilovebabylon.com
SUMMARY:SWA Wrestling's HARD to the CORE (presented by NYWC)
DESCRIPTION:SWA Wrestling returns on Friday – March 13th\, 2026 to the NYWC Sportatorium in Deer Park\, NY with “HARD to the CORE”—————————————————————————**– MATCHES –** \n#1.) PRIDE HEAVYWEIGHT CHAMPIONSHIP Setanta Furey (c)vs.BEAR BRONSON \n#2.) SWA ADRENALINE CHAMPIONSHIP – STREET FIGHTSteven Person (c)vs.Alex Vendetta \n#3.) WEAPON OF CHOICE MATCHJohnny Malloyvs.Pancakes w/Big Ox \nALSO:Little Monster Binky\, Cora Lein\, and more… \n—————————————————————————NYWC Sportatorium435-13 Brook Ave.Deer Park\, NY 11729DOORS OPEN: 6:00 P.M.BELL TIME: 7:00 P.M—————————————————————————“HARD to the CORE” Tickets will be available online via EVENTBRITE or at the door of the event the day of show. \nGeneral Admission Tickets – $25.00Front Row Tickets – $30.00
URL:https://ilovebabylon.com/event/swa-wrestlings-hard-to-the-core-presented-by-nywc/
LOCATION:NYWC Sportatorium\, NYWC Sportatorium
END:VEVENT
BEGIN:VEVENT
DTSTART;TZID=America/New_York:20260313T180000
DTEND;TZID=America/New_York:20260313T210000
DTSTAMP:20260420T112701
CREATED:20260226T184813Z
LAST-MODIFIED:20260312T175251Z
UID:10007805-1773424800-1773435600@ilovebabylon.com
SUMMARY:Killing Time\, Shutdown\, Overthrow\, Shits Creek\, Lucky Feeling\, Deadshot @ AMH
DESCRIPTION:Friday March 13th 2026 \nKilling TimeShutdownOverthrowShits CreekLucky FeelingDeadshot \n@ AMH198 Broadway\, Amityville NY \n$22 ADV / $25 DOS6 PMUnder 16 w/ parent / legal guardianPurchase Tickets: https://www.etix.com/ticket/servlet/s/38221688
URL:https://ilovebabylon.com/event/killing-time-shutdown-overthrow-shits-creek-lucky-feeling-deadshot-amh/
LOCATION:198 Broadway Amityville\, NY 11701-2727\, 198 Broadway Amityville\, NY 11701-2727
END:VEVENT
BEGIN:VEVENT
DTSTART;TZID=America/New_York:20260313T180000
DTEND;TZID=America/New_York:20260313T210000
DTSTAMP:20260420T112701
CREATED:20260226T184816Z
LAST-MODIFIED:20260312T175253Z
UID:10007806-1773424800-1773435600@ilovebabylon.com
SUMMARY:Cebollines restuarant
DESCRIPTION:Delusions of Grandeur returns to Cebollines Grill.A great place to catch a meal or just hang out at the bar.Reservations are a good idea (tell them you are there for the music) 631-592-9845
URL:https://ilovebabylon.com/event/cebollines-restuarant/
LOCATION:Cebollines Grill\, 170 E Montauk hwy\, Lindenhurst\, NY\, 11757\, US
CATEGORIES:Music
END:VEVENT
BEGIN:VEVENT
DTSTART;TZID=America/New_York:20260313T180000
DTEND;TZID=America/New_York:20260313T210000
DTSTAMP:20260420T112701
CREATED:20260312T175258Z
LAST-MODIFIED:20260312T175258Z
UID:10007905-1773424800-1773435600@ilovebabylon.com
SUMMARY:GRACELAND'S GATE @ PINO WINE LINDENHURST NY FRIDAY 3/16  6-9
DESCRIPTION:MORE THAN JUST WINE A AWESOME RESTAURANT & FULL BAR WITH THE BEST ACOUSTIC MUSIC THIS FRIDAY!
URL:https://ilovebabylon.com/event/gracelands-gate-pino-wine-lindenhurst-ny-friday-3-16-6-9/
LOCATION:Pino Wine Bar & Bistro\, 143 N Wellwood Avenue\, Lindenhurst\, NY\, 11757\, US
END:VEVENT
BEGIN:VEVENT
DTSTART;TZID=America/New_York:20260313T183000
DTEND;TZID=America/New_York:20260313T213000
DTSTAMP:20260420T112701
CREATED:20260301T075230Z
LAST-MODIFIED:20260312T175301Z
UID:10007879-1773426600-1773437400@ilovebabylon.com
SUMMARY:Lefty at Goccia D'oro
DESCRIPTION:Come on down to forget about life for awhile. Playing all the songs that bring back great memories
URL:https://ilovebabylon.com/event/lefty-at-goccia-doro-2/
LOCATION:Goccia D’oro Restaurant\, 118 S Wellwood Ave\, Lindenhurst\, NY\, 11757-4901\, US
END:VEVENT
BEGIN:VEVENT
DTSTART;TZID=America/New_York:20260313T183000
DTEND;TZID=America/New_York:20260313T213000
DTSTAMP:20260420T112701
CREATED:20260307T121933Z
LAST-MODIFIED:20260312T175303Z
UID:10007896-1773426600-1773437400@ilovebabylon.com
SUMMARY:St. Paddy's Day Kickoff with Vinyl Revival and Tribute Banned at The Warehouse
DESCRIPTION:St. Paddy’s Day Kickoff with Vinyl Revival and Tribute Banned at The Warehouse \nFriday March 13\, 2026 \nVinyl Revival – Dance\, Motown\, and Funk Rock \nand \nTribute Banned – Rock Covers and Party Favorites \nDJ Ronnie Sparks keeps the party going all night \nTickets available at: www.thewarehouseli.com/calendar \nWalk-ins welcome \nDoors 6:30pm
URL:https://ilovebabylon.com/event/st-paddys-day-kickoff-with-vinyl-revival-and-tribute-banned-at-the-warehouse/
LOCATION:The Warehouse Live Music & Events\, The Warehouse Live Music & Events
END:VEVENT
BEGIN:VEVENT
DTSTART;TZID=America/New_York:20260313T190000
DTEND;TZID=America/New_York:20260313T220000
DTSTAMP:20260420T112701
CREATED:20260226T184822Z
LAST-MODIFIED:20260312T175311Z
UID:10007809-1773428400-1773439200@ilovebabylon.com
SUMMARY:Vinyl Revival Live at The Warehouse LI Friday\, March 13th\, 2026\, Showtime 7 p.m.
DESCRIPTION:Join Vinyl Revival on Friday\, March 13th\, as we heat up the stage at the Warehouse in Amityville\,LI.It’s the ultimate Friday night out with Long Island’s premier cover band. Expect a great atmosphere\, delicious food and specialty cocktails. Don’t miss the nonstop dancing! Showtime starts at 7pm. \nThe Warehouse LI 203 BroadwayAmityville\, NY
URL:https://ilovebabylon.com/event/vinyl-revival-live-at-the-warehouse-li-friday-march-13th-2026-showtime-7-p-m/
LOCATION:The Warehouse Live Music & Events\, The Warehouse Live Music & Events
END:VEVENT
BEGIN:VEVENT
DTSTART;TZID=America/New_York:20260313T190000
DTEND;TZID=America/New_York:20260314T123000
DTSTAMP:20260420T112701
CREATED:20260226T184820Z
LAST-MODIFIED:20260312T175308Z
UID:10007808-1773428400-1773491400@ilovebabylon.com
SUMMARY:Finance Workshop
DESCRIPTION:— FINANCE WORKSHOP — \n with Vaughn Weimer \nFriday\, March 13th @ 7pmSaturday\, March 14th @ 10am – 12:30pm \n Together\, we will examine the following: · \n Explore what the Word says about provision\, especially money· \nUnderstand how God wants us to approach finances· \nWhat are some impediments to experiencing abundance· \nIdentify ways to position ourselves for God to bless our finances \nIn addition\, the workshop will include hands-on activity around: · \n How to construct a budget· \nSavings and investing· \nThe role debt may or may not pay in our lives· \nHow prayer figures into our finances· \nShould I have a will? A trust?· \nWhat\, if any\, insurance should I have?· \nAnd answer to any questions you may have about finances. \n** A workbook will be included. \nNote: This workshop is strictly for education/equipping purposes. Vaughn is not licensed to sell any kind of financial product and is not taking on any new clients at this time.
URL:https://ilovebabylon.com/event/finance-workshop/
LOCATION:45 Burch Avenue\, Amityville\, NY\, 45 Burch Avenue\, Amityville\, NY
END:VEVENT
BEGIN:VEVENT
DTSTART;TZID=America/New_York:20260313T200000
DTEND;TZID=America/New_York:20260313T230000
DTSTAMP:20260420T112701
CREATED:20260312T175315Z
LAST-MODIFIED:20260312T175315Z
UID:10007907-1773432000-1773442800@ilovebabylon.com
SUMMARY:Zocial’s Pre St. Patty’s Day Party
DESCRIPTION:Let’s get ‘Nutty’ with Zocial\, bringing all your favorite Rock\, Dance\, alternative & country music. We play it all! Don’t miss a great night out at one of the best live music venues on long island.
URL:https://ilovebabylon.com/event/zocials-pre-st-pattys-day-party/
LOCATION:Online Event\, West Babylon\, NY\, US
END:VEVENT
BEGIN:VEVENT
DTSTART;TZID=America/New_York:20260313T200000
DTEND;TZID=America/New_York:20260314T000000
DTSTAMP:20260420T112701
CREATED:20260312T175318Z
LAST-MODIFIED:20260312T175318Z
UID:10007908-1773432000-1773446400@ilovebabylon.com
SUMMARY:FRIDAY NIGHT KARAOKE WITH BUDDHAS KILLA KARAOKE
DESCRIPTION:Friday\, March 13th! 8-Midnight Join us for a fun packed weekend!
URL:https://ilovebabylon.com/event/friday-night-karaoke-with-buddhas-killa-karaoke/
LOCATION:511a Commack Road\, Deer Park\, NY\, 511a Commack Road\, Deer Park\, NY
END:VEVENT
BEGIN:VEVENT
DTSTART;TZID=America/New_York:20260313T200000
DTEND;TZID=America/New_York:20260313T230000
DTSTAMP:20260420T112701
CREATED:20260312T175313Z
LAST-MODIFIED:20260312T175313Z
UID:10007906-1773432000-1773442800@ilovebabylon.com
SUMMARY:Zocial LIVE at The Nutty Irishman
DESCRIPTION:Join The Nutty Irishman on Friday\, March 13th at 8:00 PM for Zocial. $10 Cover at the Door.
URL:https://ilovebabylon.com/event/zocial-live-at-the-nutty-irishman/
LOCATION:323 Main St\, Farmingdale\, NY\, United States\, New York 11735\, 323 Main St\, Farmingdale\, NY\, United States\, New York 11735
END:VEVENT
BEGIN:VEVENT
DTSTART;TZID=America/New_York:20260313T214500
DTEND;TZID=America/New_York:20260314T004500
DTSTAMP:20260420T112701
CREATED:20260307T121940Z
LAST-MODIFIED:20260312T175321Z
UID:10007897-1773438300-1773449100@ilovebabylon.com
SUMMARY:Tribute Banned back at The Warehouse
DESCRIPTION:Join us as we hit the stage right after Vinyl Revival!
URL:https://ilovebabylon.com/event/tribute-banned-back-at-the-warehouse/
LOCATION:The Warehouse Live Music & Events\, The Warehouse Live Music & Events
END:VEVENT
BEGIN:VEVENT
DTSTART;TZID=America/New_York:20260314T090000
DTEND;TZID=America/New_York:20260314T110000
DTSTAMP:20260420T112701
CREATED:20260307T121943Z
LAST-MODIFIED:20260312T175325Z
UID:10007898-1773478800-1773486000@ilovebabylon.com
SUMMARY:Black and White Photography
DESCRIPTION:Introduction to Black and White Photography. What makes a good black-and-white shot? \nWe will look at the contrast and use textures. How does the camera see the image\, and how do we create Black and White images in a camera or in post-production? We will look for some good examples and set some exercises. \nThis is a more advanced course and assumes you understand the basics of photography and controlling your camera.
URL:https://ilovebabylon.com/event/black-and-white-photography/
LOCATION:Amityville\, NY\, Amityville\, NY
END:VEVENT
BEGIN:VEVENT
DTSTART;TZID=America/New_York:20260314T090000
DTEND;TZID=America/New_York:20260314T110000
DTSTAMP:20260420T112701
CREATED:20260312T175330Z
LAST-MODIFIED:20260312T175330Z
UID:10007909-1773478800-1773486000@ilovebabylon.com
SUMMARY:Black and White Photography
DESCRIPTION:Introduction to Black and White Photography. What makes a good black-and-white shot? \nWe will look at the contrast and use textures. How does the camera see the image\, and how do we create Black and White images in a camera or in post-production? We will look for some good examples and set some exercises. \nThis is a more advanced course and assumes you understand the basics of photography and controlling your camera.
URL:https://ilovebabylon.com/event/black-and-white-photography-2/
LOCATION:Amityville\, NY\, Amityville\, NY
END:VEVENT
BEGIN:VEVENT
DTSTART;TZID=America/New_York:20260314T093000
DTEND;TZID=America/New_York:20260314T123000
DTSTAMP:20260420T112701
CREATED:20260307T121945Z
LAST-MODIFIED:20260312T175333Z
UID:10007899-1773480600-1773491400@ilovebabylon.com
SUMMARY:Woman's Retreat
DESCRIPTION:Hi everyone\, sharing a local women’s event for Nassau and Suffolk.**Divine Beauty: A Women’s Retreat** at the Science of Spirituality Meditation Center in Amityville. \nSaturday\, March 14\, 9:30 AM to 2:30 PM79 County Line Road\, Amityville\, NY 11701Complimentary vegetarian lunch included \nMeditation for emotional alignmentYoga for inner harmonyVegetarian cooking class \nAll are welcome. Feel free to bring a friend.Register: https://www.sos.org/event/divinebeautyNY-mar14/Questions: 631-822-7979 | infotristate@sos.org
URL:https://ilovebabylon.com/event/womans-retreat/
LOCATION:79 County Line Rd\, Amityville\, NY 11701-3123\, United States\, 79 County Line Rd\, Amityville\, NY 11701-3123\, United States
END:VEVENT
BEGIN:VEVENT
DTSTART;TZID=America/New_York:20260314T093000
DTEND;TZID=America/New_York:20260314T163000
DTSTAMP:20260420T112701
CREATED:20260226T184824Z
LAST-MODIFIED:20260312T175338Z
UID:10007810-1773480600-1773505800@ilovebabylon.com
SUMMARY:Divine Beauty: A Women's Retreat
DESCRIPTION:Join us for our annual Divine Beauty Women’s Retreat. Regardless of where you are in your life’s journey\, learn how to create a lifestyle filled with purpose and joy. Take a day to nurture yourself and find your center of inner strength\, peace\, and love through meditation. These inspirational workshops are designed especially for you. The day includes a complimentary vegetarian lunch. Come for discussion\, sisterhood\, inspiration\, and meditation. We look forward to seeing you.  \nWorkshops & Presenters:Program Facilitator: Ferlaisa Gomez\, ALM\, RYT \nFrom Overwhelmed to Inner Beauty: Meditation for Emotional Alignment\,Ekta Kohli Portillo\, LCSW \nYoga for Health and Inner Harmony\,Angelica Zambrano\, CSW\, LMSW\, RYT \nVegetarian Delights\, Cooking Class\,Kadek Supartini\, Professional Chef \nSaturday\, March 14th9:30 am – 2:30 pmScience of Spirituality Meditation Center79 County Line Road\, Amityville\, NY 11701 \nEvent is free of charge! All are welcome!For more information contact:Stephanie631-822-7979infotristate@sos.org
URL:https://ilovebabylon.com/event/divine-beauty-a-womens-retreat/
LOCATION:79 County Line Rd\, Amityville\, NY 11701\, 79 County Line Rd\, Amityville\, NY 11701
END:VEVENT
BEGIN:VEVENT
DTSTART;TZID=America/New_York:20260314T100000
DTEND;TZID=America/New_York:20260314T130000
DTSTAMP:20260420T112701
CREATED:20260312T175342Z
LAST-MODIFIED:20260312T175342Z
UID:10007910-1773482400-1773493200@ilovebabylon.com
SUMMARY:Coffee & Conversations with Chrissy The Pink Realtor
DESCRIPTION:Got real estate & mortgage questions?Come hang with me at Babylon Bean located at 17 Fire Island Ave in Babylon Saturday March 14th 10am-12pm for casual\, no-pressure real estate convos.Real Estate + Mortgage Talk with Chrissy The Pink Realtor & James Martino\, Broker/Owner dpbFirst Coffee on us! Limited to first 20 guests
URL:https://ilovebabylon.com/event/coffee-conversations-with-chrissy-the-pink-realtor/
LOCATION:17 Fire Island Ave\, Babylon\, NY 11702-3501\, United States\, 17 Fire Island Ave\, Babylon\, NY 11702-3501\, United States
END:VEVENT
BEGIN:VEVENT
DTSTART;TZID=America/New_York:20260314T100000
DTEND;TZID=America/New_York:20260314T130000
DTSTAMP:20260420T112701
CREATED:20260226T184826Z
LAST-MODIFIED:20260312T175340Z
UID:10007811-1773482400-1773493200@ilovebabylon.com
SUMMARY:🥧 Pi Day Special Class: Sweet Release Flow
DESCRIPTION:Because balance includes dessert. \nCelebrate Pi Day with a lighthearted\, feel-good vinyasa designed to remind you that joy\, movement\, and indulgence can coexist — without guilt\, rules\, or earning your rest. \nThis 60-minute playful flow moves in smooth\, circular patterns (a little nod to the beautiful\, endless curve of π)\, inviting you to soften rigid thinking and let your practice feel more fluid and free. \nExpect: \nGentle\, rhythmic vinyasa with circular transitionsCore work (because… pie 😂)Strength without strain\, effort without pressureSpace to laugh\, breathe\, and move intuitivelyWe’ll close with a short reflection and grounding moment\, exploring the question: \n“Where can I soften perfection?” \nThis class is about releasing the idea that you have to do yoga — or life — perfectly to be worthy of enjoyment. You don’t need to earn dessert. You already belong. \nYoga + Pie > Math Anxiety. \nCome move\, smile\, and enjoy the sweet spot between effort and ease.
URL:https://ilovebabylon.com/event/%f0%9f%a5%a7-pi-day-special-class-sweet-release-flow/
LOCATION:66 Otis St\, West Babylon\, NY 11704-1427\, United States\, 66 Otis St\, West Babylon\, NY 11704-1427\, United States
END:VEVENT
END:VCALENDAR