BEGIN:VCALENDAR
VERSION:2.0
PRODID:-//I Love Babylon, NY - ECPv6.15.20//NONSGML v1.0//EN
CALSCALE:GREGORIAN
METHOD:PUBLISH
X-ORIGINAL-URL:https://ilovebabylon.com
X-WR-CALDESC:Events for I Love Babylon, NY
REFRESH-INTERVAL;VALUE=DURATION:PT1H
X-Robots-Tag:noindex
X-PUBLISHED-TTL:PT1H
BEGIN:VTIMEZONE
TZID:America/New_York
BEGIN:DAYLIGHT
TZOFFSETFROM:-0500
TZOFFSETTO:-0400
TZNAME:EDT
DTSTART:20250309T070000
END:DAYLIGHT
BEGIN:STANDARD
TZOFFSETFROM:-0400
TZOFFSETTO:-0500
TZNAME:EST
DTSTART:20251102T060000
END:STANDARD
BEGIN:DAYLIGHT
TZOFFSETFROM:-0500
TZOFFSETTO:-0400
TZNAME:EDT
DTSTART:20260308T070000
END:DAYLIGHT
BEGIN:STANDARD
TZOFFSETFROM:-0400
TZOFFSETTO:-0500
TZNAME:EST
DTSTART:20261101T060000
END:STANDARD
BEGIN:DAYLIGHT
TZOFFSETFROM:-0500
TZOFFSETTO:-0400
TZNAME:EDT
DTSTART:20270314T070000
END:DAYLIGHT
BEGIN:STANDARD
TZOFFSETFROM:-0400
TZOFFSETTO:-0500
TZNAME:EST
DTSTART:20271107T060000
END:STANDARD
END:VTIMEZONE
BEGIN:VEVENT
DTSTART;TZID=America/New_York:20260104T110000
DTEND;TZID=America/New_York:20260104T140000
DTSTAMP:20260419T111633
CREATED:20251231T102903Z
LAST-MODIFIED:20251231T102903Z
UID:10007316-1767524400-1767535200@ilovebabylon.com
SUMMARY:Rest & Reset: Yoga Slow Flow\, Aroma & Reiki
DESCRIPTION:Rest & Reset \nThe next installment of our “Rest” series is a mindful reset after the post-holiday slump\, when motivation is low and routines are hard to restart.  \nHoward will guide a grounding meditation to restore the nervous system\, followed by a slow yoga flow with an emphasis dristi (focal points) to enhance clarity\, presence\, and direction. Moving through warrior poses without losing the softness and ease of a slower pace\, we’ll build confidence and steadiness to reconnect with our purpose. \nThe experience is complemented by aromatherapy and Reiki energy healing provided by Denise to help remove mental fog\, restore balance\, and support a fresh start in the new year. \nFree for Yoga Studio members\, otherwise $25 drop-in. Please bring your own yoga mat (rentals available). All levels welcome!
URL:https://ilovebabylon.com/event/rest-reset-yoga-slow-flow-aroma-reiki/
LOCATION:Third Season Yoga\, Third Season Yoga
END:VEVENT
BEGIN:VEVENT
DTSTART;TZID=America/New_York:20260104T130000
DTEND;TZID=America/New_York:20260104T160000
DTSTAMP:20260419T111633
CREATED:20251231T102905Z
LAST-MODIFIED:20251231T102905Z
UID:10007317-1767531600-1767542400@ilovebabylon.com
SUMMARY:RiftBound: League of Legends Summoner Skirmish
DESCRIPTION:Doors Open: 12:00PMEvent Begins: 1:00PMFormat: Constructed \nThis will be a Best of 3 format Swiss Tournament\, with a top cut based on attendance. \nAn account on Carde.io is recommended before arriving; if you do not have one\, one can be created with a valid email. \nOnline Registration- Players who register only on Carde.io are not valid registrations. A Pre-Registration completed on our website or in-person payment is necessary to complete your registration. Players who register ONLY on Carde.io are not guaranteed entry to this event.  \n**Due to a distribution error\, we will NOT have copies of the “Trynadamere” Promotional Card for this event. Any changes to this error will be announced as soon as possible on our Social Media pages** \nParking- We kindly ask that all event attendees respect our neighboring businesses and please do not park in their private parking lots at the risk of having your vehicle towed. Our general parking is located in the rear of the building by utilizing the driveways before the building. In the event that there is no parking available\, we ask that you park in the municipal lot diagonally across the street from our store\, find parking on Deer Park Avenue\, or park in the residential areas or other public parking spaces.
URL:https://ilovebabylon.com/event/riftbound-league-of-legends-summoner-skirmish/
LOCATION:1883-B Deer Park Avenue\, Deer Park\, NY\, United States\, New York 11729\, 1883-B Deer Park Avenue\, Deer Park\, NY\, United States\, New York 11729
END:VEVENT
BEGIN:VEVENT
DTSTART;TZID=America/New_York:20260104T180000
DTEND;TZID=America/New_York:20260104T210000
DTSTAMP:20260419T111633
CREATED:20251231T102907Z
LAST-MODIFIED:20260104T143819Z
UID:10007318-1767549600-1767560400@ilovebabylon.com
SUMMARY:Kareoke
DESCRIPTION:Come sing with us!
URL:https://ilovebabylon.com/event/kareoke/
LOCATION:The Warehouse Live Music Pub & Grub\, The Warehouse Live Music Pub & Grub
END:VEVENT
BEGIN:VEVENT
DTSTART;TZID=America/New_York:20260105T104000
DTEND;TZID=America/New_York:20260105T113000
DTSTAMP:20260419T111633
CREATED:20251231T102911Z
LAST-MODIFIED:20260104T143824Z
UID:10007319-1767609600-1767612600@ilovebabylon.com
SUMMARY:Breathwork & Soundbath every Monday morning
DESCRIPTION:Join Jenna and Denise for our Monday Morning Breathwork & Sound Bath 10:40-11:30am—a gentle yet powerful reset for mind\, body\, and spirit. This calming session begins with guided breathwork to help release tension\, ground your energy\, and create space for clarity and focus. As your breath settles\, you’ll be immersed in the soothing tones of crystal singing bowls\, chimes\, and gentle frequencies\, designed to realign your energy and promote deep relaxation. Start your week feeling refreshed\, centered\, and ready to move through your days with greater ease and presence. Please bring a yoga mat and wear comfortable clothing. No experience is required. Included in yoga studio membership or non members by donation\, pay what you’d like.📍Held at Third Season Yoga\, 233 Broadway\, Amityville\, NY \nSign up at Thirdseasonyoga.com \n#aromatherapy #reiki #reikihealing #areikimaster #wellness #wellnessjourney #healing #harmony #selflove #balance #suffolkcounty #nassaucounty #aromatherapy #aroma #selfcare #bekind #bewell #bemindful #monarchnature #selfesteemboost #reikienergy #reikipractitioner #2025 #soundhealing #meditation
URL:https://ilovebabylon.com/event/breathwork-soundbath-every-monday-morning-3/
LOCATION:Third Season Yoga\, Third Season Yoga
END:VEVENT
BEGIN:VEVENT
DTSTART;TZID=America/New_York:20260105T110000
DTEND;TZID=America/New_York:20260105T140000
DTSTAMP:20260419T111633
CREATED:20251231T102914Z
LAST-MODIFIED:20260104T143829Z
UID:10007320-1767610800-1767621600@ilovebabylon.com
SUMMARY:Frosted Sodas and Floats Tasting Event
DESCRIPTION:Come try our new Frosted Sodas and Floats! We will be sampling multiple sodas on Launch Day between 11:00 am – 2:00 pm.
URL:https://ilovebabylon.com/event/frosted-sodas-and-floats-tasting-event/
LOCATION:1991 Broadhollow Rd\, Farmingdale\, NY\, 1991 Broadhollow Rd\, Farmingdale\, NY
END:VEVENT
BEGIN:VEVENT
DTSTART;TZID=America/New_York:20260105T183000
DTEND;TZID=America/New_York:20260105T213000
DTSTAMP:20260419T111633
CREATED:20251231T102919Z
LAST-MODIFIED:20260104T143833Z
UID:10007321-1767637800-1767648600@ilovebabylon.com
SUMMARY:Krush Open Jam at The Warehouse
DESCRIPTION:Krush Open Jam at The Warehouse \nMonday January 5\, 2026 \nStep into the spotlight and let the music flow! \nKrush hosts local musicians\, vocalists\, and music lovers as they come together to create something special.  \nBring your instrument\, your voice\, or just your passion for live music — and join a rotating lineup of talented players for an evening of spontaneous jams and good vibes! \nEnjoy great food\, cold drinks\, and an electric atmosphere where creativity and community meet! \nTickets available at: www.thewarehouseli.com/calendar \nDoors 6:30/Sign-ups 6:45 \nCome early to grab your spot and soak up the sound!
URL:https://ilovebabylon.com/event/krush-open-jam-at-the-warehouse/
LOCATION:The Warehouse Live Music & Events\, The Warehouse Live Music & Events
END:VEVENT
BEGIN:VEVENT
DTSTART;TZID=America/New_York:20260105T193000
DTEND;TZID=America/New_York:20260105T223000
DTSTAMP:20260419T111633
CREATED:20260104T143837Z
LAST-MODIFIED:20260104T143837Z
UID:10007398-1767641400-1767652200@ilovebabylon.com
SUMMARY:One Piece Card Game Local Tournament
DESCRIPTION:7:00PM Signups7:30PM Start$10.00 EntryFull Credit Prize PoolPromo to every player signed up!Join us every Monday & Thursday! \nhttps://www.facebook.com/events/1472144757231158/?event_time_id=1472144817231152
URL:https://ilovebabylon.com/event/one-piece-card-game-local-tournament-3/
LOCATION:1883-B Deer Park Avenue\, Deer Park\, NY\, United States\, New York 11729\, 1883-B Deer Park Avenue\, Deer Park\, NY\, United States\, New York 11729
END:VEVENT
BEGIN:VEVENT
DTSTART;TZID=America/New_York:20260105T193000
DTEND;TZID=America/New_York:20260105T230000
DTSTAMP:20260419T111633
CREATED:20260104T143840Z
LAST-MODIFIED:20260104T143840Z
UID:10007399-1767641400-1767654000@ilovebabylon.com
SUMMARY:Pokemon TCG League Tournament
DESCRIPTION:$10.00 EntryFull Store Credit Prize Pool1 Prize Pack per Player*7:30PM StartStandard Constructed FormatA Complete Play!Pokemon Player ID is required(Create an account on Pokemon.com and link your Player ID!)*While Supplies Last \nhttps://www.facebook.com/events/1565548781102617/?event_time_id=1565548844435944
URL:https://ilovebabylon.com/event/pokemon-tcg-league-tournament-3/
LOCATION:1883-B Deer Park Avenue\, Deer Park\, NY\, United States\, New York 11729\, 1883-B Deer Park Avenue\, Deer Park\, NY\, United States\, New York 11729
END:VEVENT
BEGIN:VEVENT
DTSTART;TZID=America/New_York:20260105T193000
DTEND;TZID=America/New_York:20260105T230000
DTSTAMP:20260419T111633
CREATED:20260104T143842Z
LAST-MODIFIED:20260104T143842Z
UID:10007400-1767641400-1767654000@ilovebabylon.com
SUMMARY:SuperShow Tournament
DESCRIPTION:Every MondayEntry: $5.00Registration at 7:00PMRound 1 at 7:30PMFull Credit Prize Pool! \nhttps://www.facebook.com/events/1484388959481342/?event_time_id=1484389069481331
URL:https://ilovebabylon.com/event/supershow-tournament-2/
LOCATION:1883-B Deer Park Avenue\, Deer Park\, NY\, United States\, New York 11729\, 1883-B Deer Park Avenue\, Deer Park\, NY\, United States\, New York 11729
END:VEVENT
BEGIN:VEVENT
DTSTART;TZID=America/New_York:20260106T120000
DTEND;TZID=America/New_York:20260106T150000
DTSTAMP:20260419T111633
CREATED:20251231T102922Z
LAST-MODIFIED:20260104T143845Z
UID:10007322-1767700800-1767711600@ilovebabylon.com
SUMMARY:Ladies Aid - Thaw out
DESCRIPTION:Wear your gloves\, mittens\, hats and scarvesGuests are welcome
URL:https://ilovebabylon.com/event/ladies-aid-thaw-out/
LOCATION:147 Park Ave\, Amityville\, NY\, 147 Park Ave\, Amityville\, NY
END:VEVENT
BEGIN:VEVENT
DTSTART;TZID=America/New_York:20260106T150000
DTEND;TZID=America/New_York:20260106T220000
DTSTAMP:20260419T111633
CREATED:20260104T143850Z
LAST-MODIFIED:20260104T143850Z
UID:10007401-1767711600-1767736800@ilovebabylon.com
SUMMARY:Taco Tuesday
DESCRIPTION:Every Tuesday we offer a choice of 3 tacos for $12 paired with an $8 Margarita!  \nhttps://www.facebook.com/events/640285308473543/?event_time_id=640285371806870
URL:https://ilovebabylon.com/event/taco-tuesday/
LOCATION:111 n wellwood ave\, Lindenhurst\, NY\, 111 n wellwood ave\, Lindenhurst\, NY
END:VEVENT
BEGIN:VEVENT
DTSTART;TZID=America/New_York:20260106T181500
DTEND;TZID=America/New_York:20260106T211500
DTSTAMP:20260419T111633
CREATED:20251231T102923Z
LAST-MODIFIED:20260104T143852Z
UID:10007323-1767723300-1767734100@ilovebabylon.com
SUMMARY:January/February Art Classes
DESCRIPTION:New Class Schedule for January! Starts Jan 6th – New Teen Class Wednesdays at 6:15pm Age 13+ \nSign up today! Makes a great gift and only $140 for all 6 classes and all art supplies!  \nhttps://thecolorpaletteli.square.site
URL:https://ilovebabylon.com/event/january-february-art-classes/
LOCATION:The Color Palette Lindenhurst\, 51 West Hoffman Ave.\, Lindenhurst\, NY\, 11757\, US
END:VEVENT
BEGIN:VEVENT
DTSTART;TZID=America/New_York:20260106T183000
DTEND;TZID=America/New_York:20260106T213000
DTSTAMP:20260419T111633
CREATED:20251231T102925Z
LAST-MODIFIED:20260104T143856Z
UID:10007324-1767724200-1767735000@ilovebabylon.com
SUMMARY:Sourdough Starter
DESCRIPTION:Jump into the bubbly\, wild world of sourdough. Discover how fermentation kept whalers fed on long sea voyages and why sourdough is making its way back into kitchens everywhere today. Join educators from the Cold Spring Harbor Whaling Museum for a hands-on activity. Decorate your own glass jar to hold a starter culture that you’ll take home with you.  \nA $5.00 materials fee is due at the time of registration.
URL:https://ilovebabylon.com/event/sourdough-starter/
LOCATION:50 Deauville Blvd\, Copiague\, NY\, United States\, New York 11726\, 50 Deauville Blvd\, Copiague\, NY\, United States\, New York 11726
END:VEVENT
BEGIN:VEVENT
DTSTART;TZID=America/New_York:20260106T193000
DTEND;TZID=America/New_York:20260106T223000
DTSTAMP:20260419T111633
CREATED:20260104T143900Z
LAST-MODIFIED:20260104T143900Z
UID:10007402-1767727800-1767738600@ilovebabylon.com
SUMMARY:Weekly Yugioh Advanced Constructed Tournament
DESCRIPTION:7:00pm Signups7:30pm Start of Round 1$10.00 EntryOTS Packs to be distributed at the conclusion of Round 2. \nhttps://www.facebook.com/events/1350749693081633/?event_time_id=1350749816414954
URL:https://ilovebabylon.com/event/weekly-yugioh-advanced-constructed-tournament-2/
LOCATION:1883-B Deer Park Avenue\, Deer Park\, NY\, United States\, New York 11729\, 1883-B Deer Park Avenue\, Deer Park\, NY\, United States\, New York 11729
END:VEVENT
BEGIN:VEVENT
DTSTART;TZID=America/New_York:20260107T190000
DTEND;TZID=America/New_York:20260107T220000
DTSTAMP:20260419T111633
CREATED:20251231T102927Z
LAST-MODIFIED:20260104T143902Z
UID:10007325-1767812400-1767823200@ilovebabylon.com
SUMMARY:Creative Writing
DESCRIPTION:Start the new year writing your story! Become a better writer and unleash your creativity in this fun and supportive environment. Patricia Rossi will be back to teach this hands-on workshop for writers of all levels. Participants will be given creative writing prompts and share their work as they develop their skills.
URL:https://ilovebabylon.com/event/creative-writing/
LOCATION:50 Deauville Blvd\, Copiague\, NY\, United States\, New York 11726\, 50 Deauville Blvd\, Copiague\, NY\, United States\, New York 11726
END:VEVENT
BEGIN:VEVENT
DTSTART;TZID=America/New_York:20260107T193000
DTEND;TZID=America/New_York:20260107T223000
DTSTAMP:20260419T111633
CREATED:20260104T143907Z
LAST-MODIFIED:20260104T143907Z
UID:10007403-1767814200-1767825000@ilovebabylon.com
SUMMARY:Tiger Rose At The Warehouse
DESCRIPTION:Two sets of Jerry Band Jams!
URL:https://ilovebabylon.com/event/tiger-rose-at-the-warehouse-4/
LOCATION:The Warehouse Live Music & Events\, The Warehouse Live Music & Events
END:VEVENT
BEGIN:VEVENT
DTSTART;TZID=America/New_York:20260107T193000
DTEND;TZID=America/New_York:20260107T230000
DTSTAMP:20260419T111633
CREATED:20260104T143910Z
LAST-MODIFIED:20260104T143910Z
UID:10007404-1767814200-1767826800@ilovebabylon.com
SUMMARY:Magic The Gathering: Stamp Card League
DESCRIPTION:A new way to reward our returning players on Wednesday evenings!  \nCome down\, play Magic\, put the Companion Code in\, and with any $5 Magic purchase you’ll get a Stamp Card\, or +1 Stamp on the card!  \nRedeem that card at any time to get: 1 Stamp – A Extra Promo Box Pull 4 Stamps – A Play Booster Pack 8 Stamps – A Spin on our Magic Wheel 12 Stamps – Free Entry to our next Standard Prelease Event \nBe sure to look out for Commander Party and other special events tied to the Stamp League that can earn you more stamps! \nhttps://www.facebook.com/events/1411230893902388/?event_time_id=1411233810568763
URL:https://ilovebabylon.com/event/magic-the-gathering-stamp-card-league-2/
LOCATION:1883-B Deer Park Avenue\, Deer Park\, NY\, United States\, New York 11729\, 1883-B Deer Park Avenue\, Deer Park\, NY\, United States\, New York 11729
END:VEVENT
BEGIN:VEVENT
DTSTART;TZID=America/New_York:20260107T193000
DTEND;TZID=America/New_York:20260107T230000
DTSTAMP:20260419T111633
CREATED:20260104T143912Z
LAST-MODIFIED:20260104T143912Z
UID:10007405-1767814200-1767826800@ilovebabylon.com
SUMMARY:Flesh and Blood - Blitz Tournament
DESCRIPTION:Entry: $10.00Signups – 7:00PMStart – 7:30PMBlitz FormatFull Store Credit Prize PoolPromo Cards while Supplies Last \nhttps://www.facebook.com/events/689471587099218/?event_time_id=689471637099213
URL:https://ilovebabylon.com/event/flesh-and-blood-blitz-tournament-2/
LOCATION:1883-B Deer Park Avenue\, Deer Park\, NY\, United States\, New York 11729\, 1883-B Deer Park Avenue\, Deer Park\, NY\, United States\, New York 11729
END:VEVENT
BEGIN:VEVENT
DTSTART;TZID=America/New_York:20260107T200000
DTEND;TZID=America/New_York:20260107T230000
DTSTAMP:20260419T111633
CREATED:20251231T102930Z
LAST-MODIFIED:20251231T102930Z
UID:10007326-1767816000-1767826800@ilovebabylon.com
SUMMARY:The Green Project Jam
DESCRIPTION:Come on out every Wednesday night to our new Jam spot! Everyone Plays! Bring your kids too because that’s where it all begins!!! \nhttps://www.facebook.com/events/701110279725029/?event_time_id=701110286391695
URL:https://ilovebabylon.com/event/the-green-project-jam/
LOCATION:Popei’s Clam Bar Deer Park\, Popei's Clam Bar Deer Park
END:VEVENT
BEGIN:VEVENT
DTSTART;TZID=America/New_York:20260107T200000
DTEND;TZID=America/New_York:20260107T230000
DTSTAMP:20260419T111633
CREATED:20260104T143914Z
LAST-MODIFIED:20260104T143914Z
UID:10007406-1767816000-1767826800@ilovebabylon.com
SUMMARY:The Green Project Jam
DESCRIPTION:Come on out every Wednesday night to our new Jam spot! Everyone Plays! Bring your kids too because that’s where it all begins!!!
URL:https://ilovebabylon.com/event/the-green-project-jam-2/
LOCATION:Popei’s Clam Bar Deer Park\, Popei's Clam Bar Deer Park
END:VEVENT
BEGIN:VEVENT
DTSTART;TZID=America/New_York:20260108T070000
DTEND;TZID=America/New_York:20260108T080000
DTSTAMP:20260419T111633
CREATED:20260104T143916Z
LAST-MODIFIED:20260104T143916Z
UID:10007407-1767855600-1767859200@ilovebabylon.com
SUMMARY:Volunteers Wanted!! PetSmart N. Babylon
DESCRIPTION:Help!! The kittens are HERE!! Volunteers are desperately needed to take (1) 2hr shift per week at our adoption center within\, Petsmart N. Babylon\, 1208 Deer Park Ave or our second location Petsmart W. Babylon\, 535 W. Montauk hwy. Can you spend 2hrs per week to help homeless cats and kittens happy while the are waiting for forever homes? Volunteers must be 18+yrs of age or 14+yrs of age accompanied by a parent\, guardian or adult over 18yrs of age. Students who need community service hours are welcome.  \n🆘 The shifts that need coverage immediately are Feed/Clean & Socializing shifts 🆘:9-11am: Mon-Thursday \nComplete our volunteer application here – https://www.tenderlovingcats.org/volunteer-application.html to get the process started and sign up for a training shift. Call us at 1-866-458-8228 (ILUVCATS) Ext 1 or email volunteer@tenderlovingcats.org with any questions you may have. Learn more about volunteering here – https://www.tenderlovingcats.org/volunteer.html \nhttps://www.facebook.com/events/796599699589396/?event_time_id=796599752922724
URL:https://ilovebabylon.com/event/volunteers-wanted-petsmart-n-babylon/
LOCATION:PetSmart\, 1208 Deer Park Ave\, North Babylon\, NY\, 11703\, US
END:VEVENT
BEGIN:VEVENT
DTSTART;TZID=America/New_York:20260108T140000
DTEND;TZID=America/New_York:20260108T143000
DTSTAMP:20260419T111633
CREATED:20260104T143921Z
LAST-MODIFIED:20260104T143921Z
UID:10007408-1767880800-1767882600@ilovebabylon.com
SUMMARY:Tasting Room Kitchen + Cocktails Grand Opening Ribbon Cutting
DESCRIPTION:Farmingdale Chamber of Commerce is pleased to announce that it will hold a Ribbon Cutting ceremony for the grand opening of Tasting Room Kitchen + Cocktails\, located at 185 Main Street\, Farmingdale\, NY at 2pm on Thursday\, January 8\, 2026. \nTasting Room Kitchen & Cocktails is led by two-time Chopped champion Chef Marc Anthony Bynum\, whose bold New American cuisine blends classic technique with creative flair. Founded by Chef Bynum alongside partners Jeffrey Rumman and Louis Lang\, Tasting Room pairs standout food\, inventive cocktails\, and a vibrant atmosphere in the heart of Farmingdale. \nFarmingdale Chamber is delighted to welcome Tasting Room Kitchen + Cocktails to Farmingdale Village’s Culinary Corner and we wish them great success. We invite Farmingdale’s Elected Officials\, Chamber Members\, and all interested Farmingdale residents to join us for the celebration. \nFor more information regarding Tasting Room Kitchen + Cocktails\, please call 516-426-2727 or visit TastingRoomNY.com.
URL:https://ilovebabylon.com/event/tasting-room-kitchen-cocktails-grand-opening-ribbon-cutting/
LOCATION:Tasting Room Kitchen + Cocktails\, Tasting Room Kitchen + Cocktails
END:VEVENT
BEGIN:VEVENT
DTSTART;TZID=America/New_York:20260108T180000
DTEND;TZID=America/New_York:20260108T210000
DTSTAMP:20260419T111633
CREATED:20251231T102933Z
LAST-MODIFIED:20260109T080825Z
UID:10007327-1767895200-1767906000@ilovebabylon.com
SUMMARY:Psychic Dinner Night At Great South Bay
DESCRIPTION:✨ Join us for a Psychic Dinner Night at Great South Bay! ✨📅 Thursday\, January 8th | 6:00 PM – 9:00 PM📍 47 South Wellwood Ave.\, Lindenhurst \nEnjoy an evening of insight and connection with:🔮 1-on-1 Psychic Readings🍽️ Choice of One Entrée (beverages additional; cash bar available) \n💵 $55 per person + tax & gratuit — Cash due at the door \nTo RSVP:✅ Click the link in our caption to fill out the Google Form📞 Questions? Call 516-444-1975 \nVisit(http://www.longislandpsychics.com) for more info.*For entertainment purposes only*
URL:https://ilovebabylon.com/event/psychic-dinner-night-at-great-south-bay/
LOCATION:147 S Wellwood Ave\, Lindenhurst\, NY 11757-4902\, United States\, 147 S Wellwood Ave\, Lindenhurst\, NY 11757-4902\, United States
END:VEVENT
BEGIN:VEVENT
DTSTART;TZID=America/New_York:20260108T180000
DTEND;TZID=America/New_York:20260108T210000
DTSTAMP:20260419T111633
CREATED:20260104T143930Z
LAST-MODIFIED:20260109T080831Z
UID:10007409-1767895200-1767906000@ilovebabylon.com
SUMMARY:January PTA Meeting
DESCRIPTION:Join us for our monthly PTA meeting! We have lots to share for the year ahead!
URL:https://ilovebabylon.com/event/january-pta-meeting/
LOCATION:Belmont Elementary School\, Belmont Elementary School
END:VEVENT
BEGIN:VEVENT
DTSTART;TZID=America/New_York:20260108T180000
DTEND;TZID=America/New_York:20260108T210000
DTSTAMP:20260419T111633
CREATED:20260109T075314Z
LAST-MODIFIED:20260109T080828Z
UID:10007421-1767895200-1767906000@ilovebabylon.com
SUMMARY:SOPHIA ITALIAN BISTRO
DESCRIPTION:Live music in Amityville!Dinner & Dance
URL:https://ilovebabylon.com/event/sophia-italian-bistro/
LOCATION:Sophia Italian Bistro\, 71 Merrick Rd\, Amityville\, NY\, 11701\, US
END:VEVENT
BEGIN:VEVENT
DTSTART;TZID=America/New_York:20260108T183000
DTEND;TZID=America/New_York:20260108T213000
DTSTAMP:20260419T111633
CREATED:20251231T102940Z
LAST-MODIFIED:20260109T080833Z
UID:10007328-1767897000-1767907800@ilovebabylon.com
SUMMARY:FM - A Steely Dan Tribute at The Warehouse
DESCRIPTION:FM – A Steely Dan Tribute at The Warehouse \nThursday January 8\, 2026 \nFM – This 12-piece ensemble lovingly recreates the Fagen/Becker Songbook \nTickets available at: www.thewarehouseli.com/calendar \nWalk-ins welcome \nDoors 6:30pm
URL:https://ilovebabylon.com/event/fm-a-steely-dan-tribute-at-the-warehouse-2/
LOCATION:The Warehouse Live Music & Events\, The Warehouse Live Music & Events
END:VEVENT
BEGIN:VEVENT
DTSTART;TZID=America/New_York:20260108T183000
DTEND;TZID=America/New_York:20260108T213000
DTSTAMP:20260419T111633
CREATED:20251231T102942Z
LAST-MODIFIED:20260109T080835Z
UID:10007329-1767897000-1767907800@ilovebabylon.com
SUMMARY:Long Island Sierra Club: Whales
DESCRIPTION:Join marine mammal expert Artie Kopelman\, President of the Coastal Research and Education Society of Long Island (CRESLI)\, for a fascinating journey into the world of whales! In this engaging and informative program\, Mr. Kopelman will share his decades of research on whale populations off the coast of Long Island\, including captivating stories\, stunning photographs\, and insights into the behaviors\, migrations\, and conservation of these magnificent creatures.
URL:https://ilovebabylon.com/event/long-island-sierra-club-whales/
LOCATION:50 Deauville Blvd\, Copiague\, NY\, United States\, New York 11726\, 50 Deauville Blvd\, Copiague\, NY\, United States\, New York 11726
END:VEVENT
BEGIN:VEVENT
DTSTART;TZID=America/New_York:20260108T193000
DTEND;TZID=America/New_York:20260108T223000
DTSTAMP:20260419T111633
CREATED:20260104T143936Z
LAST-MODIFIED:20260104T143936Z
UID:10007410-1767900600-1767911400@ilovebabylon.com
SUMMARY:One Piece Card Game Local Tournament
DESCRIPTION:7:00PM Signups7:30PM Start$10.00 EntryFull Credit Prize PoolPromo to every player signed up!Join us every Monday & Thursday! \nhttps://www.facebook.com/events/1102033492086776/?event_time_id=1102033508753441
URL:https://ilovebabylon.com/event/one-piece-card-game-local-tournament-4/
LOCATION:1883-B Deer Park Avenue\, Deer Park\, NY\, United States\, New York 11729\, 1883-B Deer Park Avenue\, Deer Park\, NY\, United States\, New York 11729
END:VEVENT
BEGIN:VEVENT
DTSTART;TZID=America/New_York:20260108T193000
DTEND;TZID=America/New_York:20260108T223000
DTSTAMP:20260419T111633
CREATED:20260104T143938Z
LAST-MODIFIED:20260104T143938Z
UID:10007411-1767900600-1767911400@ilovebabylon.com
SUMMARY:Pokemon TCG League Tournament
DESCRIPTION:$10.00 EntryFull Store Credit Prize Pool1 Prize Pack per Player*7:30PM StartStandard Constructed FormatA Complete Play!Pokemon Player ID is required(Create an account on Pokemon.com and link your Player ID!)*While Supplies Last \nhttps://www.facebook.com/events/744793075233424/?event_time_id=744793135233418
URL:https://ilovebabylon.com/event/pokemon-tcg-league-tournament-4/
LOCATION:1883-B Deer Park Avenue\, Deer Park\, NY\, United States\, New York 11729\, 1883-B Deer Park Avenue\, Deer Park\, NY\, United States\, New York 11729
END:VEVENT
BEGIN:VEVENT
DTSTART;TZID=America/New_York:20260109T160000
DTEND;TZID=America/New_York:20260109T200000
DTSTAMP:20260419T111633
CREATED:20260109T075327Z
LAST-MODIFIED:20260109T080837Z
UID:10007422-1767974400-1767988800@ilovebabylon.com
SUMMARY:Happy Hour at the Seabreeze
DESCRIPTION:This Friday for Happy Hour 4pm-8pm Running Loose in the house !!Drink specials $7 Shots \, Sylvia Behind the Bar .
URL:https://ilovebabylon.com/event/happy-hour-at-the-seabreeze-2/
LOCATION:470 Fire Island Ave\, Babylon\, NY\, 470 Fire Island Ave\, Babylon\, NY
END:VEVENT
END:VCALENDAR