BEGIN:VCALENDAR
VERSION:2.0
PRODID:-//I Love Babylon, NY - ECPv6.15.20//NONSGML v1.0//EN
CALSCALE:GREGORIAN
METHOD:PUBLISH
X-WR-CALNAME:I Love Babylon, NY
X-ORIGINAL-URL:https://ilovebabylon.com
X-WR-CALDESC:Events for I Love Babylon, NY
REFRESH-INTERVAL;VALUE=DURATION:PT1H
X-Robots-Tag:noindex
X-PUBLISHED-TTL:PT1H
BEGIN:VTIMEZONE
TZID:America/New_York
BEGIN:DAYLIGHT
TZOFFSETFROM:-0500
TZOFFSETTO:-0400
TZNAME:EDT
DTSTART:20240310T070000
END:DAYLIGHT
BEGIN:STANDARD
TZOFFSETFROM:-0400
TZOFFSETTO:-0500
TZNAME:EST
DTSTART:20241103T060000
END:STANDARD
BEGIN:DAYLIGHT
TZOFFSETFROM:-0500
TZOFFSETTO:-0400
TZNAME:EDT
DTSTART:20250309T070000
END:DAYLIGHT
BEGIN:STANDARD
TZOFFSETFROM:-0400
TZOFFSETTO:-0500
TZNAME:EST
DTSTART:20251102T060000
END:STANDARD
BEGIN:DAYLIGHT
TZOFFSETFROM:-0500
TZOFFSETTO:-0400
TZNAME:EDT
DTSTART:20260308T070000
END:DAYLIGHT
BEGIN:STANDARD
TZOFFSETFROM:-0400
TZOFFSETTO:-0500
TZNAME:EST
DTSTART:20261101T060000
END:STANDARD
END:VTIMEZONE
BEGIN:VEVENT
DTSTART;TZID=America/New_York:20251023T183000
DTEND;TZID=America/New_York:20251023T213000
DTSTAMP:20260423T060331
CREATED:20251002T232208Z
LAST-MODIFIED:20251002T232208Z
UID:10006897-1761244200-1761255000@ilovebabylon.com
SUMMARY:The Warehouse\, Amityville\, NY
DESCRIPTION:Please join us October 23rd\, 2025 for an evening of Sparks Coldplay Tribute at 7:00 PM followed by the Lis Beth Roman band at 9 PM at The Warehouse\, Amityville\, NY.Sparks is a Long Island’s newest Coldplay tribute band. We are four seasoned performers that captures the rich musical textures and nuances of Coldplay in live performance.  \nGet your tickets at: https://bookeo.com/thewarehouse?type=3152URTJCY18733FACF91  \nCheck out our videos at: https://sparkscoldplaytribute.com/home \nBtw\, we will not be running our fan cam\, so you can bring your secret friend! See you there!
URL:https://ilovebabylon.com/event/the-warehouse-amityville-ny/
LOCATION:The Warehouse Live Music & Events\, The Warehouse Live Music & Events
CATEGORIES:Concert,Food & Drink,Live Music
END:VEVENT
BEGIN:VEVENT
DTSTART;TZID=America/New_York:20251023T180000
DTEND;TZID=America/New_York:20251023T220000
DTSTAMP:20260423T060331
CREATED:20251003T175216Z
LAST-MODIFIED:20251003T175216Z
UID:10006895-1761242400-1761256800@ilovebabylon.com
SUMMARY:40th Anniversary Gala
DESCRIPTION:✨ Registration is now OPEN!  \nMercy Haven is celebrating 40 years of impact at our upcoming Anniversary Gala – Paths of Possibility! On October 23rd\, we’ll honor the individuals\, partners\, and stories that have shaped our mission — and invite you to be part of building what’s next. \n🎉 Join us for an inspiring evening of connection\, celebration\, and purpose. \n🟡 Click here to learn more about our amazing honorees John Castellano\, Melissa C. Marius-Burke and Denise & David Winter – and get your sponsorships and tickets NOW at https://mercyhaven.me/40GALA
URL:https://ilovebabylon.com/event/40th-anniversary-gala/
LOCATION:The Piermont\, The Piermont
CATEGORIES:Social Events,Wine & Dining
END:VEVENT
BEGIN:VEVENT
DTSTART;TZID=America/New_York:20251023T160000
DTEND;TZID=America/New_York:20251023T190000
DTSTAMP:20260423T060331
CREATED:20251003T174123Z
LAST-MODIFIED:20251003T174123Z
UID:10006894-1761235200-1761246000@ilovebabylon.com
SUMMARY:FOOD TRUCK FEST
DESCRIPTION:Join us Thursday at Century 21 AA Realty from 4pm – 8pm for a variety of delicious food trucks!
URL:https://ilovebabylon.com/event/food-truck-fest-3/
LOCATION:1596 Straight Path\, Lindenhurst\, NY 11757-1670\, United States\, 1596 Straight Path\, Lindenhurst\, NY 11757-1670\, United States
CATEGORIES:Food & Drink
END:VEVENT
BEGIN:VEVENT
DTSTART;TZID=America/New_York:20251018T110000
DTEND;TZID=America/New_York:20251025T190000
DTSTAMP:20260423T060331
CREATED:20250821T193537Z
LAST-MODIFIED:20250821T193537Z
UID:10006269-1760785200-1761418800@ilovebabylon.com
SUMMARY:Haunted Shed
DESCRIPTION:Dare to enter the Haunted Shed at Tuff Shed in Lindenhurst! Running from October 18 to 25\, this spine-chilling indoor experience features live scary characters\, free candy\, and photo opportunities—all for free! Perfect for thrill-seekers and families looking for some frightful fun this Halloween season.
URL:https://ilovebabylon.com/event/haunted-shed/
CATEGORIES:Community,Entertainment,Holiday,Recreation & Amusements
ATTACH;FMTTYPE=image/jpeg:https://ilovebabylon.com/wp-content/uploads/2025/08/hauted-shed.jpg
END:VEVENT
END:VCALENDAR