BEGIN:VCALENDAR
VERSION:2.0
PRODID:-//I Love Babylon, NY - ECPv6.15.20//NONSGML v1.0//EN
CALSCALE:GREGORIAN
METHOD:PUBLISH
X-WR-CALNAME:I Love Babylon, NY
X-ORIGINAL-URL:https://ilovebabylon.com
X-WR-CALDESC:Events for I Love Babylon, NY
REFRESH-INTERVAL;VALUE=DURATION:PT1H
X-Robots-Tag:noindex
X-PUBLISHED-TTL:PT1H
BEGIN:VTIMEZONE
TZID:America/New_York
BEGIN:DAYLIGHT
TZOFFSETFROM:-0500
TZOFFSETTO:-0400
TZNAME:EDT
DTSTART:20250309T070000
END:DAYLIGHT
BEGIN:STANDARD
TZOFFSETFROM:-0400
TZOFFSETTO:-0500
TZNAME:EST
DTSTART:20251102T060000
END:STANDARD
BEGIN:DAYLIGHT
TZOFFSETFROM:-0500
TZOFFSETTO:-0400
TZNAME:EDT
DTSTART:20260308T070000
END:DAYLIGHT
BEGIN:STANDARD
TZOFFSETFROM:-0400
TZOFFSETTO:-0500
TZNAME:EST
DTSTART:20261101T060000
END:STANDARD
BEGIN:DAYLIGHT
TZOFFSETFROM:-0500
TZOFFSETTO:-0400
TZNAME:EDT
DTSTART:20270314T070000
END:DAYLIGHT
BEGIN:STANDARD
TZOFFSETFROM:-0400
TZOFFSETTO:-0500
TZNAME:EST
DTSTART:20271107T060000
END:STANDARD
END:VTIMEZONE
BEGIN:VEVENT
DTSTART;TZID=America/New_York:20260130T190000
DTEND;TZID=America/New_York:20260130T203000
DTSTAMP:20260419T165405
CREATED:20260125T213539Z
LAST-MODIFIED:20260130T190959Z
UID:10007500-1769799600-1769805000@ilovebabylon.com
SUMMARY:Restorative Yoga & Acupuncture
DESCRIPTION:Give yourself the gift of true rest. This special class combines the gentle\, supportive postures of restorative yoga with the grounding\, healing benefits of acupuncture.We’ll begin with restorative yoga\, using props to fully support the body so you can melt into deep relaxation. Once the body and mind are at ease\, you’ll receive a calming acupuncture treatment designed to release tension\, balance energy\, and encourage the nervous system to reset. \nBenefits include:•Relieving stress + anxiety•Supporting deeper sleep•Calming the nervous system•Promoting physical + emotional balance \nThis is a powerful opportunity to pause\, reset\, and restore — leaving you feeling lighter\, calmer\, and deeply nourished. \n$50 per person
URL:https://ilovebabylon.com/event/restorative-yoga-acupuncture/
LOCATION:The Nesting Place\, 2043 Wellwood Avenue Suite One\, Farmingdale\, NY\, 11735\, US
END:VEVENT
BEGIN:VEVENT
DTSTART;TZID=America/New_York:20260130T190000
DTEND;TZID=America/New_York:20260130T200000
DTSTAMP:20260419T165405
CREATED:20260125T213536Z
LAST-MODIFIED:20260130T190957Z
UID:10007499-1769799600-1769803200@ilovebabylon.com
SUMMARY:Gloga
DESCRIPTION:Turn the lights down and let your practice light up. GLOGA is our glow in the dark yoga class where movement feels playful\, the music is turned up\, and the room comes alive with glowing rings and neon energy. Enjoy a feel good flow that is easy to follow with options to add a little extra if you want. We also provide glow flow stickers for your yoga mat to help guide your practice in a fun and visual way. Expect big smiles\, laughter\, and that rare feeling of being fully present. Wear white or neon if you have it. Come as you are\, bring a friend\, and leave feeling lighter and energized. \nInstructors: Bethann & Rosaria \nAdmission: $25
URL:https://ilovebabylon.com/event/gloga/
LOCATION:180 Great East Neck Rd\, West Babylon\, NY\, United States\, New York 11704\, 180 Great East Neck Rd\, West Babylon\, NY\, United States\, New York 11704
END:VEVENT
BEGIN:VEVENT
DTSTART;TZID=America/New_York:20260130T180000
DTEND;TZID=America/New_York:20260130T210000
DTSTAMP:20260419T165405
CREATED:20260130T190459Z
LAST-MODIFIED:20260130T191003Z
UID:10007609-1769796000-1769806800@ilovebabylon.com
SUMMARY:UnWined at The Village Lantern
DESCRIPTION:Great Dinner apps and UnWined playing from the Heart ❤️!
URL:https://ilovebabylon.com/event/unwined-at-the-village-lantern-3/
LOCATION:The Village Lanterne Restaurant\, The Village Lanterne Restaurant
END:VEVENT
BEGIN:VEVENT
DTSTART;TZID=America/New_York:20260130T180000
DTEND;TZID=America/New_York:20260130T210000
DTSTAMP:20260419T165405
CREATED:20260125T213534Z
LAST-MODIFIED:20260130T191001Z
UID:10007498-1769796000-1769806800@ilovebabylon.com
SUMMARY:ED RYAN at BELFAST GASTROPUB in Lindenhurst
DESCRIPTION:Happy New Year\, Everybody!! \n I started this year by correcting a problem with my left foot that’s been bothering me for years. I had surgery on January 2nd and have to be off my feet for a week\, followed by a month of wearing a “boot” and playing while sitting down. But after the healing is done\, I expect to be a bit bouncier on my feet\, just like Fred Astaire!(or maybe Fred Mertz\, we’ll see) \n My first gig of the new year will be thisSATURDAY JAN 10th\, which happens to be the 10th Anniversary of David Bowie’s passing. Come celebrate the Life & Music of the Thin White Duke from 4:00 – 7:00pm atMcGRATH’S on Main St in Farmingdale. \n Speaking of all things Bowie\, my Tribute Band BOWIE STATION is coming to DARYL’S HOUSE in Pawling NY onFRIDAY FEBRUARY 27th8:00pm ShowtimeWe would LOVE to Pack The House\, being our first time there and wanting to impress\, so if you can make the trip Please Do So.Get your tickets here:https://www.ticketweb.com/event/bowie-station-david-daryls-house-tickets/14567703?pl=daryl \nHere’s the January Schedule: \nSATURDAY JAN 10thMcGRATH’S on Main St in Farmingdale 4:00 – 7:00pm*** David Bowie Tribute Show – All Bowie. All Day. *** \nSUNDAY JAN 11thMcGRATH’S in Farmingdale 4:00 – 7:00pm \nWEDNESDAY JAN 14thBUNKER HILL AMERICAN TAP ROOM on Wantagh Ave in Wantagh 7:00 – 10:00pm \nTHURSDAY JAN 15thTHE 3RD RAIL on Pettit Ave in Bellmore 7:00 – 10:00pm \nFRIDAY JAN 16thMcGRATH’S in Farmingdale 4:00 – 7:00pm \nSATURDAY JAN 17thBELFAST GASTRO PUB on Wellwood Ave in Lindenhurst 6:00 – 9:00pm \nSUNDAY JAN 18thMcGRATH’S in Farmingdale 4:00 – 7:00pm \nTHURSDAY JAN 22ndTHE 3RD RAIL in Bellmore 7:00 – 10:00pm \nFRIDAY JAN 23rdPADDY POWER on Merrick Ave in Merrick 5:00 – 9:00pm \nSATURDAY JAN 24thMcGRATH’S in Farmingdale 4:00 – 7:00pm \nSUNDAY JAN 25thMcGRATH’S in Farmingdale 4:00 – 7:00pm \nWEDNESDAY JAN 28thBUNKER HILL on Wantagh Ave in Wantagh 7:00 – 10:00pm \nTHURSDAY JAN 29thTHE 3RD RAIL in Bellmore 7:00 – 10:00pm \nFRIDAY JAN 30thBELFAST GASTRO PUB in Lindenhurst 6:00 – 9:00pm \nSATURDAY JAN 31stMcGRATH’S in Farmingdale 4:00 – 7:00pm \nThat’s it for now.Check my Facebook Page or Website Calendar for any last minute changes or cancelations. \nMuch Love\,Ed & Rain
URL:https://ilovebabylon.com/event/ed-ryan-at-belfast-gastropub-in-lindenhurst-4/
LOCATION:Belfast Gastropub\, 101 North Wellwood Avenue\, Lindenhurst\, NY\, 11757\, US
END:VEVENT
BEGIN:VEVENT
DTSTART;TZID=America/New_York:20260129T220000
DTEND;TZID=America/New_York:20260130T010000
DTSTAMP:20260419T165405
CREATED:20260125T213533Z
LAST-MODIFIED:20260125T213533Z
UID:10007497-1769724000-1769734800@ilovebabylon.com
SUMMARY:Obscured By Floyd Rocks The Warehouse in Amityville
DESCRIPTION:Obscured By Floyd -Tributeperformance live at The Warehouse Live Music & Events thur\, Jan 29th. Thank you everybody for your support. We’re gonna breakout the bells and whistles for this show.. You don’t want to miss this one.. like\, sharefollow
URL:https://ilovebabylon.com/event/obscured-by-floyd-rocks-the-warehouse-in-amityville-2/
LOCATION:The Warehouse Live Music & Events\, The Warehouse Live Music & Events
END:VEVENT
BEGIN:VEVENT
DTSTART;TZID=America/New_York:20260129T193000
DTEND;TZID=America/New_York:20260129T223000
DTSTAMP:20260419T165405
CREATED:20260125T213531Z
LAST-MODIFIED:20260125T213531Z
UID:10007496-1769715000-1769725800@ilovebabylon.com
SUMMARY:Pokemon TCG: League Challenge
DESCRIPTION:Rip N Ship Gaming Pokémon League Challenge! \nThere will be no change from the usual Weekly Evening Pokemon League Tournament\, except this special night top players will earn Champion Points! \nThere will be a 32 player cap on any given division. It is highly recommended to pre-register!! \nStart Time: 7:00PM Signups\, 7:30PM Start \nEntry: $10.00 \nFormat: Standard\, best of 1\, full swiss with NO top cut. \nThis is a competitive event where trainers can earn Championship points.  \nDecklists WILL be required for this event. \nPlayers MUST show up with their play IDs. If you do not have one\, we can assign you a new one. If you will need a new ID\, please plan to show up early\, as we will be starting promptly at 7:30pm \nPlease note: This event is limited to 32 players in the Masters Division. This pre-registration should be used only if you are entering the Tournament in the Masters Division. If you are in the Senior or Junior Division\, a pre-registration is not necessary.
URL:https://ilovebabylon.com/event/pokemon-tcg-league-challenge-5/
LOCATION:1883-B Deer Park Avenue\, Deer Park\, NY\, United States\, New York 11729\, 1883-B Deer Park Avenue\, Deer Park\, NY\, United States\, New York 11729
END:VEVENT
BEGIN:VEVENT
DTSTART;TZID=America/New_York:20260129T190000
DTEND;TZID=America/New_York:20260129T220000
DTSTAMP:20260419T165405
CREATED:20260125T213527Z
LAST-MODIFIED:20260125T213527Z
UID:10007495-1769713200-1769724000@ilovebabylon.com
SUMMARY:Deaf Trivia Night!
DESCRIPTION:Come join us for a fun Deaf Trivia Night that we hold monthly at the Main Event in Farmingdale!  \nASL interpreters are provided by Mill Neck Services and sponsored in honor of Laura Rosenberg
URL:https://ilovebabylon.com/event/deaf-trivia-night/
LOCATION:The Main Event – Farmingdale\, The Main Event - Farmingdale
END:VEVENT
BEGIN:VEVENT
DTSTART;TZID=America/New_York:20260129T190000
DTEND;TZID=America/New_York:20260129T220000
DTSTAMP:20260419T165405
CREATED:20260125T213524Z
LAST-MODIFIED:20260125T213524Z
UID:10007494-1769713200-1769724000@ilovebabylon.com
SUMMARY:Beyond Fab back at The Warehouse
DESCRIPTION:Please join us for a night of Beatles and other cool stuff!A splendid time is guaranteed for all!Doors open at 6:30
URL:https://ilovebabylon.com/event/beyond-fab-back-at-the-warehouse/
LOCATION:The Warehouse Live Music & Events\, The Warehouse Live Music & Events
END:VEVENT
BEGIN:VEVENT
DTSTART;TZID=America/New_York:20260129T183000
DTEND;TZID=America/New_York:20260129T213000
DTSTAMP:20260419T165405
CREATED:20251231T103608Z
LAST-MODIFIED:20260302T140051Z
UID:10007395-1769711400-1769722200@ilovebabylon.com
SUMMARY:Mosaic Sea Glass Tray & Beach Glass Frame Craft Workshop at Hurricane Grill & Wings in Lindenhurst
DESCRIPTION:Join us for a fun evening of crafting at Hurricane Grill & Wings in Lindenhurst! \nSea Glass mosaics trays. $55-$65 Round or rectangle. Includes Tray & all craft supplies. Choose a design or freestyle it.Rectangle: 12” 14” 16”Round: 10” 12” \nBeach Glass Frames $50-$60. Includes frame & all supplies.Templates will be available to choose at the event.Make any design. You will choose your Sea Shell & Beach Glass Supplies at the event. Add vinyl text to personalize it. Feel free to bring some of your beach treasures to add. \nPlease note a food/bev purchase is required for this event. We will be crafting first hour & then dining.to dine before the event please arrive early. \nPLEASE REGISTER EACH PERSON SEPERATELY \nNo refunds will be given\, if you cannot attend your supplies will be packaged as a To Go kit.
URL:https://ilovebabylon.com/event/mosaic-sea-glass-tray-beach-glass-frame-craft-workshop-at-hurricane-grill-wings-in-lindenhurst/
LOCATION:Hurricane Grill & Wings (127 East Montauk Highway\, Lindenhurst\, NY)
CATEGORIES:Arts and Crafts
END:VEVENT
BEGIN:VEVENT
DTSTART;TZID=America/New_York:20260129T183000
DTEND;TZID=America/New_York:20260129T203000
DTSTAMP:20260419T165405
CREATED:20260125T213518Z
LAST-MODIFIED:20260125T213518Z
UID:10007492-1769711400-1769718600@ilovebabylon.com
SUMMARY:Home Cooking for Your Dogs and Cats
DESCRIPTION:Happier\, healthier\, and better-behaved pets start with a species appropriate diet. Fresh and homemade is optimal as diet effects cognition and behavior. Learn how easy and affordable it is to make homemade meals with Behavioral Nutritionist and author of Home Cooking for Your Dog Christine M.Filardi.
URL:https://ilovebabylon.com/event/home-cooking-for-your-dogs-and-cats/
LOCATION:Copiague Library\, 50 Deauville Blvd\, Copiague\, NY\, 11726\, US
END:VEVENT
BEGIN:VEVENT
DTSTART;TZID=America/New_York:20260129T173000
DTEND;TZID=America/New_York:20260129T203000
DTSTAMP:20260419T165405
CREATED:20260125T213512Z
LAST-MODIFIED:20260125T213512Z
UID:10007491-1769707800-1769718600@ilovebabylon.com
SUMMARY:Joyce Manor "I Used To Go To This Bar" Listening Party
DESCRIPTION:Join us on Thursday January 29th at 5:30pm as we celebrate the release of Joyce Manor’s new album\, “I Used To Go To This Bar!” Prizes\, giveaways\, playing the album early front to back + more! #ListenToJoyceManor #ListenTogether
URL:https://ilovebabylon.com/event/joyce-manor-i-used-to-go-to-this-bar-listening-party/
LOCATION:31 Brookvale Ave\, West Babylon\, NY\, United States\, New York 11704\, 31 Brookvale Ave\, West Babylon\, NY\, United States\, New York 11704
ORGANIZER;CN="Looney Tunes Music and More":MAILTO:noreply@facebookmail.com
END:VEVENT
BEGIN:VEVENT
DTSTART;TZID=America/New_York:20260129T130000
DTEND;TZID=America/New_York:20260129T140000
DTSTAMP:20260419T165405
CREATED:20260125T213510Z
LAST-MODIFIED:20260125T213510Z
UID:10007490-1769691600-1769695200@ilovebabylon.com
SUMMARY:Weather Wonders
DESCRIPTION:What better way to learn than through engaging\, hands-on STEM and sensory activities along with storytelling? We integrate the most effective learning methods to educate our students about science and the world\, where learning is led by wonder and natural curiosity. Join our 2-day weather series and encourage your child’s curiousity. DM for more information and a link to register. \nhttps://www.facebook.com/events/721709107486953/?event_time_id=721709114153619
URL:https://ilovebabylon.com/event/weather-wonders/
LOCATION:Lindenhurst\, Lindenhurst\, New York\, Lindenhurst\, NY\, 11757\, US
END:VEVENT
BEGIN:VEVENT
DTSTART;TZID=America/New_York:20260129T123000
DTEND;TZID=America/New_York:20260129T153000
DTSTAMP:20260419T165405
CREATED:20260125T213502Z
LAST-MODIFIED:20260125T213502Z
UID:10007489-1769689800-1769700600@ilovebabylon.com
SUMMARY:Balance For Life-A Practical Guide to Staying Strong & Preventing Falls
DESCRIPTION:Practical balance tips\, Simple strength strategies\, Fall prevention habits that work!Presented by Uwe Ross\, Certified Senior Advisor and Denise Lanzarone\, Physical Therapist Assistant and Senior Real Estate Specialist.All are welcome\, Bring a Friend
URL:https://ilovebabylon.com/event/balance-for-life-a-practical-guide-to-staying-strong-preventing-falls/
LOCATION:Spangle Drive Senior Citizen Center\, Spangle Drive Senior Citizen Center
END:VEVENT
BEGIN:VEVENT
DTSTART;TZID=America/New_York:20260127T190000
DTEND;TZID=America/New_York:20260127T220000
DTSTAMP:20260419T165405
CREATED:20260125T213500Z
LAST-MODIFIED:20260302T140046Z
UID:10007488-1769540400-1769551200@ilovebabylon.com
SUMMARY:All Abilities I'm Melting Snowman Craft
DESCRIPTION:This program is for patrons 18 years and older with sensory issues\, those on the autism spectrum or those who have other specific needs. Caregivers are encouraged to attend these programs with patrons. \nLet it snow. We will be creating a chilly snowman craft to take home.
URL:https://ilovebabylon.com/event/all-abilities-im-melting-snowman-craft/
LOCATION:50 Deauville Blvd\, Copiague\, NY\, United States\, New York 11726\, 50 Deauville Blvd\, Copiague\, NY\, United States\, New York 11726
CATEGORIES:Arts and Crafts
END:VEVENT
BEGIN:VEVENT
DTSTART;TZID=America/New_York:20260127T190000
DTEND;TZID=America/New_York:20260127T220000
DTSTAMP:20260419T165405
CREATED:20260125T213453Z
LAST-MODIFIED:20260125T213453Z
UID:10007487-1769540400-1769551200@ilovebabylon.com
SUMMARY:SightMD LASIK Event
DESCRIPTION:Join Dr. Faye Knoll for a unique opportunity to see the LASIK procedure like you’ve never seen it before. Watch a viewing of a LASIK procedure\, then ask our skilled surgeon about what you might expect from your own surgical experience. \nRegister here: https://www.sightmd.com/livelasik/
URL:https://ilovebabylon.com/event/sightmd-lasik-event/
LOCATION:SightMD Deer Park\, SightMD Deer Park
END:VEVENT
BEGIN:VEVENT
DTSTART;TZID=America/New_York:20260127T190000
DTEND;TZID=America/New_York:20260127T220000
DTSTAMP:20260419T165405
CREATED:20260125T213449Z
LAST-MODIFIED:20260125T213449Z
UID:10007486-1769540400-1769551200@ilovebabylon.com
SUMMARY:January Membership Meeting
DESCRIPTION:Dinner at 7pm\, meeting starts promptly at 8pm.
URL:https://ilovebabylon.com/event/january-membership-meeting/
LOCATION:West Babylon Volunteer Fire Department\, 126 Arnold Avenue\, West Babylon\, NY\, 11704\, US
END:VEVENT
BEGIN:VEVENT
DTSTART;TZID=America/New_York:20260126T183000
DTEND;TZID=America/New_York:20260126T213000
DTSTAMP:20260419T165405
CREATED:20260125T213447Z
LAST-MODIFIED:20260125T213447Z
UID:10007485-1769452200-1769463000@ilovebabylon.com
SUMMARY:January General Meeting
DESCRIPTION:North Babylon & West Babylon Chamber of CommerceJanuary General Meeting \nCome join fellow business owners at our January General Meeting on Monday\, January 26.  \nThe North Babylon & West Babylon Chamber of Commerce is looking forward to personally wishingeveryone a Happy New Year. \nOur Guest Speaker to help kick off 2026\, will be our Town Supervisor Richard Schaffer. \nIn addition\, the Chamber wishes to recognize M & T Bank – West Babylon Branch – Roseann Faraci as our January Member of the Month.  \nFurther\, we wish to recognize our Window Display Winners by presenting their plaques to John Kuskowski\, (Brilliant Award) of JK Auto & Tires of West Babylon\, Karl Groger (Amazing Award) of Loony Tunes Record Store and to John Mangiapane (Sparkling Award) of Mangia Restaurant. \nSo\, be sure to join us on January\, 26; Networking starts at 6:30 p.m. with the General Meeting starting at 7 p.m.  \nWHERE:Mangia’s Restaurant 785 Deer Park \nAvenue\, in No8rth Babylon.
URL:https://ilovebabylon.com/event/january-general-meeting/
LOCATION:Mangia Pizza\, 785 Deer Park Ave\, North Babylon\, NY\, 11703-4303\, US
END:VEVENT
BEGIN:VEVENT
DTSTART;TZID=America/New_York:20260125T180000
DTEND;TZID=America/New_York:20260125T210000
DTSTAMP:20260419T165405
CREATED:20260125T213445Z
LAST-MODIFIED:20260125T213445Z
UID:10007484-1769364000-1769374800@ilovebabylon.com
SUMMARY:The Fenians at Pino
DESCRIPTION:A great gem of a place in the heart of Lindenhurst! So welcoming with a great vibe. Lots of fun cocktails and amazing food. With live music by Barbara & Joe – The Fenians*. Come on down for a great time!!!
URL:https://ilovebabylon.com/event/the-fenians-at-pino-3/
LOCATION:Pino Wine Bar & Bistro\, 143 N Wellwood Avenue\, Lindenhurst\, NY\, 11757\, US
END:VEVENT
BEGIN:VEVENT
DTSTART;TZID=America/New_York:20260125T160000
DTEND;TZID=America/New_York:20260125T190000
DTSTAMP:20260419T165405
CREATED:20251231T103605Z
LAST-MODIFIED:20260125T213441Z
UID:10007394-1769356800-1769367600@ilovebabylon.com
SUMMARY:NLNY HEADS UP CHAMPIONSHIP
DESCRIPTION:Our HEADS UP CHAMPIONSHIP is coming back in a big way\, part of Main Event weekend!! 🥳🥇 \n🏆 Knights of Columbus Deer Park 🏆 \n📆 Sunday\, Jan 25th\, 4pm start time! 📆 \n📄 Format / Rules of the Event 📄 \n– Monthly Event open to all!– Double Elimination Bracket 1 on 1 competition– 10 win cards can be used for the event total.– Max of 5 win cards can be used per heads up match– Prize Pool TBA \n****Pre-register online for 500 extra chips under our special events link on the site!**** \nhttps://npptpoker.com/new_event.php?vid=1019
URL:https://ilovebabylon.com/event/nlny-heads-up-championship/
LOCATION:Knights of Columbus\, Deer Park\, NY\, US
END:VEVENT
BEGIN:VEVENT
DTSTART;TZID=America/New_York:20260124T200000
DTEND;TZID=America/New_York:20260124T223000
DTSTAMP:20260419T165405
CREATED:20251231T103551Z
LAST-MODIFIED:20251231T103551Z
UID:10007390-1769284800-1769293800@ilovebabylon.com
SUMMARY:Linda Ronstadt Tribute
DESCRIPTION:Check us out at the Argyle on January 24th. Hear you favorite Linda Ronstadt music performed live.  \nFor tickets and more informaiton –  \nwww.blubayou.com
URL:https://ilovebabylon.com/event/linda-ronstadt-tribute/
LOCATION:The Argyle Theatre at Babylon Village
END:VEVENT
BEGIN:VEVENT
DTSTART;TZID=America/New_York:20260124T180000
DTEND;TZID=America/New_York:20260124T210000
DTSTAMP:20260419T165405
CREATED:20251231T103447Z
LAST-MODIFIED:20251231T103547Z
UID:10007389-1769277600-1769288400@ilovebabylon.com
SUMMARY:Chris Devine Acoustic Live at Tres Palms
DESCRIPTION:Chris Devine is an Acoustic Musician. He plays Classic Rock\, New Rock\, Country\, Originals\, Irish and More \nEnjoy a relaxed dining experience or a few drinks on the Great South Bay at Babylon Villages only waterfront restaurant. Tres Palms is a warm establishment featuring seafood & New American mains\, a surfboard bar top & views of the bay. Warm Hospitality\, Excellent Food and New Everlasting Friendships!!
URL:https://ilovebabylon.com/event/chris-devine-acoustic-live-at-tres-palms/
LOCATION:Tres Palms\, 16 East Ct\, Babylon\, NY\, 11702\, US
END:VEVENT
BEGIN:VEVENT
DTSTART;TZID=America/New_York:20260124T130000
DTEND;TZID=America/New_York:20260124T160000
DTSTAMP:20260419T165405
CREATED:20251231T103444Z
LAST-MODIFIED:20251231T103444Z
UID:10007388-1769259600-1769270400@ilovebabylon.com
SUMMARY:NLNY MAIN EVENT XXI
DESCRIPTION:Knights of Columbus759 Long Island AveDeer Park\, NY \n🏆 WHO’S GOING TO BE OUR NEXT CHAMPION?! 🏆 \nFinish Top 10 in your local NLNY venue to advance to our BIG DANCE! \nChampion to receive a FULL PACKAGE (5 nights hotel at the Golden Nugget Vegas/$400 tourney entry/$400 airfare voucher) to the $400\,000 2026 Bar Poker Open National Finals Vegas OR East Coast Finals AC / FL! 🏆🏆 \n♠️ Schedule of events; ♠️ \nRegistration opens – 11:30amCeremonies – 12:30pmCards flying – 1pmShootout Consolation Event – shortly after cards flying in Main Event. Running all day! \n♥️ Receive extra chips by; ♥️ \n– Finishing in the Top 20 in our NY state rankings!– Being a Bar Leader – 2\,500 extra– Placing in the top 10 at multiple venues!– – 2 venues 1\,000 extra– – 3 venues 2\,500 extra \n♣️ Tourney Format; ♣️ \n– 7\,500 base stack with 1 re-entry– Extra chips as mentioned above for certain players– 20 minute levels with breaks every 2 hours \n♦️SHOOTOUT CONS TOURNEY♦️ \n– Beginning shortly after Main Event starts– Win a Shootout sit & go Table to advance to the final playoff at 9pm & earn a gift card.– The Winner of playoff to receive a $400 BPO National Finals seat to Vegas! \nQualifying runs until Sunday\, Dec 21st!
URL:https://ilovebabylon.com/event/nlny-main-event-xxi/
LOCATION:Knights of Columbus\, Deer Park\, NY\, US
END:VEVENT
BEGIN:VEVENT
DTSTART;TZID=America/New_York:20260124T090000
DTEND;TZID=America/New_York:20260124T180000
DTSTAMP:20260419T165405
CREATED:20251231T103442Z
LAST-MODIFIED:20251231T103442Z
UID:10007387-1769245200-1769277600@ilovebabylon.com
SUMMARY:Sports Equipment Trade-in Event at Monkey Sports - Farmingdale
DESCRIPTION:📅 Date: January 24 – 25📍 Location:213 Airport plaza\, Farmingdale\, NY 11735 \nWe are at MonkeySports in Farmingdale for our trade-in event! Trade-in your gently used sports gear and receive the trade-in value in a Monkey Sports Gift Card this weekend! Whether it’s hockey\, lacrosse\, baseball\, or any other sport\, bring items that are still in good shape and save on next season’s purchase. \n✅ What We Accept:Gear from all sports—hockey\, lacrosse\, baseball\, softball\, fishing\, snow sports\, tennis\, and more.Items in good working condition\, purchased within the last 5 years.Products with an original retail value of over $100. \n❌ What We Don’t Accept:Damaged or heavily worn items.Products that are hard to clean (no mold or mildew).Items purchased over 5 years ago.Knock-offs\, generic store brands\, and counterfeits.Bulky items like bikes\, kayaks\, treadmills\, and free weights.Anything with an original retail value under $100. \n🕒 Hours:Sat : 9am – 6PMSun: 10PM – 5PM \n🗓️ Additional Events:  \nNot available this weekend? No problem. We’ll be back in Farmingdale on the following dates:  \nJan 31st -1st \nAll trade-ins are assessed using SidelineSwap’s Value Guide to ensure you get the best value for your gear. Make sure your items meet our trade-in criteria by checking out our guidelines and details on all upcoming events: https://sidelineswap.com/events. \nhttps://www.facebook.com/events/2057017091506358/?event_time_id=2057017094839691
URL:https://ilovebabylon.com/event/sports-equipment-trade-in-event-at-monkey-sports-farmingdale-3/
LOCATION:MonkeySports\, MonkeySports
END:VEVENT
BEGIN:VEVENT
DTSTART;TZID=America/New_York:20260123T200000
DTEND;TZID=America/New_York:20260123T223000
DTSTAMP:20260419T165405
CREATED:20251231T103439Z
LAST-MODIFIED:20251231T103439Z
UID:10007386-1769198400-1769207400@ilovebabylon.com
SUMMARY:Music Bingo with Tracy
DESCRIPTION:Music Bingo with Tracy$10 to play four rounds of bingo. Additional cards available for $5Identify the song and/or artist and match to your game card to win.
URL:https://ilovebabylon.com/event/music-bingo-with-tracy-2/
LOCATION:371 Little East Neck Rd\, West Babylon\, NY\, 371 Little East Neck Rd\, West Babylon\, NY
END:VEVENT
BEGIN:VEVENT
DTSTART;TZID=America/New_York:20260123T183000
DTEND;TZID=America/New_York:20260123T213000
DTSTAMP:20260419T165405
CREATED:20260115T184643Z
LAST-MODIFIED:20260115T184643Z
UID:10007483-1769193000-1769203800@ilovebabylon.com
SUMMARY:That 70's Band and The Mixx Up with DJ Ronnie Sparks at The Warehouse
DESCRIPTION:That 70’s Band and The Mixx Up with DJ Ronnie Sparks at The Warehouse \nFriday January 23\, 2026 \nThat 70’s Band – Everybody Dance\, Dance\, Dance in The Disco Heat \nand  \nThe Mixx Up – All of your favorite Rock\, Pop\, Alternative\, R&B and Dance hits from yesterday and today \nDJ Ronnie spins More\, More\, More Disco and Club Classics all night! \nTickets available at: www.thewarehouseli.com/calendar \nWalk-ins welcome \nDoors 6:30pm
URL:https://ilovebabylon.com/event/that-70s-band-and-the-mixx-up-with-dj-ronnie-sparks-at-the-warehouse/
LOCATION:The Warehouse Live Music & Events\, The Warehouse Live Music & Events
END:VEVENT
BEGIN:VEVENT
DTSTART;TZID=America/New_York:20260123T183000
DTEND;TZID=America/New_York:20260123T213000
DTSTAMP:20260419T165405
CREATED:20260115T184639Z
LAST-MODIFIED:20260115T184639Z
UID:10007482-1769193000-1769203800@ilovebabylon.com
SUMMARY:Lefty at Goccia D'oro
DESCRIPTION:Come on down to forget about life for awhile. Playing all the songs that bring back great memories
URL:https://ilovebabylon.com/event/lefty-at-goccia-doro/
LOCATION:Goccia D’oro Restaurant\, 118 S Wellwood Ave\, Lindenhurst\, NY\, 11757-4901\, US
END:VEVENT
BEGIN:VEVENT
DTSTART;TZID=America/New_York:20260123T183000
DTEND;TZID=America/New_York:20260123T213000
DTSTAMP:20260419T165405
CREATED:20260115T184637Z
LAST-MODIFIED:20260115T184637Z
UID:10007481-1769193000-1769203800@ilovebabylon.com
SUMMARY:SOPHIA ITALIAN BISTRO Presents THE RETRO BROS-Sal & John(JT)
DESCRIPTION:THE RETRO BROS- Sal & John(JT) Sing tunes of many genres & years! Phone: (631) 598-1150
URL:https://ilovebabylon.com/event/sophia-italian-bistro-presents-the-retro-bros-sal-johnjt/
LOCATION:71 Merrick Rd\, Amityville\, NY 11701 Phone: (631) 598-1150\, 71 Merrick Rd\, Amityville\, NY 11701 Phone: (631) 598-1150
END:VEVENT
BEGIN:VEVENT
DTSTART;TZID=America/New_York:20260123T183000
DTEND;TZID=America/New_York:20260123T213000
DTSTAMP:20260419T165405
CREATED:20251231T103437Z
LAST-MODIFIED:20260115T184633Z
UID:10007385-1769193000-1769203800@ilovebabylon.com
SUMMARY:Acoustic Rewind at Cebollines
DESCRIPTION:Music food and fun!
URL:https://ilovebabylon.com/event/acoustic-rewind-at-cebollines/
LOCATION:Cebollines Grill\, 170 E Montauk hwy\, Lindenhurst\, NY\, 11757\, US
END:VEVENT
BEGIN:VEVENT
DTSTART;TZID=America/New_York:20260123T180000
DTEND;TZID=America/New_York:20260123T210000
DTSTAMP:20260419T165405
CREATED:20260115T184627Z
LAST-MODIFIED:20260115T184627Z
UID:10007480-1769191200-1769202000@ilovebabylon.com
SUMMARY:Toast To The Coast
DESCRIPTION:Excited to be showing my work this month at the Christensen Gallery alongside Sean Strafford. Hope to see you at the opening reception on January 23rd! Please see details attached.
URL:https://ilovebabylon.com/event/toast-to-the-coast/
LOCATION:The Christensen Gallery\, The Christensen Gallery
END:VEVENT
BEGIN:VEVENT
DTSTART;TZID=America/New_York:20260123T180000
DTEND;TZID=America/New_York:20260123T210000
DTSTAMP:20260419T165405
CREATED:20251231T103435Z
LAST-MODIFIED:20260115T184620Z
UID:10007384-1769191200-1769202000@ilovebabylon.com
SUMMARY:BELFAST GASTROPUB
DESCRIPTION:Live music at Lindenhurst’s Emerald Jem!
URL:https://ilovebabylon.com/event/belfast-gastropub-3/
LOCATION:Belfast Gastropub\, 101 North Wellwood Avenue\, Lindenhurst\, NY\, 11757\, US
END:VEVENT
END:VCALENDAR