BEGIN:VCALENDAR
VERSION:2.0
PRODID:-//I Love Babylon, NY - ECPv6.15.20//NONSGML v1.0//EN
CALSCALE:GREGORIAN
METHOD:PUBLISH
X-ORIGINAL-URL:https://ilovebabylon.com
X-WR-CALDESC:Events for I Love Babylon, NY
REFRESH-INTERVAL;VALUE=DURATION:PT1H
X-Robots-Tag:noindex
X-PUBLISHED-TTL:PT1H
BEGIN:VTIMEZONE
TZID:America/New_York
BEGIN:DAYLIGHT
TZOFFSETFROM:-0500
TZOFFSETTO:-0400
TZNAME:EDT
DTSTART:20250309T070000
END:DAYLIGHT
BEGIN:STANDARD
TZOFFSETFROM:-0400
TZOFFSETTO:-0500
TZNAME:EST
DTSTART:20251102T060000
END:STANDARD
BEGIN:DAYLIGHT
TZOFFSETFROM:-0500
TZOFFSETTO:-0400
TZNAME:EDT
DTSTART:20260308T070000
END:DAYLIGHT
BEGIN:STANDARD
TZOFFSETFROM:-0400
TZOFFSETTO:-0500
TZNAME:EST
DTSTART:20261101T060000
END:STANDARD
BEGIN:DAYLIGHT
TZOFFSETFROM:-0500
TZOFFSETTO:-0400
TZNAME:EDT
DTSTART:20270314T070000
END:DAYLIGHT
BEGIN:STANDARD
TZOFFSETFROM:-0400
TZOFFSETTO:-0500
TZNAME:EST
DTSTART:20271107T060000
END:STANDARD
END:VTIMEZONE
BEGIN:VEVENT
DTSTART;TZID=America/New_York:20260212T180000
DTEND;TZID=America/New_York:20260212T210000
DTSTAMP:20260419T165246
CREATED:20260125T214238Z
LAST-MODIFIED:20260212T190009Z
UID:10007564-1770919200-1770930000@ilovebabylon.com
SUMMARY:Mix Mingle & Meet
DESCRIPTION:🌈 Mix\, Mingle & Meet 🌈 \nJoin Babylon Pride for an evening of connection\, conversation\, and community at The Brixton! Whether you’re a longtime supporter\, a new face\, or just looking to meet great people in a welcoming space\, this night is for you. \n✨ What to expect:Come as you are\, grab a drink\, meet new friends\, and connect. \n📍 The Brixton 111 Deer Park Avenue\, BabylonFebruary 12 🕕 6–8 PM \nEveryone who believes in kindness\, inclusion\, and community is welcome. Bring a friend—or come solo and leave with a few new ones. 💖 \nLet’s mix\, mingle\, and make some new connections!
URL:https://ilovebabylon.com/event/mix-mingle-meet/
LOCATION:Online Event\, West Babylon\, NY\, US
END:VEVENT
BEGIN:VEVENT
DTSTART;TZID=America/New_York:20260212T180000
DTEND;TZID=America/New_York:20260215T210000
DTSTAMP:20260419T165246
CREATED:20260212T190023Z
LAST-MODIFIED:20260212T190023Z
UID:10007651-1770919200-1771189200@ilovebabylon.com
SUMMARY:SOPHIA ITALIAN BISTRO
DESCRIPTION:Live music in Amityville!Dinner & Dance
URL:https://ilovebabylon.com/event/sophia-italian-bistro-4/
LOCATION:Sophia Italian Bistro\, 71 Merrick Rd\, Amityville\, NY\, 11701\, US
END:VEVENT
BEGIN:VEVENT
DTSTART;TZID=America/New_York:20260212T183000
DTEND;TZID=America/New_York:20260212T213000
DTSTAMP:20260419T165246
CREATED:20260204T180320Z
LAST-MODIFIED:20260212T190017Z
UID:10007648-1770921000-1770931800@ilovebabylon.com
SUMMARY:$25 Paint Night - Galentine's Gnome
DESCRIPTION:Thursday\, February 12th \n6:30pm – BYOB / Snacks! \nFree Popcorn \n$25 per person/per class – includes all supplies. \nPlease make a reservation online
URL:https://ilovebabylon.com/event/25-paint-night-galentines-gnome/
LOCATION:The Color Palette Lindenhurst\, 51 West Hoffman Ave.\, Lindenhurst\, NY\, 11757\, US
END:VEVENT
BEGIN:VEVENT
DTSTART;TZID=America/New_York:20260212T183000
DTEND;TZID=America/New_York:20260212T213000
DTSTAMP:20260419T165246
CREATED:20260125T214242Z
LAST-MODIFIED:20260302T140118Z
UID:10007565-1770921000-1770931800@ilovebabylon.com
SUMMARY:Valentine's Wine Glass & Craft Workshop at Hurricane Grill & Wings in Lindenhurst
DESCRIPTION:Join us for a fun evening of painting in Lindenhurst at Hurricane Grill & WingsWine Glasses $35: Includes 2 wine glasses to paint (stemmed or stemless). Choose your design & wine glass style. Templates will be provided! \nWood Shadowbox with Rope Heart Craft: $35 Includes 12″x12″ Wood Panel\, Rope\, Vinyl Text\, Flowers (Choice of colors) or Seashells. \nRound Door Hanger Signs: $33-$38: 10″ & 12′ Lightweight Round Signs.  \nREGISTER EACH PERSON SEPRATELY \nPlease note this is a restaurant\, a food/beverage purchase is required for this event.We will be crafting first then dining.To dine before the craft please arrive early.No refunds will be given\, if you cannot attend your supplies will be packaged as a To Go kit.
URL:https://ilovebabylon.com/event/valentines-wine-glass-craft-workshop-at-hurricane-grill-wings-in-lindenhurst/
LOCATION:Hurricane Grill & Wings\, 127 East Montauk Highway\, Lindenhurst\, NY\, 11757\, US
CATEGORIES:Arts and Crafts
END:VEVENT
BEGIN:VEVENT
DTSTART;TZID=America/New_York:20260212T183000
DTEND;TZID=America/New_York:20260212T213000
DTSTAMP:20260419T165246
CREATED:20260125T214245Z
LAST-MODIFIED:20260212T190016Z
UID:10007566-1770921000-1770931800@ilovebabylon.com
SUMMARY:Harvest - Neil Young Tribute at The Warehouse
DESCRIPTION:Harvest – Neil Young Tribute at The Warehouse \nThursday February 12\, 2026 \nHarvest – Dave Diamond and Friends present the Music of Neil Young in all its ragged glory \nTickets available at: www.thewarehouseli.com/calendar \nWalk-ins welcome \nDoors 6:30pm
URL:https://ilovebabylon.com/event/harvest-neil-young-tribute-at-the-warehouse/
LOCATION:The Warehouse Live Music & Events\, The Warehouse Live Music & Events
END:VEVENT
BEGIN:VEVENT
DTSTART;TZID=America/New_York:20260212T190000
DTEND;TZID=America/New_York:20260212T220000
DTSTAMP:20260419T165246
CREATED:20260125T214247Z
LAST-MODIFIED:20260212T190021Z
UID:10007567-1770922800-1770933600@ilovebabylon.com
SUMMARY:Harvest returns to The Warehouse 2 Sets of Neil Young
DESCRIPTION:Dave BergDrew Bertrand Dave Diamond Kevin GriffinMike Katzman
URL:https://ilovebabylon.com/event/harvest-returns-to-the-warehouse-2-sets-of-neil-young/
LOCATION:The Warehouse Live Music & Events\, The Warehouse Live Music & Events
END:VEVENT
BEGIN:VEVENT
DTSTART;TZID=America/New_York:20260212T193000
DTEND;TZID=America/New_York:20260212T223000
DTSTAMP:20260419T165246
CREATED:20260204T180327Z
LAST-MODIFIED:20260212T190029Z
UID:10007649-1770924600-1770935400@ilovebabylon.com
SUMMARY:Thursday February 12 at 7:30pm\, THE VALENTINE MURDERS\, a comedy murder mystery dinner show
DESCRIPTION:Thursday February 12 at 7:30pm\, THE VALENTINE MURDERS\, a comedy murder mystery dinner show at PALMER’S AMERICAN GRILLE\, 123 Fulton St\, Farmingdale\, NY ($65 pp*) (516) 420-0609
URL:https://ilovebabylon.com/event/thursday-february-12-at-730pm-the-valentine-murders-a-comedy-murder-mystery-dinner-show/
LOCATION:Palmer’s American Grille\, Palmer's American Grille
END:VEVENT
BEGIN:VEVENT
DTSTART;TZID=America/New_York:20260213T090000
DTEND;TZID=America/New_York:20260213T170000
DTSTAMP:20260419T165246
CREATED:20260125T214252Z
LAST-MODIFIED:20260212T190033Z
UID:10007568-1770973200-1771002000@ilovebabylon.com
SUMMARY:FRIDAY THE 13TH BROW EVENT
DESCRIPTION:🖤 FRIDAY THE 13TH BROWS ARE BACK 🖤Unlucky for stray hairs. Lucky for you. \nIt’s the brow event everyone waits for—and it’s back for one day only. Join us at Little Lash & Brow Boutique for our iconic Friday the 13th Brow Specials\, where bad luck meets perfectly sculpted brows. \n📅 Friday\, February 13\, 2026⏰ 9:00 AM – 5:00 PM \n✨ One-Day-Only Brow Deals:• $13 Brow Maintenance• $31 Brow Shape & Stain• $3 Nose or Lip Wax \nNo tricks. No fluff. Just killer brow deals that never last long. This event fills fast every single time. WALK-INS ONLY.
URL:https://ilovebabylon.com/event/friday-the-13th-brow-event/
LOCATION:31 Deer Park Ave\, Babylon\, NY\, United States\, New York 11702\, 31 Deer Park Ave\, Babylon\, NY\, United States\, New York 11702
END:VEVENT
BEGIN:VEVENT
DTSTART;TZID=America/New_York:20260213T100000
DTEND;TZID=America/New_York:20260215T150000
DTSTAMP:20260419T165246
CREATED:20260212T190034Z
LAST-MODIFIED:20260212T190034Z
UID:10007653-1770976800-1771167600@ilovebabylon.com
SUMMARY:Valentine’s Day weekend special!
DESCRIPTION:Valentine’s Day Weekend Special! Friday 2/14 through Sunday 2/15.Any member can bring a partner or friend to train with for FREE! Non-members\, 2 for $25!  \n••• \nCall or email us with any questions!�(631) 295-7263� longislandfight@gmail.com�www.longislandfightclub.com \n•••• \n#longislandfightclub #thaiboxing #bjj #kickboxing #boxing strengthandconditioning fitness longisland lifightclub martialarts muaythai workout gym
URL:https://ilovebabylon.com/event/valentines-day-weekend-special/
LOCATION:287 skidmore’s road\, Deer Park\, NY\, 287 skidmore’s road\, Deer Park\, NY
END:VEVENT
BEGIN:VEVENT
DTSTART;TZID=America/New_York:20260213T150000
DTEND;TZID=America/New_York:20260213T180000
DTSTAMP:20260419T165246
CREATED:20260204T180336Z
LAST-MODIFIED:20260212T190040Z
UID:10007650-1770994800-1771005600@ilovebabylon.com
SUMMARY:GALENTINES
DESCRIPTION:live music great wines & cocktails. All the ladies receive a complimentary rose
URL:https://ilovebabylon.com/event/galentines/
LOCATION:143 N Wellwood Avenue\, Lindenhurst\, NY\, 143 N Wellwood Avenue\, Lindenhurst\, NY
END:VEVENT
BEGIN:VEVENT
DTSTART;TZID=America/New_York:20260213T150000
DTEND;TZID=America/New_York:20260217T020000
DTSTAMP:20260419T165246
CREATED:20260212T190043Z
LAST-MODIFIED:20260212T190043Z
UID:10007654-1770994800-1771293600@ilovebabylon.com
SUMMARY:Farmingdale Floor Sample BLOWOUT | Friday thru Monday!
DESCRIPTION:💥 FLOOR SAMPLE SALE 💥 \nSomething fresh\, luxurious and exciting is coming this spring – and we need to CLEAR THE FLOOR! \n✅ Up to 60% off over 100 floor sample pieces🔥 Full-room deals up to 50% off💥 Accessories up to 75% off💳 24 months interest-free financing (minimum purchase may be required) \nLimited selection\, first come first served. Shop Farmingdale | 2/13-2/16.
URL:https://ilovebabylon.com/event/farmingdale-floor-sample-blowout-friday-thru-monday/
LOCATION:1648 Broadhollow Rd\, Farmingdale\, NY 11735\, 1648 Broadhollow Rd\, Farmingdale\, NY 11735
END:VEVENT
BEGIN:VEVENT
DTSTART;TZID=America/New_York:20260213T180000
DTEND;TZID=America/New_York:20260213T203000
DTSTAMP:20260419T165246
CREATED:20260212T190056Z
LAST-MODIFIED:20260212T190056Z
UID:10007656-1771005600-1771014600@ilovebabylon.com
SUMMARY:KNO - Valentine's Fuggler Bash!
DESCRIPTION:$35 per child includes: \nCreate your own FUGGLER Painting\, Slime\, Foam Smash\, \nGlow Snowball Fight\, Snacks\, Ice Cream & Hot Cocoa Bar! \nDATE NIGHT FOR PARENTS \nPlus parents get 10% off for their night out too! \nThis is a drop off event. Must have a reservation.
URL:https://ilovebabylon.com/event/kno-valentines-fuggler-bash/
LOCATION:The Color Palette Lindenhurst\, 51 West Hoffman Ave.\, Lindenhurst\, NY\, 11757\, US
END:VEVENT
BEGIN:VEVENT
DTSTART;TZID=America/New_York:20260213T180000
DTEND;TZID=America/New_York:20260213T210000
DTSTAMP:20260419T165246
CREATED:20260125T214257Z
LAST-MODIFIED:20260212T190045Z
UID:10007569-1771005600-1771016400@ilovebabylon.com
SUMMARY:BELFAST GASTROPUB
DESCRIPTION:Live music at Lindenhurst’s Emerald Jem!
URL:https://ilovebabylon.com/event/belfast-gastropub-7/
LOCATION:Belfast Gastropub\, 101 North Wellwood Avenue\, Lindenhurst\, NY\, 11757\, US
END:VEVENT
BEGIN:VEVENT
DTSTART;TZID=America/New_York:20260213T180000
DTEND;TZID=America/New_York:20260213T210000
DTSTAMP:20260419T165246
CREATED:20260125T214301Z
LAST-MODIFIED:20260212T190053Z
UID:10007571-1771005600-1771016400@ilovebabylon.com
SUMMARY:Pizza & Paint Night Experience
DESCRIPTION:Paint. Sip. Slice. ���  \nValentine’s plans? We’ve got you. \nFebruary 13th • 6PM� Juventus PizzeriaPaint night hosted by Artist Zukie � \nPizza\, champagne\, laughs\, and a cute little canvas moment.Bring your date\, your bestie\, or come solo — everyone’s welcome � \n� Spots are limited — link below: \nhttps://partiful.com/e/1wllrc6kqEzd8DWZgxke?source=share&c=B4XFTAKN
URL:https://ilovebabylon.com/event/pizza-paint-night-experience/
LOCATION:786 Grand Blvd Suite J\, Deer Park\, NY\, 786 Grand Blvd Suite J\, Deer Park\, NY
END:VEVENT
BEGIN:VEVENT
DTSTART;TZID=America/New_York:20260213T180000
DTEND;TZID=America/New_York:20260213T210000
DTSTAMP:20260419T165246
CREATED:20260212T190049Z
LAST-MODIFIED:20260212T190049Z
UID:10007655-1771005600-1771016400@ilovebabylon.com
SUMMARY:Galentine's Day Dinner Party
DESCRIPTION:💋 Galentine’s Day Dinner Party at 317 Main Street 💋 \nFriday\, February 13th \n🚪 Doors Open at 6:00 PM | 🎧 DJ RWL starts at 8:00 PM \nJoin us for dinner between 6:00 PM – 8:00 PM and enjoy music starting at 8:00 PM by DJ RWL! \nGrab your girls and get ready for the ultimate night out! Celebrate friendship\, fabulous food\, and feel-good vibes at our Galentine’s Day Dinner Party at 317 Main Street in Farmingdale. \nYour $45 ticket includes a 3-course prix fixe dinner plus your choice of an Espresso Martini or a glass of wine\, all while dancing the night away with DJ RWL spinning live at 8PM. \n✨ Dinner Includes : \nAppetizer (Choice Of) \n• Caesar Salad \n• Buffalo Chicken Dip \n• Calamari \nEntrée (Choice Of) \n• Basil Shrimp \n• Chicken Paillard \n• Tortelloni \nDessert (Choice Of) \n• Cheesecake \n• Nutella Tiramisu \n🍸 $45 per person – all inclusive \n🔞 21+ Event \nWhether it’s your besties\, coworkers\, or your whole girl gang\, this is your excuse to dress up\, sip cocktails\, and celebrate Galentine’s in style.
URL:https://ilovebabylon.com/event/galentines-day-dinner-party-2/
LOCATION:317 Main Street\, Farmingdale\, NY\, United States\, New York 11735\, 317 Main Street\, Farmingdale\, NY\, United States\, New York 11735
END:VEVENT
BEGIN:VEVENT
DTSTART;TZID=America/New_York:20260213T180000
DTEND;TZID=America/New_York:20260213T210000
DTSTAMP:20260419T165246
CREATED:20260212T190058Z
LAST-MODIFIED:20260212T190058Z
UID:10007657-1771005600-1771016400@ilovebabylon.com
SUMMARY:EFO @ Amityville Music Hall 2.13.26
DESCRIPTION:officially debuting our next original track… \nWe’re premiering it LIVE at Amityville Music Hall on📅 Friday\, February 13th ⏰ 6:30PM \nAnd to make this extra special…🖤 T-SHIRT + FREE SHOW TICKET PROMO 🖤We need to guarantee tickets ahead of time\, so here’s the deal: \n✨ Buy an Emotional Fall Out t-shirt🎟️ Get your ticket to the show FREE \nSupport the band\, rep the merch\, and be there for the first-ever performance of our newest original song.This one’s for the hopeless romantics and the heartbroken emos alike 💘🔥 \n#EmotionalFallOut #OriginalMusic #AmityvilleMusicHall #LongIslandMusic #EmoValentines #ParamoreInspired #NewSongDebut \n📩 DM Natali Lynn to order \nThank you for supporting EFO… every shirt helps us keep doing what we love 🫶
URL:https://ilovebabylon.com/event/efo-amityville-music-hall-2-13-26/
LOCATION:Amityville Music Hall\, 198 Broadway\, Amityville\, NY\, US
END:VEVENT
BEGIN:VEVENT
DTSTART;TZID=America/New_York:20260213T180000
DTEND;TZID=America/New_York:20260213T210000
DTSTAMP:20260419T165246
CREATED:20260212T190100Z
LAST-MODIFIED:20260212T190100Z
UID:10007658-1771005600-1771016400@ilovebabylon.com
SUMMARY:Live Music with Joe Pianos
DESCRIPTION:Performing live at Belfast this evening: The incredible one-man-band Joe Pianos from 6-9!  \nFollowing his show\, DJ Deano takes the stage at 9PM and isn’t stopping til 2AM!  \nThere’s no better place to be than Belfast this Valentine’s Weekend.
URL:https://ilovebabylon.com/event/live-music-with-joe-pianos-3/
LOCATION:101 North Wellwood Avenue\, Lindenhurst\, NY\, United States\, New York 11757\, 101 North Wellwood Avenue\, Lindenhurst\, NY\, United States\, New York 11757
END:VEVENT
BEGIN:VEVENT
DTSTART;TZID=America/New_York:20260213T180000
DTEND;TZID=America/New_York:20260213T220000
DTSTAMP:20260419T165246
CREATED:20260125T214259Z
LAST-MODIFIED:20260212T190047Z
UID:10007570-1771005600-1771020000@ilovebabylon.com
SUMMARY:Galentine’s Singo 🩷 🎤  🎶
DESCRIPTION:Christ Episcopal ChurchBabylon\, NYCome join us for a Fantastically Fun Night of SINGO!Live DJ\, delicious food\, great prizes\, generous raffle baskets\, and tons of fun!Friday\, February 13th – doors open at 6pm
URL:https://ilovebabylon.com/event/galentines-singo-%f0%9f%a9%b7-%f0%9f%8e%a4-%f0%9f%8e%b6/
LOCATION:12 Prospect St\, Babylon\, NY\, United States\, New York 11702\, 12 Prospect St\, Babylon\, NY\, United States\, New York 11702
END:VEVENT
BEGIN:VEVENT
DTSTART;TZID=America/New_York:20260213T190000
DTEND;TZID=America/New_York:20260213T203000
DTSTAMP:20260419T165246
CREATED:20260125T214308Z
LAST-MODIFIED:20260212T190102Z
UID:10007572-1771009200-1771014600@ilovebabylon.com
SUMMARY:Galentine’s Sip and Flow
DESCRIPTION:Grab your gals and join us for a fun\, feel-good evening of movement\, sipping\, and sweet treats. Flow it out\, clink some glasses\, and celebrate friendship 💕✨
URL:https://ilovebabylon.com/event/galentines-sip-and-flow/
LOCATION:The Nesting Place\, 2043 Wellwood Avenue Suite One\, Farmingdale\, NY\, 11735\, US
END:VEVENT
BEGIN:VEVENT
DTSTART;TZID=America/New_York:20260213T190000
DTEND;TZID=America/New_York:20260213T220000
DTSTAMP:20260419T165246
CREATED:20260212T190113Z
LAST-MODIFIED:20260212T190113Z
UID:10007659-1771009200-1771020000@ilovebabylon.com
SUMMARY:Byrne Unit at The Nutty Irishman
DESCRIPTION:Join The Nutty Irishman on Friday\, February 13th at 7:00 PM for Byrne Unit. $10 Cover at the Door.
URL:https://ilovebabylon.com/event/byrne-unit-at-the-nutty-irishman/
LOCATION:323 Main St\, Farmingdale\, NY\, United States\, New York 11735\, 323 Main St\, Farmingdale\, NY\, United States\, New York 11735
END:VEVENT
BEGIN:VEVENT
DTSTART;TZID=America/New_York:20260213T190000
DTEND;TZID=America/New_York:20260213T220000
DTSTAMP:20260419T165246
CREATED:20260212T190115Z
LAST-MODIFIED:20260212T190115Z
UID:10007660-1771009200-1771020000@ilovebabylon.com
SUMMARY:Ryder – Live From the Dark Release Show (West Babylon\, NY)
DESCRIPTION:Ryder is celebrating the release of Live From the Dark with a live show at TC’s Whiskey Rocks in West Babylon\, NY. \nJoining the night is Oswald’s Revenge.This show is about the songs as they’re meant to be heard. Loud\, live\, and in the same room. \nIf you’ve been part of this band’s story\, this night is for you. \nDoors: 7:00 PMAdmission: $10
URL:https://ilovebabylon.com/event/ryder-live-from-the-dark-release-show-west-babylon-ny/
LOCATION:419 Great East Neck Rd\, West Babylon\, NY 11704\, 419 Great East Neck Rd\, West Babylon\, NY 11704
END:VEVENT
BEGIN:VEVENT
DTSTART;TZID=America/New_York:20260213T190000
DTEND;TZID=America/New_York:20260213T220000
DTSTAMP:20260419T165246
CREATED:20260212T190117Z
LAST-MODIFIED:20260212T190117Z
UID:10007661-1771009200-1771020000@ilovebabylon.com
SUMMARY:Martyr's Crown
DESCRIPTION:Be part of the congregation Friday\, February 13th at TC’s Whiskey Rocks as Martyr’s Crown joins Supernaut\, Oswald’s Revenge and Ryder. Doors open at 7pm… show starts at 7:30pm. Come on down and make sure you say hi to the band. 🤘
URL:https://ilovebabylon.com/event/martyrs-crown/
LOCATION:West Babylon\, Long Island\, West Babylon\, Long Island
END:VEVENT
BEGIN:VEVENT
DTSTART;TZID=America/New_York:20260213T190000
DTEND;TZID=America/New_York:20260213T220000
DTSTAMP:20260419T165246
CREATED:20260125T214310Z
LAST-MODIFIED:20260212T190106Z
UID:10007573-1771009200-1771020000@ilovebabylon.com
SUMMARY:Love is in the Air with In The Groove at The Warehouse in Amityville
DESCRIPTION:Love is in the Air on Friday\, February 13 at The Warehouse\, so break out those Boogie Shoes and Come on Down and Groove!!!! Advance Tickets Available for Pre-purchase at thewarehouseli.com/calendar
URL:https://ilovebabylon.com/event/love-is-in-the-air-with-in-the-groove-at-the-warehouse-in-amityville/
LOCATION:The Warehouse Live Music & Events\, The Warehouse Live Music & Events
END:VEVENT
BEGIN:VEVENT
DTSTART;TZID=America/New_York:20260213T190000
DTEND;TZID=America/New_York:20260213T220000
DTSTAMP:20260419T165246
CREATED:20260125T214312Z
LAST-MODIFIED:20260212T190110Z
UID:10007574-1771009200-1771020000@ilovebabylon.com
SUMMARY:The Band EASY STREET at Goccia D'oro II
DESCRIPTION:Save the Date! February 13thGreat Food and Drink and The Band EASY STREETat Goccia D’oro II in Lindenhurst. Join the Fun
URL:https://ilovebabylon.com/event/the-band-easy-street-at-goccia-doro-ii/
LOCATION:Goccia D’oro II\, 485 West Montauk Highway\, Lindenhurst\, NY\, 11757\, US
END:VEVENT
BEGIN:VEVENT
DTSTART;TZID=America/New_York:20260213T193000
DTEND;TZID=America/New_York:20260213T233000
DTSTAMP:20260419T165246
CREATED:20260212T190122Z
LAST-MODIFIED:20260212T190122Z
UID:10007662-1771011000-1771025400@ilovebabylon.com
SUMMARY:Paumanok Stompers residency at Charlotte’s Speakasy
DESCRIPTION:If you’ve never seen the Paumanok Stompers Traditional Jazz Band at Charlotte’s\, have you really even seen them? Check out Long Island’s only traditional jazz band at Long Island’s only true speakeasy!
URL:https://ilovebabylon.com/event/paumanok-stompers-residency-at-charlottes-speakasy/
LOCATION:Charlotte’s Speakeasy\, Charlotte's Speakeasy
END:VEVENT
BEGIN:VEVENT
DTSTART;TZID=America/New_York:20260213T210000
DTEND;TZID=America/New_York:20260213T235900
DTSTAMP:20260419T165246
CREATED:20260212T190126Z
LAST-MODIFIED:20260212T190126Z
UID:10007663-1771016400-1771027140@ilovebabylon.com
SUMMARY:That Diva Band live at The Coop Farmingdale
DESCRIPTION:Sing and dance with us on a Friday night before Valentine’s Day in Farmingdale at The Coop.
URL:https://ilovebabylon.com/event/that-diva-band-live-at-the-coop-farmingdale/
LOCATION:The Coop Farmingdale\, The Coop Farmingdale
END:VEVENT
BEGIN:VEVENT
DTSTART;TZID=America/New_York:20260213T210000
DTEND;TZID=America/New_York:20260214T020000
DTSTAMP:20260419T165246
CREATED:20260212T190132Z
LAST-MODIFIED:20260212T190132Z
UID:10007664-1771016400-1771034400@ilovebabylon.com
SUMMARY:Music with DJ Deano
DESCRIPTION:Performing live at Belfast this evening: The incredible one-man-band Joe Pianos from 6-9!  \nFollowing his show\, DJ Deano takes the stage at 9PM and isn’t stopping til 2AM!  \nThere’s no better place to be than Belfast this Valentine’s Weekend.
URL:https://ilovebabylon.com/event/music-with-dj-deano/
LOCATION:101 North Wellwood Avenue\, Lindenhurst\, NY\, United States\, New York 11757\, 101 North Wellwood Avenue\, Lindenhurst\, NY\, United States\, New York 11757
END:VEVENT
BEGIN:VEVENT
DTSTART;TZID=America/New_York:20260213T220000
DTEND;TZID=America/New_York:20260214T010000
DTSTAMP:20260419T165246
CREATED:20260212T190134Z
LAST-MODIFIED:20260212T190134Z
UID:10007665-1771020000-1771030800@ilovebabylon.com
SUMMARY:Gacht Rock at The Warehouse
DESCRIPTION:February 13th. The Warehouse Live Music & Events . Will you be there?!!🎸🎶
URL:https://ilovebabylon.com/event/gacht-rock-at-the-warehouse/
LOCATION:The Warehouse Live Music & Events\, The Warehouse Live Music & Events
END:VEVENT
BEGIN:VEVENT
DTSTART;TZID=America/New_York:20260213T233000
DTEND;TZID=America/New_York:20260214T023000
DTSTAMP:20260419T165246
CREATED:20260212T190137Z
LAST-MODIFIED:20260212T190137Z
UID:10007666-1771025400-1771036200@ilovebabylon.com
SUMMARY:Lovers & Friends Official After Party
DESCRIPTION:Skate first. After party second. Free RSVP! \nMusic by DJ Showtime
URL:https://ilovebabylon.com/event/lovers-friends-official-after-party/
LOCATION:Online Event\, West Babylon\, NY\, US
END:VEVENT
BEGIN:VEVENT
DTSTART;TZID=America/New_York:20260214T100000
DTEND;TZID=America/New_York:20260214T111500
DTSTAMP:20260419T165246
CREATED:20260212T190139Z
LAST-MODIFIED:20260212T190139Z
UID:10007667-1771063200-1771067700@ilovebabylon.com
SUMMARY:Valentine's Paint Day - Pair Painting
DESCRIPTION:February 14th – 10am-11:15am$25 for single canvas (1 painter)or $40 for a double canvas (2 painters)Treats & Drinks will be served
URL:https://ilovebabylon.com/event/valentines-paint-day-pair-painting/
LOCATION:The Color Palette Lindenhurst\, 51 West Hoffman Ave.\, Lindenhurst\, NY\, 11757\, US
END:VEVENT
END:VCALENDAR