BEGIN:VCALENDAR
VERSION:2.0
PRODID:-//I Love Babylon, NY - ECPv6.15.20//NONSGML v1.0//EN
CALSCALE:GREGORIAN
METHOD:PUBLISH
X-WR-CALNAME:I Love Babylon, NY
X-ORIGINAL-URL:https://ilovebabylon.com
X-WR-CALDESC:Events for I Love Babylon, NY
REFRESH-INTERVAL;VALUE=DURATION:PT1H
X-Robots-Tag:noindex
X-PUBLISHED-TTL:PT1H
BEGIN:VTIMEZONE
TZID:America/New_York
BEGIN:DAYLIGHT
TZOFFSETFROM:-0500
TZOFFSETTO:-0400
TZNAME:EDT
DTSTART:20250309T070000
END:DAYLIGHT
BEGIN:STANDARD
TZOFFSETFROM:-0400
TZOFFSETTO:-0500
TZNAME:EST
DTSTART:20251102T060000
END:STANDARD
BEGIN:DAYLIGHT
TZOFFSETFROM:-0500
TZOFFSETTO:-0400
TZNAME:EDT
DTSTART:20260308T070000
END:DAYLIGHT
BEGIN:STANDARD
TZOFFSETFROM:-0400
TZOFFSETTO:-0500
TZNAME:EST
DTSTART:20261101T060000
END:STANDARD
BEGIN:DAYLIGHT
TZOFFSETFROM:-0500
TZOFFSETTO:-0400
TZNAME:EDT
DTSTART:20270314T070000
END:DAYLIGHT
BEGIN:STANDARD
TZOFFSETFROM:-0400
TZOFFSETTO:-0500
TZNAME:EST
DTSTART:20271107T060000
END:STANDARD
END:VTIMEZONE
BEGIN:VEVENT
DTSTART;TZID=America/New_York:20260214T110000
DTEND;TZID=America/New_York:20260214T140000
DTSTAMP:20260419T192745
CREATED:20260212T190141Z
LAST-MODIFIED:20260212T190141Z
UID:10007668-1771066800-1771077600@ilovebabylon.com
SUMMARY:FREE – Farmingdale\, NY | Galentine’s Day Shopping Party at Back In Time Decor
DESCRIPTION:FREE – Farmingdale\, NY Galentine’s Day Shopping Party at Back In Time Decor ✨ \nDinner can wait… Galentine’s comes first 💕 \nGrab your besties and join us Saturday\, February 14th from 11AM–3PM for a FREE Galentine’s celebration filled with shopping\, champagne\, and sweet treats before your Valentine’s plans begin 🌹No tickets needed\, just come and enjoy! \nWhat to expect:🛍 Shop the latest finds from @backintimedecor.ny☕ Coffee & sweets from @elises.nieces.cafe🥂 A complimentary glass of champagne💎 Charm bar & clothing from @shopsimplysageboutique🍫 Boxes of chocolates available for purchase🎟 Raffle entry with every purchase! \nWhether you’re shopping for yourself or with friends\, this is the perfect way to kick off Valentine’s weekend 💝 \n📍 Back In Time Decor441 Main Street\, Farmingdale\, NY 11735📞 516-586-8443 \nTag your besties and make it a Galentine’s date 💕💝 \n#galentinesparty #galentinesshopping #girlsdayout #farmingdaleny #nassaucountyny #longisland #longislandny #longislandlife #longislandfriends #shoppingparty #valentinesweekend
URL:https://ilovebabylon.com/event/free-farmingdale-ny-galentines-day-shopping-party-at-back-in-time-decor/
LOCATION:441 Main Street\, Farmingdale\, NY\, United States\, New York 11735\, 441 Main Street\, Farmingdale\, NY\, United States\, New York 11735
END:VEVENT
BEGIN:VEVENT
DTSTART;TZID=America/New_York:20260214T110000
DTEND;TZID=America/New_York:20260214T140000
DTSTAMP:20260419T192745
CREATED:20260212T190147Z
LAST-MODIFIED:20260302T140120Z
UID:10007669-1771066800-1771077600@ilovebabylon.com
SUMMARY:Valentine's Day Soiree
DESCRIPTION:Celebrate love\, friendship\, and fun at our Valentine’s Day Soiree. Snap fun and festive photos using our green screen\, get crafty with a sweet Valentine’s Day project\, and enjoy a cozy cup of tea with a sweet treat. Plus\, everyone who joins the fun will be entered into an awesome raffle! Whether you come for the crafts\, the snacks\, or the smiles\, there’s something for everyone to love.
URL:https://ilovebabylon.com/event/valentines-day-soiree/
LOCATION:50 Deauville Blvd\, Copiague\, NY\, United States\, New York 11726\, 50 Deauville Blvd\, Copiague\, NY\, United States\, New York 11726
CATEGORIES:Arts and Crafts
END:VEVENT
BEGIN:VEVENT
DTSTART;TZID=America/New_York:20260214T113000
DTEND;TZID=America/New_York:20260215T160000
DTSTAMP:20260419T192745
CREATED:20260212T190149Z
LAST-MODIFIED:20260212T190149Z
UID:10007670-1771068600-1771171200@ilovebabylon.com
SUMMARY:Dog Adoption Event
DESCRIPTION:❣️Find Your Paw-fect Match Adoption Weekend❣️Looking for love this Valentine’s season? Meet your paw-fect match!🐾💌Join us for a fun\, casual “speed dating” style adoption event where you can meet multiple adoptable dogs from several local shelters all in one place — plus enjoy wine tasting and shop special guest vendor\, Pawty Time LLC🍷Come mingle\, meet the pups\, talk with rescue volunteers\, and see who steals your heart. Whether you’re ready to adopt\, foster\, or just want to support\, it’s the perfect Valentine’s weekend outing!♥️Your paw-fect match might be waiting for you!👀🐶 Featuring adoptable dogs from 3–4 local rescues & shelters✨ Vendor spotlight: @Paw-Ty Time LLC📍 @Village VinesEvent Schedule:Saturday:• 11:30 AM – 2:00 PM• 2:00 PM – 4:00 PMSunday:• 11:30 AM – 2:00 PM• 2:00 PM – 4:00 PMStay tuned to see who our special matches are!🐾We’ll be introducing the adoptable pups attending the event soon… and trust us\, you’re going to fall in love!♥️
URL:https://ilovebabylon.com/event/dog-adoption-event/
LOCATION:Village Vines\, Village Vines
END:VEVENT
BEGIN:VEVENT
DTSTART;TZID=America/New_York:20260214T120000
DTEND;TZID=America/New_York:20260214T150000
DTSTAMP:20260419T192745
CREATED:20260125T214314Z
LAST-MODIFIED:20260212T190151Z
UID:10007575-1771070400-1771081200@ilovebabylon.com
SUMMARY:Galentine's Boozy Bingo Brunch
DESCRIPTION:
URL:https://ilovebabylon.com/event/galentines-boozy-bingo-brunch/
LOCATION:345 Deer Park Ave\, Babylon\, NY\, United States\, New York 11702\, 345 Deer Park Ave\, Babylon\, NY\, United States\, New York 11702
END:VEVENT
BEGIN:VEVENT
DTSTART;TZID=America/New_York:20260214T130000
DTEND;TZID=America/New_York:20260214T140000
DTSTAMP:20260419T192745
CREATED:20260125T214316Z
LAST-MODIFIED:20260212T190155Z
UID:10007576-1771074000-1771077600@ilovebabylon.com
SUMMARY:Valentine's Day Puppy Yoga
DESCRIPTION:Valentine’s Day Puppy Yoga is a fun\, lighthearted yoga class filled with gentle movement\, laughter\, and plenty of puppy cuddles. Expect simple poses\, spontaneous puppy moments\, and lots of smiles\, with no yoga experience needed. Every registration supports Pawsitive Possibilities Rescue and helps save puppies in need of a second chance. Come move\, laugh\, and celebrate Valentine’s Day in the happiest way possible. \nAdmission: $40 Per Person
URL:https://ilovebabylon.com/event/valentines-day-puppy-yoga/
LOCATION:180 Great East Neck Rd\, West Babylon\, NY\, United States\, New York 11704\, 180 Great East Neck Rd\, West Babylon\, NY\, United States\, New York 11704
END:VEVENT
BEGIN:VEVENT
DTSTART;TZID=America/New_York:20260214T130000
DTEND;TZID=America/New_York:20260214T160000
DTSTAMP:20260419T192745
CREATED:20260212T190158Z
LAST-MODIFIED:20260212T190158Z
UID:10007671-1771074000-1771084800@ilovebabylon.com
SUMMARY:Magic The Gathering Lorwyn Eclipsed Store Championship
DESCRIPTION:Lorwyn Eclipsed Store Championship Event! \nSaturday February 14th 2026 \nRound 1 will begin Promptly at 1:00PM \nPre-Registration Encouraged! \nFormat is Standard Constructed Swiss with a Top 8 Cut• Entry Fee: $20.00• 8 Player minimum \nFull Store Credit Prize Pool\, plus the Store Championship promos. \nFor More Information regarding this event\, please contact our email address at Events@RipNShipArena.com or visit our website www.ripnshipsingles.com
URL:https://ilovebabylon.com/event/magic-the-gathering-lorwyn-eclipsed-store-championship/
LOCATION:1883-B Deer Park Avenue\, Deer Park\, NY\, United States\, New York 11729\, 1883-B Deer Park Avenue\, Deer Park\, NY\, United States\, New York 11729
END:VEVENT
BEGIN:VEVENT
DTSTART;TZID=America/New_York:20260214T130000
DTEND;TZID=America/New_York:20260214T190000
DTSTAMP:20260419T192745
CREATED:20260212T190200Z
LAST-MODIFIED:20260212T190200Z
UID:10007672-1771074000-1771095600@ilovebabylon.com
SUMMARY:Cousins Maine Lobster 🦞at Necromantic Brew Co
DESCRIPTION:🦞🌟Get ready for an amazing event with our food truck\, serving up the freshest Maine lobster delights directly to you🦞 \n📆 Save the Date:🗓Saturday\, February 14⏰1:00 – 7:00pm📍253 Main St\, Farmingdale\, NY 11735 \n📲 Spread the word and lock in the date for an indulgent lobster feast! 📱 For a seamless experience\, grab our Cousins Maine Lobster mobile app. Simply set your location to New York NY\, and let the lobster love commence at 1:00 PM! 🦞 \n🔄 Collect points with each order and revel in the joy of lobster! For a contactless breeze\, we welcome major Debit & Credit cards\, including contactless payments. Please note\, we’re going cashless at the truck. \nLet the lobster celebration kick off! Can’t wait to see you there for a day filled with delectable delights and unforgettable lobster memories! 🚚🦞
URL:https://ilovebabylon.com/event/cousins-maine-lobster-%f0%9f%a6%9eat-necromantic-brew-co/
LOCATION:253 Main St\, Farmingdale\, NY 11735\, 253 Main St\, Farmingdale\, NY 11735
END:VEVENT
BEGIN:VEVENT
DTSTART;TZID=America/New_York:20260214T150000
DTEND;TZID=America/New_York:20260214T160000
DTSTAMP:20260419T192745
CREATED:20260212T190205Z
LAST-MODIFIED:20260212T190205Z
UID:10007673-1771081200-1771084800@ilovebabylon.com
SUMMARY:Valentine's Partner Puppy Yoga
DESCRIPTION:Yoga\, laughter\, and puppies.That is it. That is the vibe. \nValentine’s Partner Puppy Yoga is pure joy. Move your body\, share a few playful partner poses\, laugh when the puppies steal the show\, and soak up all the feel good energy in the room. Any partnership is welcome. Come with a partner\, a friend\, a parent\, a child\, or anyone you want to share a fun and memorable experience with. \nExpect wagging tails\, puppy cuddles\, lots of laughs\, and moments you will want to capture and keep. No pressure. No perfection. Just connection\, movement\, and happiness. \nEvery spot supports Pawsitive Possibilities Rescue and helps save puppies in need of a second chance. \nCome for the yoga. Stay for the laughter. Fall in love with the puppies.  \nAdmission: $99 Per Couple – Chocolate For Everyone and pup cups for the puppies
URL:https://ilovebabylon.com/event/valentines-partner-puppy-yoga/
LOCATION:180 Great East Neck Rd\, West Babylon\, NY\, United States\, New York 11704\, 180 Great East Neck Rd\, West Babylon\, NY\, United States\, New York 11704
END:VEVENT
BEGIN:VEVENT
DTSTART;TZID=America/New_York:20260214T180000
DTEND;TZID=America/New_York:20260214T210000
DTSTAMP:20260419T192745
CREATED:20260212T190207Z
LAST-MODIFIED:20260212T190207Z
UID:10007674-1771092000-1771102800@ilovebabylon.com
SUMMARY:Lady Limelight Duo at LI Yacht Club
DESCRIPTION:All you need is ❤️… and live 🎶 Join us for our Valentine’s Day debut at Long Island Yacht Club❤️2/14 | 6–9 PM
URL:https://ilovebabylon.com/event/lady-limelight-duo-at-li-yacht-club/
LOCATION:Long Island Yacht Club\, 307 Little East Neck Rd S\, Babylon\, NY\, 11702\, US
END:VEVENT
BEGIN:VEVENT
DTSTART;TZID=America/New_York:20260214T180000
DTEND;TZID=America/New_York:20260214T210000
DTSTAMP:20260419T192745
CREATED:20260212T190211Z
LAST-MODIFIED:20260212T190211Z
UID:10007675-1771092000-1771102800@ilovebabylon.com
SUMMARY:Live Music with The Roche Brothers (Valentine's Day)
DESCRIPTION:Happy Valentine’s Day\, Lindenhurst 💘 Join us tonight for a romantic dinner as The Roche Brothers set the mood from 6–9 PM. Then at 9 PM\, DJ Frankie C takes over and turns Valentine’s Day into a full-blown celebration! And remember… the best love stories start at Belfast. 🍷🎶
URL:https://ilovebabylon.com/event/live-music-with-the-roche-brothers-valentines-day/
LOCATION:101 North Wellwood Avenue\, Lindenhurst\, NY\, United States\, New York 11757\, 101 North Wellwood Avenue\, Lindenhurst\, NY\, United States\, New York 11757
END:VEVENT
BEGIN:VEVENT
DTSTART;TZID=America/New_York:20260214T183000
DTEND;TZID=America/New_York:20260214T213000
DTSTAMP:20260419T192745
CREATED:20260212T190213Z
LAST-MODIFIED:20260212T190213Z
UID:10007676-1771093800-1771104600@ilovebabylon.com
SUMMARY:Valentine's Day with Decadia and DJ Andre at The Warehouse
DESCRIPTION:Valentine’s Day with Decadia and DJ Andre at The Warehouse \nSaturday February 14\, 2026 \nDecadia plays Dance and Pop from the 70s through today – the soundtrack of your life! \nDJ Andre spins WLIR/WDRE Classics all night! \nTickets available at: www.thewarehouseli.com/calendar \nDoors 6:30pm
URL:https://ilovebabylon.com/event/valentines-day-with-decadia-and-dj-andre-at-the-warehouse/
LOCATION:The Warehouse Live Music & Events\, The Warehouse Live Music & Events
END:VEVENT
BEGIN:VEVENT
DTSTART;TZID=America/New_York:20260214T190000
DTEND;TZID=America/New_York:20260214T220000
DTSTAMP:20260419T192745
CREATED:20260212T190215Z
LAST-MODIFIED:20260212T190215Z
UID:10007677-1771095600-1771106400@ilovebabylon.com
SUMMARY:Paint Your Partner Valentine's Paint & Sip
DESCRIPTION:Paint your partner paint night! \nFeb 14th at 7pm \nThe hilarious trend of painting your partner!! \nSit side by side and paint each other – the final product is \nthe BEST PART! \nBYOB & Snacks – $50 per couple/pair
URL:https://ilovebabylon.com/event/paint-your-partner-valentines-paint-sip/
LOCATION:The Color Palette Lindenhurst\, 51 West Hoffman Ave.\, Lindenhurst\, NY\, 11757\, US
END:VEVENT
BEGIN:VEVENT
DTSTART;TZID=America/New_York:20260214T200000
DTEND;TZID=America/New_York:20260214T230000
DTSTAMP:20260419T192745
CREATED:20260212T190217Z
LAST-MODIFIED:20260212T190217Z
UID:10007678-1771099200-1771110000@ilovebabylon.com
SUMMARY:diD at Whiskey Rocks
DESCRIPTION:Celebrate Valentine’s Day in Darkness
URL:https://ilovebabylon.com/event/did-at-whiskey-rocks/
LOCATION:419 Great East Neck Rd\, West Babylon\, NY 11704-7622\, United States\, 419 Great East Neck Rd\, West Babylon\, NY 11704-7622\, United States
END:VEVENT
BEGIN:VEVENT
DTSTART;TZID=America/New_York:20260214T200000
DTEND;TZID=America/New_York:20260214T230000
DTSTAMP:20260419T192745
CREATED:20260212T190221Z
LAST-MODIFIED:20260212T190221Z
UID:10007679-1771099200-1771110000@ilovebabylon.com
SUMMARY:Andy Del & the Courageous Cats - Valentines Day at Riptides!
DESCRIPTION:CATS are Back for 2026! With a very special guest. V-Day Musical Tribute to Love!
URL:https://ilovebabylon.com/event/andy-del-the-courageous-cats-valentines-day-at-riptides/
LOCATION:RipTides Cocktails and Grill\, 168 East Montauk Highway\, Lindenhurst\, NY\, 11757\, US
END:VEVENT
BEGIN:VEVENT
DTSTART;TZID=America/New_York:20260214T203000
DTEND;TZID=America/New_York:20260214T233000
DTSTAMP:20260419T192745
CREATED:20260212T190228Z
LAST-MODIFIED:20260212T190228Z
UID:10007680-1771101000-1771111800@ilovebabylon.com
SUMMARY:VINNY SINGS @ GOCCIA D'ORO II - VALENTINE'S DAY
DESCRIPTION:Hi Fans\, REMINDER!!!Get your dancing shoes on for a great night of music & dancing with that very special someone this coming VALENTINES DAY!!!! ��� SATURDAY FEB. 14\, 2026 – 8:30 PM SHOW485 W. Montauk Highway\, Lindenhurst\, NY 11757Reservations are highly recommended-call 631-991-7991Hope to see you there!!!Vinny������
URL:https://ilovebabylon.com/event/vinny-sings-goccia-doro-ii-valentines-day/
LOCATION:485 W Montauk Hwy\, Lindenhurst\, NY 11757-5530\, United States\, 485 W Montauk Hwy\, Lindenhurst\, NY 11757-5530\, United States
END:VEVENT
BEGIN:VEVENT
DTSTART;TZID=America/New_York:20260214T203000
DTEND;TZID=America/New_York:20260214T233000
DTSTAMP:20260419T192745
CREATED:20260125T214406Z
LAST-MODIFIED:20260212T190225Z
UID:10007577-1771101000-1771111800@ilovebabylon.com
SUMMARY:VALENTINES DAY @ GOCCIA D'ORO 2
DESCRIPTION:Hi Fans\,Get your dancing shoes on for a great night out atGOCCIA D’ORO 2 with music & dancing with that very special someone this coming VALENTINES DAY!!!! ��� SATURDAY FEB. 14\, 2026 – 7 PM SHOWGOCCIA D’ORO 2485 W. Montauk Highway\, Lindenhurst\, NY 11757Reservations are highly recommended-call 631-991-7991Hope to see you there!Vinny
URL:https://ilovebabylon.com/event/valentines-day-goccia-doro-2/
LOCATION:485 W Montauk Hwy\, Lindenhurst\, NY 11757-5530\, United States\, 485 W Montauk Hwy\, Lindenhurst\, NY 11757-5530\, United States
END:VEVENT
BEGIN:VEVENT
DTSTART;TZID=America/New_York:20260214T210000
DTEND;TZID=America/New_York:20260215T020000
DTSTAMP:20260419T192745
CREATED:20260212T190235Z
LAST-MODIFIED:20260212T190235Z
UID:10007681-1771102800-1771120800@ilovebabylon.com
SUMMARY:Music with DJ Frankie C
DESCRIPTION:Happy Valentine’s Day\, Lindenhurst 💘 Join us tonight for a romantic dinner as The Roche Brothers set the mood from 6–9 PM. Then at 9 PM\, DJ Frankie C takes over and turns Valentine’s Day into a full-blown celebration! And remember… the best love stories start at Belfast. 🍷🎶
URL:https://ilovebabylon.com/event/music-with-dj-frankie-c/
LOCATION:101 North Wellwood Avenue\, Lindenhurst\, NY\, United States\, New York 11757\, 101 North Wellwood Avenue\, Lindenhurst\, NY\, United States\, New York 11757
END:VEVENT
BEGIN:VEVENT
DTSTART;TZID=America/New_York:20260214T210000
DTEND;TZID=America/New_York:20260215T000000
DTSTAMP:20260419T192745
CREATED:20260125T214410Z
LAST-MODIFIED:20260212T190230Z
UID:10007578-1771102800-1771113600@ilovebabylon.com
SUMMARY:I Love R&B Party at Amityville Music Hall
DESCRIPTION:💖 I Love R&B Party: 2026 Winter Tour 💖 \nThe I Love R&B Party is hitting the road! Get ready for a night of smooth vocals\, timeless classics\, and nonstop R&B vibes as we bring the ultimate party experience to cities across the country. \nFrom 90’s & 2000’s anthems to today’s chart topping hits\, our DJ’s and special guests will have you singing\, dancing\, and feeling every lyric like it’s the first time again! 🎤 Expect a high energy yet sexy atmosphere\, with the perfect mix of sultry slow jams and turn-up tracks that keep the party going all night. \n🎟️ Secure your tickets now and get ready to fall in LOVE with R&B all over again!
URL:https://ilovebabylon.com/event/i-love-rb-party-at-amityville-music-hall/
LOCATION:Amityville Music Hall\, 198 Broadway\, Amityville\, NY\, US
END:VEVENT
BEGIN:VEVENT
DTSTART;TZID=America/New_York:20260215T120000
DTEND;TZID=America/New_York:20260215T150000
DTSTAMP:20260419T192745
CREATED:20260125T214414Z
LAST-MODIFIED:20260212T190237Z
UID:10007579-1771156800-1771167600@ilovebabylon.com
SUMMARY:Lilys Psychic Reading
DESCRIPTION:Enjoy a buffet lunch\, soft drinks and a psychic reading by Brenda Worley
URL:https://ilovebabylon.com/event/lilys-psychic-reading/
LOCATION:345 Deer Park Ave\, Babylon\, NY\, United States\, New York 11702\, 345 Deer Park Ave\, Babylon\, NY\, United States\, New York 11702
END:VEVENT
BEGIN:VEVENT
DTSTART;TZID=America/New_York:20260215T120000
DTEND;TZID=America/New_York:20260215T150000
DTSTAMP:20260419T192745
CREATED:20260125T214416Z
LAST-MODIFIED:20260212T190241Z
UID:10007580-1771156800-1771167600@ilovebabylon.com
SUMMARY:Psychic Dinner Night At Lily's
DESCRIPTION:Psychic Brunch with The Long Island Psychics \nDate: Wednesday\, February 15Time: noonLocation: Lilly Flanagan 345 Deer Park Ave Babylon NY 11702Event Details: \n– An intimate brunch and private one on one psychic readings and delicious food \n– Hosted by The Long Island Psychics \n– Guests will receive psychic insights throughout the afternoon \nPricing: \n$75 per person ++ \nWhat’s Included: \n– buffet style lunch \n– Beverages included \n– Psychic experience during lunch \n***Reservation is required*** \nPlease complete the reservation through the ticket link \nSeating is limited \nQuestions or Information: \nCall Brenda Lee at 516-444-1975 or Lilly Flanagans 631-539-0816
URL:https://ilovebabylon.com/event/psychic-dinner-night-at-lilys/
LOCATION:Online Event\, West Babylon\, NY\, US
END:VEVENT
BEGIN:VEVENT
DTSTART;TZID=America/New_York:20260215T123000
DTEND;TZID=America/New_York:20260215T153000
DTSTAMP:20260419T192745
CREATED:20260212T190245Z
LAST-MODIFIED:20260212T190245Z
UID:10007682-1771158600-1771169400@ilovebabylon.com
SUMMARY:Winter Jamboree 6 West at The Warehouse
DESCRIPTION:Winter Jamboree 6 West at The Warehouse \nSunday February 15\, 2026 \nPresented by So Many Roads Productions and featuring performances by: \nHalf StepMKUTiger RoseThe Brother Pluckersand The Electrix \nTickets available at: www.thewarehouseli.com/calendar \nDoors 12:30pm
URL:https://ilovebabylon.com/event/winter-jamboree-6-west-at-the-warehouse/
LOCATION:The Warehouse Live Music & Events\, The Warehouse Live Music & Events
END:VEVENT
BEGIN:VEVENT
DTSTART;TZID=America/New_York:20260215T130000
DTEND;TZID=America/New_York:20260215T160000
DTSTAMP:20260419T192745
CREATED:20260212T190255Z
LAST-MODIFIED:20260212T190255Z
UID:10007683-1771160400-1771171200@ilovebabylon.com
SUMMARY:“Love Thy Neighbors” Brunch
DESCRIPTION:❤️ You’re Invited! ❤️ Join us for the 4th Annual “Love Thy Neighbors” Brunch & Community Awards Service at Family & Community Empowerment Church! \n📍 Address: 25 Broadway\, Amityville\, N📅 Date: Sunday\, February 15\, 2026 \n⏰ Schedule: Brunch: 1:00 PM• Award Service: 2:00 PM \n💲Brunch Donation: $25 \nCome celebrate love\, unity\, and community as we honor our 2026 Community Award Recipients and share fellowship together. \n✨ Host Pastor: Pastor Lynn M. Boone \n📞 RSVP by Thursday\, 2/12:(631) 636-2572 \nBring a friend\, invite a neighbor\, and let’s love well—together! 💕 \n#LoveThyNeighbor #CommunityBrunch #AmityvilleNY #FaithAndCommunity #FCEMChurch
URL:https://ilovebabylon.com/event/love-thy-neighbors-brunch/
LOCATION:Family & Community Empowerment Church\, Family & Community Empowerment Church
END:VEVENT
BEGIN:VEVENT
DTSTART;TZID=America/New_York:20260215T130000
DTEND;TZID=America/New_York:20260215T160000
DTSTAMP:20260419T192745
CREATED:20260212T190257Z
LAST-MODIFIED:20260212T190257Z
UID:10007684-1771160400-1771171200@ilovebabylon.com
SUMMARY:Gundam Card Game - Newtype Challenge 2026 Mission 1
DESCRIPTION:Gundam Card Game – Newtype Challenge 2026 Mission 1 \n**Pre-Registration on our website will open on Wednesday\, February 11th at 11pm!** \nSunday\, February 15th 2026Check-in: 12:00PM Event Begins: 1:00PM \nThis is a constructed event run through BandaiTCG+. \nYou must have a valid account with BandaiTCG+ to participate. All current rules are in place at the time of the event. \nThis event is limited to 32 players. As such\, there are only 32 Preregistrations available. \nPlayers who successfully pre register must arrive by 12:45pm to check-in. Phone Calls\, E-mails\, or any other form of communication that would otherwise alert staff to a late entry is not valid for this event. Any player who is not present at that time may have their entry forfeited to a waiting player. Forfeits will occur in reverse order of pre registrations. A player who has pre registered and does not attend\, or that arrives too late and their position has been forfeit\, will have their entry added to their Store Credit balance for use on future instore physical item purchases. \nParking- We kindly ask that all event attendees respect our neighboring businesses and please do not park in their private parking lots at the risk of having your vehicle towed. Our general parking is located in the rear of the building by utilizing the driveways before the building. In the event that there is no parking available\, we ask that you park in the municipal lot diagonally across the street from our store\, find parking on Deer Park Avenue\, or park in the residential areas or other public parking spaces.
URL:https://ilovebabylon.com/event/gundam-card-game-newtype-challenge-2026-mission-1/
LOCATION:1883-B Deer Park Avenue\, Deer Park\, NY\, United States\, New York 11729\, 1883-B Deer Park Avenue\, Deer Park\, NY\, United States\, New York 11729
END:VEVENT
BEGIN:VEVENT
DTSTART;TZID=America/New_York:20260215T130000
DTEND;TZID=America/New_York:20260215T160000
DTSTAMP:20260419T192745
CREATED:20260125T214418Z
LAST-MODIFIED:20260212T190248Z
UID:10007581-1771160400-1771171200@ilovebabylon.com
SUMMARY:MKU jams the Winter Jamboree!
DESCRIPTION:Another funday on a Sunday with Half Step\, The Electrix\, Tiger Rose and Brother Pluckers!
URL:https://ilovebabylon.com/event/mku-jams-the-winter-jamboree/
LOCATION:The Warehouse Live Music & Events\, The Warehouse Live Music & Events
END:VEVENT
BEGIN:VEVENT
DTSTART;TZID=America/New_York:20260215T130000
DTEND;TZID=America/New_York:20260215T160000
DTSTAMP:20260419T192745
CREATED:20260125T214422Z
LAST-MODIFIED:20260212T190251Z
UID:10007582-1771160400-1771171200@ilovebabylon.com
SUMMARY:Daytona 500 at the 50
DESCRIPTION:START YOUR ENGINES!! at the 50$5 Domestic! $6 Imports  \nBUCKET SPECIALS:$15 Bud/Bud Light (cans)$20 Domestic (bottles)$24 Imports (bottles) \nFree Hot Buffet (with beverage purchase) \nTV Coverage begins at 1:00PM (green flag: 3:05PM)
URL:https://ilovebabylon.com/event/daytona-500-at-the-50/
LOCATION:371 Little East Neck Rd\, West Babylon\, NY\, 371 Little East Neck Rd\, West Babylon\, NY
END:VEVENT
BEGIN:VEVENT
DTSTART;TZID=America/New_York:20260215T150000
DTEND;TZID=America/New_York:20260215T190000
DTSTAMP:20260419T192745
CREATED:20260212T190259Z
LAST-MODIFIED:20260212T190259Z
UID:10007685-1771167600-1771182000@ilovebabylon.com
SUMMARY:Disco | Freestyle DAY PARTY
DESCRIPTION:PRESIDENTS DAY WEEKENDJoin us for “SUNDAY FUNDAY” Disco & Freestyle Music 3-7pm\, perfect for those who want to party and be in bed by 8pm! $10 Cover Charge  \njeffneckonoff Return Dates: 3/154/195/36/14
URL:https://ilovebabylon.com/event/disco-freestyle-day-party/
LOCATION:511 Commack Road\, Deer Park\, NY\, 511 Commack Road\, Deer Park\, NY
END:VEVENT
BEGIN:VEVENT
DTSTART;TZID=America/New_York:20260215T160000
DTEND;TZID=America/New_York:20260215T190000
DTSTAMP:20260419T192745
CREATED:20260212T190306Z
LAST-MODIFIED:20260212T190306Z
UID:10007686-1771171200-1771182000@ilovebabylon.com
SUMMARY:Irish American Heritage Celebration
DESCRIPTION:Get into the Irish spirit with us today! 🍀 Brian McCormack is here from 4–7\, playing traditional Irish tunes that’ll have you singing and dancing all day long. Plus\, our full lineup of Irish favorites is ready to enjoy!
URL:https://ilovebabylon.com/event/irish-american-heritage-celebration/
LOCATION:101 North Wellwood Avenue\, Lindenhurst\, NY\, United States\, New York 11757\, 101 North Wellwood Avenue\, Lindenhurst\, NY\, United States\, New York 11757
END:VEVENT
BEGIN:VEVENT
DTSTART;TZID=America/New_York:20260215T170000
DTEND;TZID=America/New_York:20260215T200000
DTSTAMP:20260419T192745
CREATED:20260125T214424Z
LAST-MODIFIED:20260212T190308Z
UID:10007583-1771174800-1771185600@ilovebabylon.com
SUMMARY:SOPHIA ITALIAN BISTRO
DESCRIPTION:Live music in Amityville!Dinner & Dance
URL:https://ilovebabylon.com/event/sophia-italian-bistro-3/
LOCATION:Sophia Italian Bistro\, 71 Merrick Rd\, Amityville\, NY\, 11701\, US
END:VEVENT
BEGIN:VEVENT
DTSTART;TZID=America/New_York:20260215T173000
DTEND;TZID=America/New_York:20260215T203000
DTSTAMP:20260419T192745
CREATED:20260212T190313Z
LAST-MODIFIED:20260302T135337Z
UID:10007687-1771176600-1771187400@ilovebabylon.com
SUMMARY:GRACELAND'S  GATE  Pino Wine Bar Bistro SUNDAY 2/15 5:30 pm Lindenhurst NY
DESCRIPTION:LIVE ACOUSTICMUSIC TEAMS UP WITH THE BEST FOOD/DRINKS N STAFF
URL:https://ilovebabylon.com/event/gracelands-gate-pino-wine-bar-bistro-sunday-2-15-530-pm-lindenhurst-ny/
LOCATION:Pino Wine Bar & Bistro\, 143 N Wellwood Avenue\, Lindenhurst\, NY\, 11757\, US
CATEGORIES:Music
END:VEVENT
BEGIN:VEVENT
DTSTART;TZID=America/New_York:20260215T190000
DTEND;TZID=America/New_York:20260215T220000
DTSTAMP:20260419T192745
CREATED:20260125T214426Z
LAST-MODIFIED:20260212T190315Z
UID:10007584-1771182000-1771192800@ilovebabylon.com
SUMMARY:Tiger Rose At The Winter Jamboree
DESCRIPTION:1 set at the Winter Jamboree!
URL:https://ilovebabylon.com/event/tiger-rose-at-the-winter-jamboree/
LOCATION:The Warehouse Live Music & Events\, The Warehouse Live Music & Events
END:VEVENT
END:VCALENDAR