BEGIN:VCALENDAR
VERSION:2.0
PRODID:-//I Love Babylon, NY - ECPv6.15.20//NONSGML v1.0//EN
CALSCALE:GREGORIAN
METHOD:PUBLISH
X-WR-CALNAME:I Love Babylon, NY
X-ORIGINAL-URL:https://ilovebabylon.com
X-WR-CALDESC:Events for I Love Babylon, NY
REFRESH-INTERVAL;VALUE=DURATION:PT1H
X-Robots-Tag:noindex
X-PUBLISHED-TTL:PT1H
BEGIN:VTIMEZONE
TZID:America/New_York
BEGIN:DAYLIGHT
TZOFFSETFROM:-0500
TZOFFSETTO:-0400
TZNAME:EDT
DTSTART:20250309T070000
END:DAYLIGHT
BEGIN:STANDARD
TZOFFSETFROM:-0400
TZOFFSETTO:-0500
TZNAME:EST
DTSTART:20251102T060000
END:STANDARD
BEGIN:DAYLIGHT
TZOFFSETFROM:-0500
TZOFFSETTO:-0400
TZNAME:EDT
DTSTART:20260308T070000
END:DAYLIGHT
BEGIN:STANDARD
TZOFFSETFROM:-0400
TZOFFSETTO:-0500
TZNAME:EST
DTSTART:20261101T060000
END:STANDARD
BEGIN:DAYLIGHT
TZOFFSETFROM:-0500
TZOFFSETTO:-0400
TZNAME:EDT
DTSTART:20270314T070000
END:DAYLIGHT
BEGIN:STANDARD
TZOFFSETFROM:-0400
TZOFFSETTO:-0500
TZNAME:EST
DTSTART:20271107T060000
END:STANDARD
END:VTIMEZONE
BEGIN:VEVENT
DTSTART;TZID=America/New_York:20260217T160000
DTEND;TZID=America/New_York:20260217T190000
DTSTAMP:20260419T223938
CREATED:20260212T190336Z
LAST-MODIFIED:20260217T190011Z
UID:10007690-1771344000-1771354800@ilovebabylon.com
SUMMARY:Shrove Tuesday Pancake Supper
DESCRIPTION:Celebrate Shrove Tuesday with us on February 17th with a pancake supper as we prepare for the season of Lent.  \n$10/pp donation requested. \nVolunteers needed.
URL:https://ilovebabylon.com/event/shrove-tuesday-pancake-supper/
LOCATION:175 Broadway\, Amityville\, NY\, United States\, New York 11701\, 175 Broadway\, Amityville\, NY\, United States\, New York 11701
END:VEVENT
BEGIN:VEVENT
DTSTART;TZID=America/New_York:20260217T160000
DTEND;TZID=America/New_York:20260217T190000
DTSTAMP:20260419T223938
CREATED:20260217T190015Z
LAST-MODIFIED:20260217T190015Z
UID:10007696-1771344000-1771354800@ilovebabylon.com
SUMMARY:February Break Open Paint\, Clay & Slime
DESCRIPTION:We are back for some open paint walk in hours \nMonday Feb 16 \n11:30am-4pmTuesday Feb 17. 4-7pmThursday Feb 19 \n4-7pmFriday Feb 20 11:30am-4pmSaturday Feb 21 \n12-3pm \nCome anytime between the above hours and get your art on!Slime is always only $5Clay is $15Ceramics are $15 and upCanvases are $18 and up PLUS we draw you anything you like\, no charge! \nPlay area and chalk wall open too!  \nhttps://www.facebook.com/events/1262038659131315/?event_time_id=1262038669131314
URL:https://ilovebabylon.com/event/february-break-open-paint-clay-slime/
LOCATION:The Color Palette Lindenhurst\, 51 West Hoffman Ave.\, Lindenhurst\, NY\, 11757\, US
END:VEVENT
BEGIN:VEVENT
DTSTART;TZID=America/New_York:20260217T173000
DTEND;TZID=America/New_York:20260217T203000
DTSTAMP:20260419T223938
CREATED:20260125T214436Z
LAST-MODIFIED:20260217T190021Z
UID:10007588-1771349400-1771360200@ilovebabylon.com
SUMMARY:🥞 Shrove Tuesday Pancake Dinner 🥞
DESCRIPTION:Join us for a fun and tasty Shrove Tuesday Pancake Dinner on Tuesday\, February 17\, from 5:30–7:30 PM! Bring your family\, invite a friend\, and enjoy a relaxed evening of good food and great fellowship as we prepare for the season of Lent. \nThis is an all-ages event and a wonderful way to gather as a community over a classic pancake supper. \n📅 Date: Tuesday\, February 17⏰ Time: 5:30–7:30 PM💲 Cost: $5 per person \n👉 RSVP here: https://babylonumc.breezechms.com/form/f42ac2 \nEveryone is welcome — we hope to see you there! 🥞✨
URL:https://ilovebabylon.com/event/%f0%9f%a5%9e-shrove-tuesday-pancake-dinner-%f0%9f%a5%9e/
LOCATION:21 James St\, Babylon\, NY\, United States\, New York 11702\, 21 James St\, Babylon\, NY\, United States\, New York 11702
END:VEVENT
BEGIN:VEVENT
DTSTART;TZID=America/New_York:20260217T183000
DTEND;TZID=America/New_York:20260217T213000
DTSTAMP:20260419T223938
CREATED:20260212T190341Z
LAST-MODIFIED:20260217T190025Z
UID:10007691-1771353000-1771363800@ilovebabylon.com
SUMMARY:Puzzle Palooza: Lunar New Year
DESCRIPTION:Celebrate Lunar New Year with our first ever 1000-piece puzzle! Break into teams of 4 and compete to finish. Come by yourself or with friends
URL:https://ilovebabylon.com/event/puzzle-palooza-lunar-new-year/
LOCATION:50 Deauville Blvd\, Copiague\, NY\, United States\, New York 11726\, 50 Deauville Blvd\, Copiague\, NY\, United States\, New York 11726
END:VEVENT
BEGIN:VEVENT
DTSTART;TZID=America/New_York:20260217T190000
DTEND;TZID=America/New_York:20260217T210000
DTSTAMP:20260419T223938
CREATED:20260125T214438Z
LAST-MODIFIED:20260217T190023Z
UID:10007589-1771354800-1771362000@ilovebabylon.com
SUMMARY:Detox the Mind Through Meditation
DESCRIPTION:Experiencing the Soul Part III \nThese workshops are Part 3 of a Multi-Part Series entitled Experiencing the Soul.Meditation can be the key that unlocks the inner doorway to a life of deep inner peace. It has been practiced for thousands of years and is the core of all great spiritual traditions. By learning how to “tap inside\,” as Emerson put it\, each of us can mine the unlimited wealth lying dormant inside us. \nPresenter: Andrew Vidich\, PhD \n7-Part Workshop SeriesMissed the last one? No worries – each workshop is designed so you can attend independently. \nDate: Tuesday\, February 17Time: 7 – 9 pm Location: Science of Spirituality Meditation Center79 County Line Road\, Amityville\, NY 11701 \nEvent is free of charge! All are welcome!  \nFor more information contact:Stephanie631-822-7979infotristate@sos.org
URL:https://ilovebabylon.com/event/detox-the-mind-through-meditation-2/
LOCATION:79 County Line Rd\, Amityville\, NY 11701\, 79 County Line Rd\, Amityville\, NY 11701
END:VEVENT
BEGIN:VEVENT
DTSTART;TZID=America/New_York:20260217T190000
DTEND;TZID=America/New_York:20260217T230000
DTSTAMP:20260419T223938
CREATED:20260212T190347Z
LAST-MODIFIED:20260217T190031Z
UID:10007692-1771354800-1771369200@ilovebabylon.com
SUMMARY:Yugioh Weekly - Genesys
DESCRIPTION:$10.00 Entry6:30PM Signups7:00PM StartOTS Packs at Round 2 \nThe Genesys rules are simple:  \nNo Link Monsters or Pendulum Monsters are allowed. All other cards are allowed. The original field layout is used\, with no Extra Monster Zones nor Pendulum Zones.  \nThe standard Forbidden & Limited Cards list is not used. All those cards can be used\, except Link Monsters and Pendulum Monsters. Usual limit of 3 copies max of any card still applies.  \nDeck construction uses a point system. Some cards are assigned a point value; most cards cost zero points. The total point cost of cards in your Main Deck\, Extra Deck\, and Side Deck (combined) cannot exceed the point cap for that event.  \nVisit https://www.yugioh-card.com/en/genesys/ for more information! \nhttps://www.facebook.com/events/1334181101506186/?event_time_id=1334181234839506
URL:https://ilovebabylon.com/event/yugioh-weekly-genesys/
LOCATION:1883-B Deer Park Avenue\, Deer Park\, NY\, United States\, New York 11729\, 1883-B Deer Park Avenue\, Deer Park\, NY\, United States\, New York 11729
END:VEVENT
BEGIN:VEVENT
DTSTART;TZID=America/New_York:20260217T190000
DTEND;TZID=America/New_York:20260217T220000
DTSTAMP:20260419T223938
CREATED:20260217T190029Z
LAST-MODIFIED:20260217T190029Z
UID:10007697-1771354800-1771365600@ilovebabylon.com
SUMMARY:Bingo Night
DESCRIPTION:Come to play you might win a prize !!!
URL:https://ilovebabylon.com/event/bingo-night/
LOCATION:470 Fire Island Ave\, Babylon\, NY\, 470 Fire Island Ave\, Babylon\, NY
END:VEVENT
BEGIN:VEVENT
DTSTART;TZID=America/New_York:20260218T000000
DTEND;TZID=America/New_York:20260218T235900
DTSTAMP:20260419T223938
CREATED:20260217T190038Z
LAST-MODIFIED:20260302T135333Z
UID:10007698-1771372800-1771459140@ilovebabylon.com
SUMMARY:Summer Camp EARLY REGISTRATION Specials!
DESCRIPTION:We are back for the whole summer! We are doing 8 weeks – the most we have ever done – we got you covered all summer!! \nNOW THRU MARCH 31st ONLY!!EARLY REGISTRATION DISCOUNT Now – March 31stSave big on weeks (half day save $35 / full day save $75)Must register for full week to receive discountNo other discount available during this promotionPromotion good online only \nMonday – Thursday July 6-Aug 27th8:45am-3pm \nHalf or full days 8:45-11:45 / 12-3Half Day Bring snackFull Day bring snack and lunch \nJuly 6th – Surfs UpJuly 13 – Video GamesJuly 20 – Sharks & ReptilesJuly 27 – ScienceAug 3 – Cartoons & CharactersAug 10- Music\, Comedy & SoundAug 17 – Wood ShopAug 24 – DIY Freestyle \nhttps://www.facebook.com/events/1988372775438293/?event_time_id=1988372785438292
URL:https://ilovebabylon.com/event/summer-camp-early-registration-specials/
LOCATION:The Color Palette Lindenhurst\, 51 West Hoffman Ave.\, Lindenhurst\, NY\, 11757\, US
CATEGORIES:Music
END:VEVENT
BEGIN:VEVENT
DTSTART;TZID=America/New_York:20260218T130000
DTEND;TZID=America/New_York:20260218T160000
DTSTAMP:20260419T223938
CREATED:20260217T190041Z
LAST-MODIFIED:20260217T190041Z
UID:10007699-1771419600-1771430400@ilovebabylon.com
SUMMARY:Ash Wednesday short prayer Service - 1:00 pm
DESCRIPTION:THE HOLY SEASON OF LENT…begins on Ash Wednesday
URL:https://ilovebabylon.com/event/ash-wednesday-short-prayer-service-100-pm/
LOCATION:St. Paul’s Lutheran Church Amityville\, NY\, 147 Park Ave\, Amityville\, NY\, 11701\, US
END:VEVENT
BEGIN:VEVENT
DTSTART;TZID=America/New_York:20260218T160000
DTEND;TZID=America/New_York:20260218T190000
DTSTAMP:20260419T223938
CREATED:20260217T190042Z
LAST-MODIFIED:20260217T190042Z
UID:10007700-1771430400-1771441200@ilovebabylon.com
SUMMARY:Ash Wednesday Service - 4:00 pm
DESCRIPTION:THE HOLY SEASON OF LENT…begins on Ash Wednesday
URL:https://ilovebabylon.com/event/ash-wednesday-service-400-pm/
LOCATION:St. Paul’s Lutheran Church Amityville\, NY\, 147 Park Ave\, Amityville\, NY\, 11701\, US
END:VEVENT
BEGIN:VEVENT
DTSTART;TZID=America/New_York:20260218T180000
DTEND;TZID=America/New_York:20260218T193000
DTSTAMP:20260419T223938
CREATED:20260217T190044Z
LAST-MODIFIED:20260217T190044Z
UID:10007701-1771437600-1771443000@ilovebabylon.com
SUMMARY:Ash Wednesday
DESCRIPTION:Join us in fellowship with Brentwood Pres\, West Islip Pres\, Deer Park Pres church families in a night of dinner\, fellowship\, ashes\, and worship.  \nAll are welcome.  \nBring a soup & loaf of bread to share!  \nFor more information on Ash Wednesday or Easter\, please visit www.firstpresbabylon.org/lent
URL:https://ilovebabylon.com/event/ash-wednesday/
LOCATION:79 East Main Street\, Babylon\, NY\, United States\, New York 11702\, 79 East Main Street\, Babylon\, NY\, United States\, New York 11702
END:VEVENT
BEGIN:VEVENT
DTSTART;TZID=America/New_York:20260218T180000
DTEND;TZID=America/New_York:20260218T210000
DTSTAMP:20260419T223938
CREATED:20260212T190349Z
LAST-MODIFIED:20260217T190046Z
UID:10007693-1771437600-1771448400@ilovebabylon.com
SUMMARY:4 Week Loving Kindness Meditation Series with Jackie
DESCRIPTION:Wednesdays February 18 & 25\, March 4 & 116:00PM-6:45PM $50 Full Series $15 Drop In Class  \nStep into a peaceful mid-week reset rooted in ancient compassion practices still being lived today. This 4-week long loving kindness meditation series is inspired by the same intentions buddhist monks are walking for peace\, healing and unity.  \nWhat is a loving kindness meditation? A gentle practice using phrases of godwill to quiet the mind and open the heart. Like the monks\, we move with awareness\, compassion and peace.  \nWhat you may experience: A softer inner voice Reduced tension in the body Emotional steadiness A sense of connection and calm Greater patience and compassion
URL:https://ilovebabylon.com/event/4-week-loving-kindness-meditation-series-with-jackie/
LOCATION:107 E Main St\, Babylon\, NY\, 107 E Main St\, Babylon\, NY
END:VEVENT
BEGIN:VEVENT
DTSTART;TZID=America/New_York:20260218T183000
DTEND;TZID=America/New_York:20260218T213000
DTSTAMP:20260419T223938
CREATED:20260212T190350Z
LAST-MODIFIED:20260302T135332Z
UID:10007694-1771439400-1771450200@ilovebabylon.com
SUMMARY:Celebrate the Music of Jerry Garcia with Tiger Rose at The Warehouse
DESCRIPTION:Celebrate the Music of Jerry Garcia with Tiger Rose at The Warehouse \nWednesday February 18\, 2026 \nTiger Rose – Playing Jerry Garcia Band\, Grateful Dead\, and More! \nTickets available at: www.thewarehouseli.com/calendar \nDoors 6:30pm
URL:https://ilovebabylon.com/event/celebrate-the-music-of-jerry-garcia-with-tiger-rose-at-the-warehouse/
LOCATION:The Warehouse Live Music & Events\, The Warehouse Live Music & Events
CATEGORIES:Music
END:VEVENT
BEGIN:VEVENT
DTSTART;TZID=America/New_York:20260218T190000
DTEND;TZID=America/New_York:20260218T210000
DTSTAMP:20260419T223938
CREATED:20260125T214440Z
LAST-MODIFIED:20260217T190053Z
UID:10007590-1771441200-1771448400@ilovebabylon.com
SUMMARY:Ash Wednesday Movie Night & Worship: The Way
DESCRIPTION:Begin the season of Lent with a reflective Ash Wednesday experience centered on the film The Way\, starring Martin Sheen. \nAs we watch the movie together\, we’ll pause at meaningful moments to receive ashes in the sign of the cross—a sacred reminder of life’s fragility and the invitation to turn toward deeper purpose and renewal. \nLent is about slowing down\, reflecting on our life’s journey\, and considering the direction we’re heading. Whether you’re new to Ash Wednesday or have practiced it for years\, all are welcome to this thoughtful and accessible evening of film\, worship\, and reflection. \n✨ Come as you are. All are welcome.
URL:https://ilovebabylon.com/event/ash-wednesday-movie-night-worship-the-way/
LOCATION:21 James St\, Babylon\, NY\, United States\, New York 11702\, 21 James St\, Babylon\, NY\, United States\, New York 11702
END:VEVENT
BEGIN:VEVENT
DTSTART;TZID=America/New_York:20260218T193000
DTEND;TZID=America/New_York:20260218T223000
DTSTAMP:20260419T223938
CREATED:20260212T190356Z
LAST-MODIFIED:20260217T190055Z
UID:10007695-1771443000-1771453800@ilovebabylon.com
SUMMARY:Ash Wednesday Service - 7:30 pm
DESCRIPTION:THE HOLY SEASON OF LENT…begins on Ash Wednesday
URL:https://ilovebabylon.com/event/ash-wednesday-service-730-pm/
LOCATION:St. Paul’s Lutheran Church Amityville\, NY\, 147 Park Ave\, Amityville\, NY\, 11701\, US
END:VEVENT
BEGIN:VEVENT
DTSTART;TZID=America/New_York:20260218T200000
DTEND;TZID=America/New_York:20260218T230000
DTSTAMP:20260419T223938
CREATED:20260125T214442Z
LAST-MODIFIED:20260217T190058Z
UID:10007591-1771444800-1771455600@ilovebabylon.com
SUMMARY:Tiger Rose At The Warehouse
DESCRIPTION:Two sets of Jerry Band Jams!
URL:https://ilovebabylon.com/event/tiger-rose-at-the-warehouse-5/
LOCATION:The Warehouse Live Music & Events\, The Warehouse Live Music & Events
END:VEVENT
BEGIN:VEVENT
DTSTART;TZID=America/New_York:20260219T120000
DTEND;TZID=America/New_York:20260219T140000
DTSTAMP:20260419T223938
CREATED:20260217T190100Z
LAST-MODIFIED:20260217T190100Z
UID:10007702-1771502400-1771509600@ilovebabylon.com
SUMMARY:Chamber Monthly Networking
DESCRIPTION:Be sure to join us next week for some casual collaboration.
URL:https://ilovebabylon.com/event/chamber-monthly-networking-2/
LOCATION:Pizzaiola North Babylon\, Pizzaiola North Babylon
END:VEVENT
BEGIN:VEVENT
DTSTART;TZID=America/New_York:20260219T183000
DTEND;TZID=America/New_York:20260219T213000
DTSTAMP:20260419T223938
CREATED:20260217T190104Z
LAST-MODIFIED:20260217T190104Z
UID:10007703-1771525800-1771536600@ilovebabylon.com
SUMMARY:Laughter Yoga
DESCRIPTION:Boost your health\, brighten your day and reduce stress with laughter. Laughter yoga is a unique concept where anyone can laugh without relying on humor\, jokes or comedy. Join certified yoga instructor Patty and see why laughter truly is the best medicine!
URL:https://ilovebabylon.com/event/laughter-yoga/
LOCATION:50 Deauville Blvd\, Copiague\, NY\, United States\, New York 11726\, 50 Deauville Blvd\, Copiague\, NY\, United States\, New York 11726
END:VEVENT
BEGIN:VEVENT
DTSTART;TZID=America/New_York:20260219T183000
DTEND;TZID=America/New_York:20260219T233000
DTSTAMP:20260419T223938
CREATED:20260217T190106Z
LAST-MODIFIED:20260302T135328Z
UID:10007704-1771525800-1771543800@ilovebabylon.com
SUMMARY:Sceneless Scene Showcase #107: Avrilution\, Andre Park\, Wanderer's Soul\, Daysie And The Garden + More
DESCRIPTION:✨️SCENELESS SCENE 107✨️ ✨️ AT THE WAREHOUSE IN AMITYVILLE✨️  \nWhat is Sceneless Scene Showcase? \nA Musical Festival Meets Art Show Meets Flea Market Extravaganza\, Dedicated To Showcasing Local Long Island Crafts\, Goods & Talent! \nWith Local Music From Avrilution\, Andre Park\, Wanderer’s Soul\, Daysie And The Garden\, Max Lee & Fluffhead! \nLocal Visual Art & Vendors Via Cornucopia’s Curios\, Dresch Designs\, GM Art\, Jillery Jewels\, Karen’s Kreations\, Sands and Threads! \nHosted By Maxwell Peters & Grace Vixen! \n18+ $15 At The Door / $12 Advanced \nLINK FOR REBATED TIXhttps://account.venmo.com/u/mxwpeters \nJust type “SSS107” in the notes and we will add your name to the door list! \nPresented By Planet Of Sound Promotions & Planet Of Vision Promotions!!
URL:https://ilovebabylon.com/event/sceneless-scene-showcase-107-avrilution-andre-park-wanderers-soul-daysie-and-the-garden-more/
LOCATION:The Warehouse Live Music & Events\, The Warehouse Live Music & Events
CATEGORIES:Music
END:VEVENT
BEGIN:VEVENT
DTSTART;TZID=America/New_York:20260219T190000
DTEND;TZID=America/New_York:20260219T220000
DTSTAMP:20260419T223938
CREATED:20260125T214445Z
LAST-MODIFIED:20260217T190110Z
UID:10007592-1771527600-1771538400@ilovebabylon.com
SUMMARY:Speed Dating
DESCRIPTION:💘 Speed Dating at Lily’s🗓 Thursday\, Feb 19 | 7PM🍸 $45 includes 2 drinks🎯 Ages 38–50📲 Text 631-626-9173 to reserve
URL:https://ilovebabylon.com/event/speed-dating/
LOCATION:345 Deer Park Ave\, Babylon\, NY\, United States\, New York 11702\, 345 Deer Park Ave\, Babylon\, NY\, United States\, New York 11702
END:VEVENT
BEGIN:VEVENT
DTSTART;TZID=America/New_York:20260220T100000
DTEND;TZID=America/New_York:20260220T110000
DTSTAMP:20260419T223938
CREATED:20260217T190113Z
LAST-MODIFIED:20260217T190113Z
UID:10007705-1771581600-1771585200@ilovebabylon.com
SUMMARY:Toddler Time February 2026
DESCRIPTION:Valentine’s\, Winter Break\, and more! Come down to Toddler Time with Ms. Liz for FebruaryThurs and Fri at 10am – 1 hour$22 per class \nWinter break will be Monday and Friday\, no Thursday \nReservations preferred  \nhttps://www.facebook.com/events/4315807688653057/?event_time_id=4315807708653055
URL:https://ilovebabylon.com/event/toddler-time-february-2026/
LOCATION:The Color Palette Lindenhurst\, 51 West Hoffman Ave.\, Lindenhurst\, NY\, 11757\, US
END:VEVENT
BEGIN:VEVENT
DTSTART;TZID=America/New_York:20260220T143000
DTEND;TZID=America/New_York:20260220T173000
DTSTAMP:20260419T223938
CREATED:20260217T190115Z
LAST-MODIFIED:20260217T190115Z
UID:10007706-1771597800-1771608600@ilovebabylon.com
SUMMARY:Grand Opening
DESCRIPTION:Join us for our Grand Open February 20th\, 2026 at our new clinic located at 400 W Main St\, Suite 236\, Babylon\, NY\, 11702. We’ll have light refreshments\, goodie bags\, and you’ll have the chance to meet the docs! Come and see the direct primary care difference. #babylonvillage #healthcare #Directprimarycare #aprilmd
URL:https://ilovebabylon.com/event/grand-opening/
LOCATION:400 West Main\, Street Suite 236\, Babylon\, NY\, United States\, New York 11702\, 400 West Main\, Street Suite 236\, Babylon\, NY\, United States\, New York 11702
END:VEVENT
BEGIN:VEVENT
DTSTART;TZID=America/New_York:20260220T180000
DTEND;TZID=America/New_York:20260220T210000
DTSTAMP:20260419T223938
CREATED:20260125T214447Z
LAST-MODIFIED:20260217T190120Z
UID:10007593-1771610400-1771621200@ilovebabylon.com
SUMMARY:VOR...Victims Of Rock @ Lily's
DESCRIPTION:VOR…Victims Of Rock! The most popular unknown band on Long Island is returning to Lily’s In Babylon!Join us for an evening of ”Classic party rock from the 70’s\, 80’s and beyond like you remember it”
URL:https://ilovebabylon.com/event/vor-victims-of-rock-lilys-2/
LOCATION:Lily’s Babylon\, 345 Deer Park Ave\, Babylon\, NY\, 11702\, US
END:VEVENT
BEGIN:VEVENT
DTSTART;TZID=America/New_York:20260220T180000
DTEND;TZID=America/New_York:20260220T210000
DTSTAMP:20260419T223938
CREATED:20260217T190124Z
LAST-MODIFIED:20260302T135324Z
UID:10007707-1771610400-1771621200@ilovebabylon.com
SUMMARY:GRACELAND'S  GATE @ TRES PALMS BABYLON NY FRIDAY  6 TO 9 2/20
DESCRIPTION:beautiful waterfront of the great south bay. Restaurant bar & the best local acoustic live music
URL:https://ilovebabylon.com/event/gracelands-gate-tres-palms-babylon-ny-friday-6-to-9-2-20/
LOCATION:Tres Palms\, 16 East Ct\, Babylon\, NY\, 11702\, US
CATEGORIES:Music
END:VEVENT
BEGIN:VEVENT
DTSTART;TZID=America/New_York:20260220T190000
DTEND;TZID=America/New_York:20260220T220000
DTSTAMP:20260419T223938
CREATED:20260125T214449Z
LAST-MODIFIED:20260302T135322Z
UID:10007594-1771614000-1771624800@ilovebabylon.com
SUMMARY:Petty People At The Warehouse LI
DESCRIPTION:Hey Long Island\, we’re coming back! Join Petty People\, the nation’s fastest rising Tom Petty tribute Friday\, Feb. 20th\, 7PM at The Warehouse LI (37 West Main St.\, Amityville\, NY) for a multi-media Petty Party you’ll never forget! Dance and sing along to your favorite Heartbreakers hits along with a deep cut or two!But wait\, there’s more! When we’re done\, stay right where you are\, because your ticket is good for “NY To Boston”\, a tribute to the music of Boston!Tickets: https://www.thewarehouseli.com/calendar/
URL:https://ilovebabylon.com/event/petty-people-at-the-warehouse-li-2/
LOCATION:The Warehouse Live Music & Events\, The Warehouse Live Music & Events
CATEGORIES:Music
END:VEVENT
BEGIN:VEVENT
DTSTART;TZID=America/New_York:20260220T190000
DTEND;TZID=America/New_York:20260220T220000
DTSTAMP:20260419T223938
CREATED:20260217T190129Z
LAST-MODIFIED:20260217T190129Z
UID:10007708-1771614000-1771624800@ilovebabylon.com
SUMMARY:Valentine’s Double Feature with Special Guest
DESCRIPTION:Come witness the ultimate serial killer love story ever told\, and chat with the only director brave enough to tell it! \nPSYCHOS IN LOVE! with a special Zoom Q&A with Director Gorman Bechard \nDon’t miss our very first special guest appearance as we celebrate Valentine’s Day the Grindhouse way! \nOnce the Q&A wraps up well begin our second mystery feature. \n(absolutely no grapes permitted on the premises for the duration of this event)
URL:https://ilovebabylon.com/event/valentines-double-feature-with-special-guest-2/
LOCATION:The Neverending Story\, The Neverending Story
END:VEVENT
BEGIN:VEVENT
DTSTART;TZID=America/New_York:20260220T200000
DTEND;TZID=America/New_York:20260220T230000
DTSTAMP:20260419T223938
CREATED:20260125T214451Z
LAST-MODIFIED:20260302T135320Z
UID:10007595-1771617600-1771628400@ilovebabylon.com
SUMMARY:19th Anniversary
DESCRIPTION:19th Anniversary Celebration with live music by SideFXNo cover charge• Drink Specials • 50/50 Raffle• Hot Buffet
URL:https://ilovebabylon.com/event/19th-anniversary/
LOCATION:371 Little East Neck Rd\, West Babylon\, NY\, 371 Little East Neck Rd\, West Babylon\, NY
CATEGORIES:Music
END:VEVENT
BEGIN:VEVENT
DTSTART;TZID=America/New_York:20260220T200000
DTEND;TZID=America/New_York:20260220T230000
DTSTAMP:20260419T223938
CREATED:20260125T214453Z
LAST-MODIFIED:20260302T135318Z
UID:10007596-1771617600-1771628400@ilovebabylon.com
SUMMARY:Lipstick brings the '80s back to Babylon
DESCRIPTION:Get yer Lipstick on and rock out to the best ’80s pop and rock with Corene\, Janet\, Don\, Jimmy\, Roger and Mike at Bartini Bar\, LI’s most musician-friendly spot.$5 cover.
URL:https://ilovebabylon.com/event/lipstick-brings-the-80s-back-to-babylon/
LOCATION:Bartini Bar\, 124 N Carll Ave\, Babylon\, NY\, 11702\, US
CATEGORIES:Music
END:VEVENT
BEGIN:VEVENT
DTSTART;TZID=America/New_York:20260221T090000
DTEND;TZID=America/New_York:20260221T150000
DTSTAMP:20260419T223938
CREATED:20260217T190138Z
LAST-MODIFIED:20260217T190138Z
UID:10007709-1771664400-1771686000@ilovebabylon.com
SUMMARY:Anger Management Class (Adults 25+)
DESCRIPTION:One Day Class from 9am-3pm(not for court)For more info visithttps://kontos-psychotherapy.com/services/anger-management-workshop/ \nPre Registration required.Schedule your enrollment call today!
URL:https://ilovebabylon.com/event/anger-management-class-adults-25/
LOCATION:West Babylon \, L.I\,  NY\, West Babylon \, L.I\, NY
END:VEVENT
BEGIN:VEVENT
DTSTART;TZID=America/New_York:20260221T100000
DTEND;TZID=America/New_York:20260221T113000
DTSTAMP:20260419T223938
CREATED:20260217T190142Z
LAST-MODIFIED:20260302T140125Z
UID:10007710-1771668000-1771673400@ilovebabylon.com
SUMMARY:Toddler Time with your Favorite Princess!
DESCRIPTION:February 21st – 10am-11:30amYour favorite Princess Toddler TimeCraft\, singing\, playtime\, photos and more!$40 per child. Grown ups / Non-Participating Children are ALWAYS FREE! Treats & Drinks will be served for all.
URL:https://ilovebabylon.com/event/toddler-time-with-your-favorite-princess/
LOCATION:The Color Palette Lindenhurst\, 51 West Hoffman Ave.\, Lindenhurst\, NY\, 11757\, US
CATEGORIES:Arts and Crafts
END:VEVENT
END:VCALENDAR