BEGIN:VCALENDAR
VERSION:2.0
PRODID:-//I Love Babylon, NY - ECPv6.15.20//NONSGML v1.0//EN
CALSCALE:GREGORIAN
METHOD:PUBLISH
X-WR-CALNAME:I Love Babylon, NY
X-ORIGINAL-URL:https://ilovebabylon.com
X-WR-CALDESC:Events for I Love Babylon, NY
REFRESH-INTERVAL;VALUE=DURATION:PT1H
X-Robots-Tag:noindex
X-PUBLISHED-TTL:PT1H
BEGIN:VTIMEZONE
TZID:America/New_York
BEGIN:DAYLIGHT
TZOFFSETFROM:-0500
TZOFFSETTO:-0400
TZNAME:EDT
DTSTART:20240310T070000
END:DAYLIGHT
BEGIN:STANDARD
TZOFFSETFROM:-0400
TZOFFSETTO:-0500
TZNAME:EST
DTSTART:20241103T060000
END:STANDARD
BEGIN:DAYLIGHT
TZOFFSETFROM:-0500
TZOFFSETTO:-0400
TZNAME:EDT
DTSTART:20250309T070000
END:DAYLIGHT
BEGIN:STANDARD
TZOFFSETFROM:-0400
TZOFFSETTO:-0500
TZNAME:EST
DTSTART:20251102T060000
END:STANDARD
BEGIN:DAYLIGHT
TZOFFSETFROM:-0500
TZOFFSETTO:-0400
TZNAME:EDT
DTSTART:20260308T070000
END:DAYLIGHT
BEGIN:STANDARD
TZOFFSETFROM:-0400
TZOFFSETTO:-0500
TZNAME:EST
DTSTART:20261101T060000
END:STANDARD
END:VTIMEZONE
BEGIN:VEVENT
DTSTART;TZID=America/New_York:20251021T163000
DTEND;TZID=America/New_York:20251021T180000
DTSTAMP:20260419T150058
CREATED:20250821T215142Z
LAST-MODIFIED:20250913T110704Z
UID:10006299-1761064200-1761069600@ilovebabylon.com
SUMMARY:Minecraft
DESCRIPTION:Kids in grades 3–5 can bring their devices and join in on Minecraft fun! A Microsoft account is required.
URL:https://ilovebabylon.com/event/minecraft-3/
CATEGORIES:Classes,Community,Gaming & Hobbies,Kids
ATTACH;FMTTYPE=image/jpeg:https://ilovebabylon.com/wp-content/uploads/2025/08/babylon-library-childrens-room.jpg
END:VEVENT
BEGIN:VEVENT
DTSTART;TZID=America/New_York:20251021T100000
DTEND;TZID=America/New_York:20251021T110000
DTSTAMP:20260419T150058
CREATED:20250821T215142Z
LAST-MODIFIED:20250821T215142Z
UID:10006296-1761040800-1761044400@ilovebabylon.com
SUMMARY:Playtime Storytime
DESCRIPTION:Preschoolers and their families are invited for a fun morning of stories and playtime in a welcoming environment.
URL:https://ilovebabylon.com/event/playtime-storytime-3/
CATEGORIES:Classes,Community,Kids
ATTACH;FMTTYPE=image/jpeg:https://ilovebabylon.com/wp-content/uploads/2025/08/babylon-library-childrens-room.jpg
END:VEVENT
BEGIN:VEVENT
DTSTART;TZID=America/New_York:20251020T160000
DTEND;TZID=America/New_York:20251020T190000
DTSTAMP:20260419T150058
CREATED:20251003T175417Z
LAST-MODIFIED:20251003T175417Z
UID:10006994-1760976000-1760986800@ilovebabylon.com
SUMMARY:Amityville Fire Department Blood Bank
DESCRIPTION:Please put on your calendar and donate.
URL:https://ilovebabylon.com/event/amityville-fire-department-blood-bank/
LOCATION:55 W Oak St\, Amityville\, NY\, United States\, New York 11701\, 55 W Oak St\, Amityville\, NY\, United States\, New York 11701
CATEGORIES:Community,Volunteering
END:VEVENT
BEGIN:VEVENT
DTSTART;TZID=America/New_York:20251020T090000
DTEND;TZID=America/New_York:20251020T150000
DTSTAMP:20260419T150058
CREATED:20251004T142354Z
LAST-MODIFIED:20251004T142354Z
UID:10006890-1760950800-1760972400@ilovebabylon.com
SUMMARY:Columbus Day School Break Camp 10/20
DESCRIPTION:Our vacation camps are longer more in depth version of our 60 minute classes. These camps cover all the basics that you will need to safely enjoy our obstacle arena.Coaches will lead the group on a warm up\, to fully prepare you for trying out a variety of ninja obstacles. Examples of obstacles that could be included in the class are the spider climb\, angled steps\, devil steps\, and our warped wall! Once coaches have worked with the students on specific obstacles\, all students will have a chance to run the entire course for time.Pizza\, bottled water and apple juice will be provided with all sessions for lunch. We encourage children to bring snacks and water!3 Session Options:– HALF DAY AM – 9:00AM -12:30PM – $70– HALF DAY PM – 12:00PM – 3:00PM – $70– FULL DAY – 9:00AM -3:00PM – $11010% Sibling Discounts Available
URL:https://ilovebabylon.com/event/columbus-day-school-break-camp-10-20/
LOCATION:No Limit Ninja Farmingdale
CATEGORIES:Kids,Sports and Gaming
END:VEVENT
BEGIN:VEVENT
DTSTART;TZID=America/New_York:20251019T173000
DTEND;TZID=America/New_York:20251019T203000
DTSTAMP:20260419T150058
CREATED:20251002T232210Z
LAST-MODIFIED:20251002T232210Z
UID:10006886-1760895000-1760905800@ilovebabylon.com
SUMMARY:The Paumanok Stompers first performance at Sophia Italian Bistro
DESCRIPTION:Come hear our small ensemble while enjoying Amityville’s best Italian food!
URL:https://ilovebabylon.com/event/the-paumanok-stompers-first-performance-at-sophia-italian-bistro/
LOCATION:Sophia Italian Bistro\, 71 Merrick Rd\, Amityville\, NY\, 11701\, US
CATEGORIES:Concert,Food & Drink,Live Music
END:VEVENT
BEGIN:VEVENT
DTSTART;TZID=America/New_York:20251019T170000
DTEND;TZID=America/New_York:20251019T200000
DTSTAMP:20260419T150058
CREATED:20251002T232212Z
LAST-MODIFIED:20251002T232212Z
UID:10006885-1760893200-1760904000@ilovebabylon.com
SUMMARY:Gotcha Covered Sundays at The Village Lanterne!
DESCRIPTION:Gotcha Covered continues its’ MOST SUNDAYS residency at The Village Lanterne!I hope you come out to this lovely German restaurant and enjoy the old world charm\, excellent food\, and a terrific variety of tunes from Gotcha Covered!
URL:https://ilovebabylon.com/event/gotcha-covered-sundays-at-the-village-lanterne-13/
LOCATION:The Village Lanterne Restaurant\, The Village Lanterne Restaurant
CATEGORIES:Concert,Food & Drink,Live Music
END:VEVENT
BEGIN:VEVENT
DTSTART;TZID=America/New_York:20251019T140000
DTEND;TZID=America/New_York:20251019T160000
DTSTAMP:20260419T150058
CREATED:20251004T145645Z
LAST-MODIFIED:20251004T145645Z
UID:10006884-1760882400-1760889600@ilovebabylon.com
SUMMARY:Brew & Boogie Bash!
DESCRIPTION:Join Luna & Co. Soapery for a fun and spooky afternoon at the Brew & Boogie Bash! This festive kids’ event invites little ghouls and witches to make their own magical potion\, enjoy tasty treats\, and snap a pic and sing songs with The Nightmare Rag Doll (Sally)! It’s the perfect pre-Halloween celebration for families looking for a safe and magical experience. \n🎃Brew\, boogie\, & make some magic! 🧪  \nJoin us Oct 19 | 2–4 PM \n✨ticket includes 🧪potion making🍬tasty treats🎶📸sing\, dance & snap a pic w| The nightmare ragdoll\, Sally! @timelesstalesentertainment  \n🎟️ $45 per child | $40 each additional sibling \nTickets available now on LunaCoSoap.com
URL:https://ilovebabylon.com/event/brew-boogie-bash/
LOCATION:29 deer park Ave Babylon NY\, 29 deer park Ave Babylon NY
CATEGORIES:Arts and Crafts,Community,Entertainment,Halloween,Social Events
ATTACH;FMTTYPE=image/jpeg:https://ilovebabylon.com/wp-content/uploads/2025/10/brewboogie.jpg
END:VEVENT
BEGIN:VEVENT
DTSTART;TZID=America/New_York:20251019T130000
DTEND;TZID=America/New_York:20251019T160000
DTSTAMP:20260419T150058
CREATED:20251004T143438Z
LAST-MODIFIED:20251004T143438Z
UID:10006883-1760878800-1760889600@ilovebabylon.com
SUMMARY:Lorcana - Fabled Set Championship
DESCRIPTION:Check-In: 12:00PMRound 1: 1:00PMEntry: 30.00 \nBest of 3 Format\, this event will be run on the Ravensburger Play Hub. \nConstructed format. All players will be required to submit a DECKLIST* before the start of Round 1. This event will be treated as a competitive REL event! \nSpace is limited to 32 Players with Swiss Rounds based on attendance. Swiss rounds are 3-game format 55 minute rounds. A top Cut of 4 or 8 will follow attendance based on the guidelines set by Ravensburger. Top cut will be Best of Three Format. \n*Decklists should be emailed to Events@ripnshiparena.com and should be a list of the cards. Please do not send pictures of your deck in any format.
URL:https://ilovebabylon.com/event/lorcana-fabled-set-championship/
LOCATION:1883-B Deer Park Avenue\, Deer Park\, NY\, United States\, New York 11729\, 1883-B Deer Park Avenue\, Deer Park\, NY\, United States\, New York 11729
CATEGORIES:Gaming & Hobbies
END:VEVENT
BEGIN:VEVENT
DTSTART;TZID=America/New_York:20251019T120000
DTEND;TZID=America/New_York:20251019T150000
DTSTAMP:20260419T150058
CREATED:20251003T011755Z
LAST-MODIFIED:20251003T011755Z
UID:10006882-1760875200-1760886000@ilovebabylon.com
SUMMARY:Fall Festival at Henry Kaufmann Campgrounds
DESCRIPTION:Join Island Quest Day Camp for our for Fall Fest on Sunday\, October 19th from 12-3:30pm at the Henry Kaufmann Campgrounds (75 Colonial Springs Road\, Wheatley Heights\, NY) \nYou’ll get to make fun fall crafts\, go through our pumpkin patch\, participate in camp activities\, take photos and more!Come meet new friends\, see familiar faces\, and tour the campgrounds.Please RSVP by October 13th to assist us in making sure we have a fun and safe day at camp! \nPlease keep in mind that our rain date is on 10/26. \nRSVP at https://docs.google.com/forms/d/e/1FAIpQLSf6cRadbXMQ5B3eTGSBxWyATl4C24Kw4XFNbAWFXl2SZERvXw/viewform
URL:https://ilovebabylon.com/event/fall-festival-at-henry-kaufmann-campgrounds/
LOCATION:75 Colonial Springs Road\, Wheatley Heights\, NY\, United States\, New York 11798\, 75 Colonial Springs Road\, Wheatley Heights\, NY\, United States\, New York 11798
CATEGORIES:Arts and Crafts,Fairs and Festivals
END:VEVENT
BEGIN:VEVENT
DTSTART;TZID=America/New_York:20251019T100000
DTEND;TZID=America/New_York:20251019T170000
DTSTAMP:20260419T150058
CREATED:20251003T011752Z
LAST-MODIFIED:20251003T011752Z
UID:10006881-1760868000-1760893200@ilovebabylon.com
SUMMARY:INDOOR SIP & SHOP CRAFT FAIR hosted by American Legion Auxiliary
DESCRIPTION:Come one come all. The Auxiliary is hosting an indoor craft fair. You won’t want to miss this one. We have tons of vendors. It’ll be a fun experience for all!
URL:https://ilovebabylon.com/event/indoor-sip-shop-craft-fair-hosted-by-american-legion-auxiliary/
LOCATION:22 Grove Pl\, Babylon\, NY 11702-2706\, United States\, 22 Grove Pl\, Babylon\, NY 11702-2706\, United States
CATEGORIES:Arts and Crafts,Fairs and Festivals
END:VEVENT
BEGIN:VEVENT
DTSTART;TZID=America/New_York:20251019T100000
DTEND;TZID=America/New_York:20251019T170000
DTSTAMP:20260419T150058
CREATED:20250821T200137Z
LAST-MODIFIED:20260302T140220Z
UID:10006288-1760868000-1760893200@ilovebabylon.com
SUMMARY:Indoor Craft Fair
DESCRIPTION:Come shop local and handmade goods at the Indoor Craft Fair\, hosted by the American Legion Auxiliary in Babylon. This event is perfect for finding unique items\, supporting local vendors\, and enjoying a day of community fun. Vendors are welcome to register for tables of various sizes. Bring your family and friends to explore arts\, crafts\, and more at this lively fair!
URL:https://ilovebabylon.com/event/indoor-craft-fair/
CATEGORIES:Arts and Crafts,Community,Entertainment,Fairs and Festivals
ATTACH;FMTTYPE=image/jpeg:https://ilovebabylon.com/wp-content/uploads/2025/08/craft-fair1.jpg
END:VEVENT
BEGIN:VEVENT
DTSTART;TZID=America/New_York:20251018T110000
DTEND;TZID=America/New_York:20251025T190000
DTSTAMP:20260419T150058
CREATED:20250821T193537Z
LAST-MODIFIED:20250821T193537Z
UID:10006269-1760785200-1761418800@ilovebabylon.com
SUMMARY:Haunted Shed
DESCRIPTION:Dare to enter the Haunted Shed at Tuff Shed in Lindenhurst! Running from October 18 to 25\, this spine-chilling indoor experience features live scary characters\, free candy\, and photo opportunities—all for free! Perfect for thrill-seekers and families looking for some frightful fun this Halloween season.
URL:https://ilovebabylon.com/event/haunted-shed/
CATEGORIES:Community,Entertainment,Holiday,Recreation & Amusements
ATTACH;FMTTYPE=image/jpeg:https://ilovebabylon.com/wp-content/uploads/2025/08/hauted-shed.jpg
END:VEVENT
BEGIN:VEVENT
DTSTART;TZID=America/New_York:20251001T000000
DTEND;TZID=America/New_York:20251020T000000
DTSTAMP:20260419T150058
CREATED:20250821T204411Z
LAST-MODIFIED:20250821T204411Z
UID:10006293-1759276800-1760918400@ilovebabylon.com
SUMMARY:Literary Pumpkin Decorating Contest
DESCRIPTION:Families are invited to participate in a fun contest by decorating pumpkins to look like their favorite literary characters. Pumpkins must be returned by October 20 for a chance to win.
URL:https://ilovebabylon.com/event/literary-pumpkin-decorating-contest/
CATEGORIES:Arts and Crafts,Community,Cultural Events
ATTACH;FMTTYPE=image/jpeg:https://ilovebabylon.com/wp-content/uploads/2025/08/babylon-library-childrens-room.jpg
END:VEVENT
END:VCALENDAR