BEGIN:VCALENDAR
VERSION:2.0
PRODID:-//I Love Babylon, NY - ECPv6.15.20//NONSGML v1.0//EN
CALSCALE:GREGORIAN
METHOD:PUBLISH
X-ORIGINAL-URL:https://ilovebabylon.com
X-WR-CALDESC:Events for I Love Babylon, NY
REFRESH-INTERVAL;VALUE=DURATION:PT1H
X-Robots-Tag:noindex
X-PUBLISHED-TTL:PT1H
BEGIN:VTIMEZONE
TZID:America/New_York
BEGIN:DAYLIGHT
TZOFFSETFROM:-0500
TZOFFSETTO:-0400
TZNAME:EDT
DTSTART:20240310T070000
END:DAYLIGHT
BEGIN:STANDARD
TZOFFSETFROM:-0400
TZOFFSETTO:-0500
TZNAME:EST
DTSTART:20241103T060000
END:STANDARD
BEGIN:DAYLIGHT
TZOFFSETFROM:-0500
TZOFFSETTO:-0400
TZNAME:EDT
DTSTART:20250309T070000
END:DAYLIGHT
BEGIN:STANDARD
TZOFFSETFROM:-0400
TZOFFSETTO:-0500
TZNAME:EST
DTSTART:20251102T060000
END:STANDARD
BEGIN:DAYLIGHT
TZOFFSETFROM:-0500
TZOFFSETTO:-0400
TZNAME:EDT
DTSTART:20260308T070000
END:DAYLIGHT
BEGIN:STANDARD
TZOFFSETFROM:-0400
TZOFFSETTO:-0500
TZNAME:EST
DTSTART:20261101T060000
END:STANDARD
END:VTIMEZONE
BEGIN:VEVENT
DTSTART;TZID=America/New_York:20251206T190000
DTEND;TZID=America/New_York:20251206T220000
DTSTAMP:20260419T194042
CREATED:20251205T195920Z
LAST-MODIFIED:20251205T195920Z
UID:10007236-1765047600-1765058400@ilovebabylon.com
SUMMARY:County Line performs at the LICMA Dance in Deer Park
DESCRIPTION:Join County Line for their Annual Holiday Dance at LICMA. \nAll dances are open to those 18 and over\, 15-17 if accompanied by adult – singles & couples. \nWe suggest neat casual attire (Western or not) and leather-soled or dance shoes or boots. \nDoors open at 6:30 PM.Band starts at 7:00 PM. \nAdmission: $15.00
URL:https://ilovebabylon.com/event/county-line-performs-at-the-licma-dance-in-deer-park/
LOCATION:2075 Deer Park Ave\, Deer Park\, NY 11729-2120\, United States\, 2075 Deer Park Ave\, Deer Park\, NY 11729-2120\, United States
END:VEVENT
BEGIN:VEVENT
DTSTART;TZID=America/New_York:20251206T190000
DTEND;TZID=America/New_York:20251206T213000
DTSTAMP:20260419T194042
CREATED:20251205T125743Z
LAST-MODIFIED:20251205T125743Z
UID:10007088-1765047600-1765056600@ilovebabylon.com
SUMMARY:Mystic at The Warehouse!
DESCRIPTION:Always a great time at The Warehouse in Amityville! Let’s kick off the holidays the right way! #themysticband
URL:https://ilovebabylon.com/event/mystic-at-the-warehouse/
LOCATION:The Warehouse Live Music & Events\, The Warehouse Live Music & Events
CATEGORIES:Live Music
END:VEVENT
BEGIN:VEVENT
DTSTART;TZID=America/New_York:20251206T190000
DTEND;TZID=America/New_York:20251206T220000
DTSTAMP:20260419T194042
CREATED:20251205T125741Z
LAST-MODIFIED:20251205T125741Z
UID:10007091-1765047600-1765058400@ilovebabylon.com
SUMMARY:Chaotica\, Westnyle\, & Anesthesia at Whiskey Rocks
DESCRIPTION:3 Local Powerhouses Collide For An All Night Metal Fest!
URL:https://ilovebabylon.com/event/chaotica-westnyle-anesthesia-at-whiskey-rocks/
LOCATION:Sinclairs Pub\, 419 Great East Neck Rd\, West Babylon\, NY\, 11704\, US
CATEGORIES:Live Music
END:VEVENT
BEGIN:VEVENT
DTSTART;TZID=America/New_York:20251206T190000
DTEND;TZID=America/New_York:20251206T220000
DTSTAMP:20260419T194042
CREATED:20251205T125847Z
LAST-MODIFIED:20251205T125847Z
UID:10007092-1765047600-1765058400@ilovebabylon.com
SUMMARY:Punk Rock Christmas
DESCRIPTION:Doors 7pm | $10  \nLive Music From:Steve and the Not Steves Sharp Violet Carve A Path No ConditionsGirlfriendz
URL:https://ilovebabylon.com/event/punk-rock-christmas/
LOCATION:Village Pub Lindenhurst\, 174 N Wellwood Ave\, Lindenhurst\, NY\, 11757\, US
CATEGORIES:Concert,Live Music,Music
END:VEVENT
BEGIN:VEVENT
DTSTART;TZID=America/New_York:20251206T190000
DTEND;TZID=America/New_York:20251206T220000
DTSTAMP:20260419T194042
CREATED:20251205T125922Z
LAST-MODIFIED:20251205T125922Z
UID:10007090-1765047600-1765058400@ilovebabylon.com
SUMMARY:LICMA Dance - Saturday\, Dec 6 - Holiday Party with County Line & DJ Lyndy
DESCRIPTION:Join us for our monthly dance at the Constantino Brumidi Lodge Sons of Italy Hall in Deer Park. \nCome dressed in your Holiday Best for photos around the Christmas Tree! \nLive music by County LineDJ and Dance Instruction provided by DJ Lyndy \nDoors open at 6:30 PM. Band starts at 7:00 PM. \nShow your support for country music and dance by renewing your membership “LICMA 2025” on line at LICMA.ORG or at a dance.
URL:https://ilovebabylon.com/event/licma-dance-saturday-dec-6-holiday-party-with-county-line-dj-lyndy/
LOCATION:Constantino Brumidi Lodge\, 2075 Deer Park Ave\, Deer Park\, NY\, 11729\, US
CATEGORIES:Christmas,DJ,Holiday,Music
END:VEVENT
BEGIN:VEVENT
DTSTART;TZID=America/New_York:20251206T200000
DTEND;TZID=America/New_York:20251206T230000
DTSTAMP:20260419T194042
CREATED:20251205T195918Z
LAST-MODIFIED:20251205T195918Z
UID:10007237-1765051200-1765062000@ilovebabylon.com
SUMMARY:90 Below Kicks Off the Holidays at Riptides in Lindenhurst!
DESCRIPTION:90 Below returns to our favorite Lindenhurst location – Riptides – for our last show of the year. Come out\, bring your friends and families\, and enjoy some great rock and roll. Take a break from the holiday shopping craziness – rest your fingers from the mouse and stuff your gullet with great food and great drinks! Family friendly as well. \nShowtime’s at 8PM. Free admission. Don’t forget to tip your bartender/wait staff. \nHope to see you there!
URL:https://ilovebabylon.com/event/90-below-kicks-off-the-holidays-at-riptides-in-lindenhurst/
LOCATION:RipTides Cocktails and Grill\, 168 East Montauk Highway\, Lindenhurst\, NY\, 11757\, US
END:VEVENT
BEGIN:VEVENT
DTSTART;TZID=America/New_York:20251206T200000
DTEND;TZID=America/New_York:20251206T235900
DTSTAMP:20260419T194042
CREATED:20251205T125845Z
LAST-MODIFIED:20251205T125845Z
UID:10007093-1765051200-1765065540@ilovebabylon.com
SUMMARY:Terror Garden: LIVE @ Bartini Bar -- Babylon (FINAL gig of 2025)
DESCRIPTION:Our FINAL gig of 2025\, with an awesome lineup to close out in style!! \n0730PM DOORSAGES 21+$10 COVER \n* 08pm: J. Rosado & The Rapid Transit Band** 09PM: TERROR GARDEN* 10pm: Crackhead Mafia \nSee pinned post about our latest merch. Come on down to support ORIGINAL music and ROCK Bartini’s m/ \nREVERBNATION LINK: https://www.reverbnation.com/show/26369492 \nDIRECTIONS————–* CAR: SS Pkwy (Exit 39S – Route 231)\, immediately stay right at fork for Deer Park Avenue. Once near Sunrise Highway (route 27)\, make a right on Park Avenue. Finally\, a left on N. Carll Avenue (venue on right)* LIRR: Pretty much right at the Babylon station (Babylon line – http://lirr42.mta.info).————————-Paul Terror – VocalsGee – DrumsMike de Gruchy – GuitarEd Pallotta – GuitarWild Bill Sherman – Bass \nLINKTR.EE/TERRORGARDENBAND
URL:https://ilovebabylon.com/event/terror-garden-live-bartini-bar-babylon-final-gig-of-2025/
LOCATION:Bartini Bar\, 124 N Carll Ave\, Babylon\, NY\, 11702\, US
CATEGORIES:Concert,Live Music,Music
END:VEVENT
BEGIN:VEVENT
DTSTART;TZID=America/New_York:20251206T210000
DTEND;TZID=America/New_York:20251207T020000
DTSTAMP:20260419T194042
CREATED:20251205T195915Z
LAST-MODIFIED:20251205T195915Z
UID:10007238-1765054800-1765072800@ilovebabylon.com
SUMMARY:Music with DJ Ceez (Formerly DJ Los)
DESCRIPTION:Saturday’s shaping up to be a big one at Belfast. \nThe Roche Brothers kick things off from 6–9PM\, bringing the energy and setting the tone for the night.  \nAfter that\, DJ Ceez (Formerly Los) steps in to keep the momentum going straight through until 2AM. \nIf you’re looking for the spot to be this Saturday\, you just found it.
URL:https://ilovebabylon.com/event/music-with-dj-ceez-formerly-dj-los/
LOCATION:101 North Wellwood Avenue\, Lindenhurst\, NY\, United States\, New York 11757\, 101 North Wellwood Avenue\, Lindenhurst\, NY\, United States\, New York 11757
ORGANIZER;CN="Belfast Gastropub":MAILTO:noreply@facebookmail.com
END:VEVENT
BEGIN:VEVENT
DTSTART;TZID=America/New_York:20251206T220000
DTEND;TZID=America/New_York:20251207T010000
DTSTAMP:20260419T194042
CREATED:20251205T195912Z
LAST-MODIFIED:20251205T195912Z
UID:10007239-1765058400-1765069200@ilovebabylon.com
SUMMARY:Pour Some 80's On Me at The Warehouse!
DESCRIPTION:🎸🕺 This Saturday Night! 🕺🎸Pour Some 80’s On Me is bringing all your favorite 1980s rock and pop hits to The Warehouse this Saturday at 10 PM! Break out the neon\, tease up the hair\, and get ready for a high-energy night packed with the biggest anthems of the decade. \n✨ Bonus! Come early and catch The Mystic before we hit the stage — you don’t want to miss them! \nLet’s party like it’s 1985! 🤘🔥
URL:https://ilovebabylon.com/event/pour-some-80s-on-me-at-the-warehouse/
LOCATION:The Warehouse Live Music & Events\, The Warehouse Live Music & Events
END:VEVENT
BEGIN:VEVENT
DTSTART;TZID=America/New_York:20251207T084500
DTEND;TZID=America/New_York:20251207T110000
DTSTAMP:20260419T194042
CREATED:20251205T195909Z
LAST-MODIFIED:20251205T195909Z
UID:10007240-1765097100-1765105200@ilovebabylon.com
SUMMARY:Sunday Runday - North Babylon
DESCRIPTION:North Babylon\, we’re pulling up with energy\, intention\, and community. Meet us at Belmont Lake State Park for good vibes\, fresh air\, and movement that starts from the inside out. \nWe are not just a run club\, we are community.  \nRSVP at InsideOutRunClub.com.
URL:https://ilovebabylon.com/event/sunday-runday-north-babylon-2/
LOCATION:Belmont Lake State Park\, 625 Belmont Ave\, Babylon\, NY\, 11704\, US
END:VEVENT
BEGIN:VEVENT
DTSTART;TZID=America/New_York:20251207T110000
DTEND;TZID=America/New_York:20251207T120000
DTSTAMP:20260419T194042
CREATED:20251205T195907Z
LAST-MODIFIED:20251205T195907Z
UID:10007241-1765105200-1765108800@ilovebabylon.com
SUMMARY:Campus Tour
DESCRIPTION:11:00 a.m. TOUR SLOTS NOW FULL.  \nGo Here to Schedule a Tour https://www.usdan.org/visit/campus-tours \nWHAT: A personalized walking tour of Usdan Summer Camp for the Arts\, a premier summer program for young artists studying Theater\, Music\, Visual Art\, Dance\, Creative Writing\, Nature\, or Chess. \nWHO IS IT FOR: Families with kids in grades K-12 \nLENGTH: 45-60 minutes \nCOST: FREE! \nhttps://www.facebook.com/events/851496910710965/?event_time_id=854334650427191
URL:https://ilovebabylon.com/event/campus-tour/
LOCATION:185 Colonial Springs Road\, Wheatley Heights\, NY\, United States\, New York 11798\, 185 Colonial Springs Road\, Wheatley Heights\, NY\, United States\, New York 11798
END:VEVENT
BEGIN:VEVENT
DTSTART;TZID=America/New_York:20251207T110000
DTEND;TZID=America/New_York:20251207T210000
DTSTAMP:20260419T194042
CREATED:20251205T125855Z
LAST-MODIFIED:20251205T125855Z
UID:10007095-1765105200-1765141200@ilovebabylon.com
SUMMARY:NYS 16+2 Concealed Carry and NRA Basic Pistol Course
DESCRIPTION:Our December NYS 16+2 Concealed Carry and NRA Basic Pistol Course dates are now open for registration. Call\, text\, email or DM us for more information and to register.  \nhttps://tprtraining.com/
URL:https://ilovebabylon.com/event/nys-162-concealed-carry-and-nra-basic-pistol-course/
LOCATION:TPR Training\, TPR Training
CATEGORIES:Classes,Presentation,Workshop
END:VEVENT
BEGIN:VEVENT
DTSTART;TZID=America/New_York:20251207T120000
DTEND;TZID=America/New_York:20251207T120000
DTSTAMP:20260419T194042
CREATED:20251201T231117Z
LAST-MODIFIED:20251201T231117Z
UID:10007196-1765108800-1765108800@ilovebabylon.com
SUMMARY:Winter on Wellwood
DESCRIPTION:Celebrate the season at Winter on Wellwood in Lindenhurst Village Square! Enjoy an afternoon filled with Santa in the Park\, free carousel rides\, photos with Santa\, and a lively Christmas Kindl Market. Stay for entertainment from local groups\, followed by the festive holiday parade and tree lighting ceremony led by 2025 Tree Lighter Presiding Officer Kevin J. McCaffrey. A joyful community celebration perfect for families and holiday lovers of all ages.
URL:https://ilovebabylon.com/event/winter-on-wellwood-2/
LOCATION:Lindenhurst Village Square\, 102 N Wellwood Ave\, Lindenhurst\, NY\, 11757\, US
CATEGORIES:Community,Entertainment,Fairs and Festivals,Holiday
ATTACH;FMTTYPE=image/jpeg:https://ilovebabylon.com/wp-content/uploads/2025/12/raindate.jpg
END:VEVENT
BEGIN:VEVENT
DTSTART;TZID=America/New_York:20251207T130000
DTEND;TZID=America/New_York:20251207T170000
DTSTAMP:20260419T194042
CREATED:20251205T125911Z
LAST-MODIFIED:20251205T125911Z
UID:10007096-1765112400-1765126800@ilovebabylon.com
SUMMARY:Have your Dog MEET SANTA at Maximum Canine in Deer Park!
DESCRIPTION:Santa is coming to Maximum Canine and your pups are on the nice list!Join us on Sunday\, December 7th from 1PM–5PM at 1011 Grand Blvd in Deer Park for our Meet Santa holiday event — only $10 per pet. \nHere’s what’s waiting for you:• A festive holiday photo with Santa (printed to take home)• An Anita’s Pure Nutrition tasting bar • 10% off in-store purchases (excluding training)• A free raffle entry just for attending \nSpots are limited — please book one time slot per dog you’re bringing.Let’s kick off the season the Maximum Canine way! 🎅🐾
URL:https://ilovebabylon.com/event/have-your-dog-meet-santa-at-maximum-canine-in-deer-park/
LOCATION:1011 Grand Blvd\, 11729\, 1011 Grand Blvd\, 11729
CATEGORIES:Christmas,Holiday,Live Appearances,Pets
END:VEVENT
BEGIN:VEVENT
DTSTART;TZID=America/New_York:20251207T130000
DTEND;TZID=America/New_York:20251207T180000
DTSTAMP:20260419T194042
CREATED:20251201T231112Z
LAST-MODIFIED:20251201T233835Z
UID:10007197-1765112400-1765130400@ilovebabylon.com
SUMMARY:Strike Ten Lanes Christmas Party Extravaganza
DESCRIPTION:Celebrate the season at the Strike Ten Lanes Christmas Party in Deer Park! Enjoy a fun-filled afternoon featuring meet-and-greets with Santa’s elves\, a visit from the Grinch\, and free photos with Mr. and Mrs. Claus. Guests can take advantage of professional photography and discounted bowling\, making this a perfect holiday outing for families and children of all ages. \n🎄 🎅 Holiday Party Extravaganza! 🎅 🎄\nHosted by Realty Direct NY Autism Foundation \n📅 Date: Sunday\, December 7\, 2025\n🕐 Time: 1:00 PM – 6:00 PM\n📍 Location: 849 Long Island Ave\nDeer Park\, NY \n✨ Don’t miss out on this beautiful family event! ✨\nEnjoy a day full of holiday cheer and fun for all ages:\n🎁 FREE Pictures with Mr. & Mrs. Claus (Professional Photographer!)\n🎳 Discounted Bowling\n🍭 Free Treats: Cotton Candy\, Popcorn\, Cookies & Hot Chocolate\n🎅 Meet Santa\, His Elves\, and The Grinch!\n🎶 Music\, laughter\, and holiday magic all afternoon! \n❤️ Come celebrate the season and support a great cause! \nRealty Direct NY | Autism Foundation\n📞 516-805-5279 | 🌐 RealtyDirectNY.com
URL:https://ilovebabylon.com/event/strike-ten-lanes-christmas-party-2/
CATEGORIES:Community,Entertainment,Holiday,Social Events
ATTACH;FMTTYPE=image/jpeg:https://ilovebabylon.com/wp-content/uploads/2025/12/2025-11-29-16.36.48.jpg
END:VEVENT
BEGIN:VEVENT
DTSTART;TZID=America/New_York:20251207T140000
DTEND;TZID=America/New_York:20251207T160000
DTSTAMP:20260419T194042
CREATED:20251205T125814Z
LAST-MODIFIED:20251205T125814Z
UID:10007098-1765116000-1765123200@ilovebabylon.com
SUMMARY:Silver Chords Chorus presents "Season of Peace"
DESCRIPTION:Ring in the Holiday season with some music that celebrates peace and brotherhood for the world. Music by Handel\, Pentatonix\, Frank Sinatra\, John Denver and many others.  \nPremier Basket raffle.
URL:https://ilovebabylon.com/event/silver-chords-chorus-presents-season-of-peace/
LOCATION:Tanner Park Senior Center\, 2 Bay Lawn Avenue\, Copiague\, NY\, 11726\, US
CATEGORIES:Holiday,Music
END:VEVENT
BEGIN:VEVENT
DTSTART;TZID=America/New_York:20251207T150000
DTEND;TZID=America/New_York:20251207T170000
DTSTAMP:20260419T194042
CREATED:20251205T125858Z
LAST-MODIFIED:20251205T125858Z
UID:10007099-1765119600-1765126800@ilovebabylon.com
SUMMARY:Holiday Tree Lighting Wassail Bowl
DESCRIPTION:Wassail is a beverage made from hotmulled cider\, ale\, or wine and spices\, drunktraditionally as an integral part ofwassailing\, an ancient English Yuletidedrinking ritual and salutation eitherinvolved in door-to-door charity-giving orused to ensure a good harvest thefollowing year.
URL:https://ilovebabylon.com/event/holiday-tree-lighting-wassail-bowl/
LOCATION:Village of Babylon Historical & Preservation Society
CATEGORIES:Christmas,Holiday,Tree Lighting
ORGANIZER;CN="Village of Babylon Historical & Preservation Society":MAILTO:noreply@facebookmail.com
END:VEVENT
BEGIN:VEVENT
DTSTART;TZID=America/New_York:20251207T160000
DTEND;TZID=America/New_York:20251207T160000
DTSTAMP:20260419T194042
CREATED:20251201T231447Z
LAST-MODIFIED:20251201T231447Z
UID:10007205-1765123200-1765123200@ilovebabylon.com
SUMMARY:Babylon Village Annual Tree Lighting
DESCRIPTION:Enjoy a festive afternoon at the Babylon Village Annual Tree Lighting\, featuring cozy bonfire s’mores\, hot cocoa with marshmallows sponsored by the Babylon Beautification Society\, and performances by the Babylon Choir and The Argyle Theatre. Santa Claus will make a special appearance with the Babylon Fire Department\, making this a perfect holiday outing for families and neighbors alike.
URL:https://ilovebabylon.com/event/babylon-village-annual-tree-lighting/
LOCATION:Argyle Park
CATEGORIES:Community,Entertainment,Holiday
ATTACH;FMTTYPE=image/jpeg:https://ilovebabylon.com/wp-content/uploads/2025/12/2025-babylonvillage-tree-lighting.jpg
END:VEVENT
BEGIN:VEVENT
DTSTART;TZID=America/New_York:20251207T160000
DTEND;TZID=America/New_York:20251207T180000
DTSTAMP:20260419T194042
CREATED:20251205T195849Z
LAST-MODIFIED:20251205T195849Z
UID:10007245-1765123200-1765130400@ilovebabylon.com
SUMMARY:Babylon Village Historical Society Annual Wassail Bowl
DESCRIPTION:After the Village Tree Lighting\, stop down to the Village of Babylon Historical and Preservation Society for another wonderful Village tradition…The Annual Wassail Bowl! Enjoy time with friends and Village residents in toasting to good health and happiness! This event is free and all are invited to attend.
URL:https://ilovebabylon.com/event/babylon-village-historical-society-annual-wassail-bowl/
LOCATION:Village of Babylon Historical & Preservation Society
END:VEVENT
BEGIN:VEVENT
DTSTART;TZID=America/New_York:20251207T160000
DTEND;TZID=America/New_York:20251207T170000
DTSTAMP:20260419T194042
CREATED:20251205T195858Z
LAST-MODIFIED:20251205T195858Z
UID:10007244-1765123200-1765126800@ilovebabylon.com
SUMMARY:Village of Babylon  "Annual Hallmark Christmas Tree Lighting"
DESCRIPTION:Join us for the Annual Village Tree Lighting in Argyle Park! This year we celebrate a “new lighting makeover” on our Village Christmas tree.As we countdown to the lighting of the tree\, enjoy plenty of holiday music\, delicious s’mores\, hot cocoa and a cozy bonfire!  \nThere will a performance by the Argyle Theatre\, holiday music by the Babylon Choir and then it’s Santa Claus stopping by Argyle Park for all the children to enjoy! This event is free and open to the public…truly a Hallmark Christmas Tree Lighting in Babylon Village! Looking forward to seeing everyone there!
URL:https://ilovebabylon.com/event/village-of-babylon-annual-hallmark-christmas-tree-lighting/
LOCATION:Argyle Park\, Babylon Village\, Argyle Park\, Babylon Village
END:VEVENT
BEGIN:VEVENT
DTSTART;TZID=America/New_York:20251207T170000
DTEND;TZID=America/New_York:20251207T183000
DTSTAMP:20260419T194042
CREATED:20251205T125837Z
LAST-MODIFIED:20251205T125837Z
UID:10007100-1765126800-1765132200@ilovebabylon.com
SUMMARY:Restorative Yoga Mini Retreat
DESCRIPTION:Join us for a deeply nourishing Restorative Yoga and Sound Healing Mini Retreat\, where supported postures invite your body into complete rest while the soothing vibrations of crystal singing bowls\, sacred mantras\, Native American drums\, flow chimes\, and other instruments wash over you\, calming the mind and awakening the parasympathetic nervous system to restore balance and peace \nPlease wear cozy clothing and bring a blanket\, head pillow\, and eye bolster if you have them\, and allow yourself this gift of stillness and renewal.Cost: $45 Early Special  \nThere are no refunds available for this event.
URL:https://ilovebabylon.com/event/restorative-yoga-mini-retreat/
LOCATION:180 Great East Neck Rd\, West Babylon\, NY\, United States\, New York 11704\, 180 Great East Neck Rd\, West Babylon\, NY\, United States\, New York 11704
CATEGORIES:Fitness,Health and Wellness,Yoga
END:VEVENT
BEGIN:VEVENT
DTSTART;TZID=America/New_York:20251207T170000
DTEND;TZID=America/New_York:20251207T200000
DTSTAMP:20260419T194042
CREATED:20251205T125739Z
LAST-MODIFIED:20251205T125739Z
UID:10007101-1765126800-1765137600@ilovebabylon.com
SUMMARY:Gotcha Covered Sundays at The Village Lanterne!
DESCRIPTION:Gotcha Covered continues its’ MOST SUNDAYS residency at The Village Lanterne!I hope you come out to this lovely German restaurant and enjoy the old world charm\, excellent food\, and a terrific variety of tunes from Gotcha Covered!
URL:https://ilovebabylon.com/event/gotcha-covered-sundays-at-the-village-lanterne-2/
LOCATION:The Village Lanterne Restaurant\, The Village Lanterne Restaurant
CATEGORIES:Live Music
END:VEVENT
BEGIN:VEVENT
DTSTART;TZID=America/New_York:20251207T180000
DTEND;TZID=America/New_York:20251207T210000
DTSTAMP:20260419T194042
CREATED:20251205T125800Z
LAST-MODIFIED:20251205T125800Z
UID:10007103-1765130400-1765141200@ilovebabylon.com
SUMMARY:SUNDAY FUNDAY KARAOKE
DESCRIPTION:GET READY FOR A FUN FILLED NIGHT of great food amazing cocktails and good vibes. FOR TABLE RESERVATIONS CALL 631-450-4692
URL:https://ilovebabylon.com/event/sunday-funday-karaoke/
LOCATION:143 N Wellwood Avenue\, Lindenhurst\, NY\, 143 N Wellwood Avenue\, Lindenhurst\, NY
CATEGORIES:Karaoke,Music
END:VEVENT
BEGIN:VEVENT
DTSTART;TZID=America/New_York:20251207T180000
DTEND;TZID=America/New_York:20251207T210000
DTSTAMP:20260419T194042
CREATED:20251205T125816Z
LAST-MODIFIED:20251205T125816Z
UID:10007102-1765130400-1765141200@ilovebabylon.com
SUMMARY:Huntington SDA Church GALA
DESCRIPTION:Join us for an unforgettable night at our Church Gala: An Evening of Elegance! Dress to impress and come enjoy a wonderful evening filled with fellowship\, food\, and fun. Let’s come together as a community and celebrate in style! \n📅 Date: Sunday\, December 7⏰ Time: 6:00 PM – 10:00 PM📍 Location: Constantino Brumidi Lodge2075 Deer Park Ave\, Deer Park\, NY 11729 \n🎟️ Tickets: $30 per person \nInvite your friends and family—everyone is welcome!Get your tickets today and let’s make this a night to remember. ✨ \n#ChurchGala #EveningOfElegance #HuntingtonChurch #CommunityEvent #DressToImpress
URL:https://ilovebabylon.com/event/huntington-sda-church-gala/
LOCATION:2075 Deer Park Ave\, Deer Park\, NY 11729-2120\, United States\, 2075 Deer Park Ave\, Deer Park\, NY 11729-2120\, United States
CATEGORIES:Holiday Parties,Social Events
END:VEVENT
BEGIN:VEVENT
DTSTART;TZID=America/New_York:20251208T104000
DTEND;TZID=America/New_York:20251208T113000
DTSTAMP:20260419T194042
CREATED:20251205T125835Z
LAST-MODIFIED:20251205T125835Z
UID:10007104-1765190400-1765193400@ilovebabylon.com
SUMMARY:Breathwork & Soundbath every Monday morning
DESCRIPTION:Join Jenna and Denise for our Monday Morning Breathwork & Sound Bath 10:40-11:30am—a gentle yet powerful reset for mind\, body\, and spirit. This calming session begins with guided breathwork to help release tension\, ground your energy\, and create space for clarity and focus. As your breath settles\, you’ll be immersed in the soothing tones of crystal singing bowls\, chimes\, and gentle frequencies\, designed to realign your energy and promote deep relaxation. Start your week feeling refreshed\, centered\, and ready to move through your days with greater ease and presence. Please bring a yoga mat and wear comfortable clothing. No experience is required. Included in yoga studio membership or non members by donation\, pay what you’d like.📍Held at Third Season Yoga\, 233 Broadway\, Amityville\, NY \nSign up at Thirdseasonyoga.com \n#aromatherapy #reiki #reikihealing #areikimaster #wellness #wellnessjourney #healing #harmony #selflove #balance #suffolkcounty #nassaucounty #aromatherapy #aroma #selfcare #bekind #bewell #bemindful #monarchnature #selfesteemboost #reikienergy #reikipractitioner #2025 #soundhealing #meditation
URL:https://ilovebabylon.com/event/breathwork-soundbath-every-monday-morning-2/
LOCATION:Third Season Yoga\, Third Season Yoga
CATEGORIES:Fitness,Health and Wellness,Yoga
END:VEVENT
BEGIN:VEVENT
DTSTART;TZID=America/New_York:20251208T183000
DTEND;TZID=America/New_York:20251208T183000
DTSTAMP:20260419T194042
CREATED:20251201T231123Z
LAST-MODIFIED:20251201T231123Z
UID:10007195-1765218600-1765218600@ilovebabylon.com
SUMMARY:Cocktails and Clarity: A Night of Music\, Meditation and Messages
DESCRIPTION:Experience an uplifting evening at “Cocktails and Clarity\,” a night of music\, meditation\, and meaningful messages at The Warehouse in Amityville. Enjoy appearances by gifted psychic mediums\, intuitive healers\, numerologists\, and sound healers\, with optional 15-minute personal readings available for an additional fee. This relaxing and spiritually enriching event is perfect for those seeking guidance\, connection\, and a peaceful night out.
URL:https://ilovebabylon.com/event/cocktails-and-clarity-a-night-of-music-meditation-and-messages/
CATEGORIES:Entertainment,Social Events,Spiritual
ATTACH;FMTTYPE=image/jpeg:https://ilovebabylon.com/wp-content/uploads/2025/12/psychic-night-dec.jpg
END:VEVENT
BEGIN:VEVENT
DTSTART;TZID=America/New_York:20251208T190000
DTEND;TZID=America/New_York:20251208T220000
DTSTAMP:20260419T194042
CREATED:20251205T125958Z
LAST-MODIFIED:20260302T140211Z
UID:10007106-1765220400-1765231200@ilovebabylon.com
SUMMARY:Christmas Wreath Decorating Dinner
DESCRIPTION:Get festive and crafty with us! 🎄💫Our Wreath Decorating Event is happening December 8 at 7 PM. Enjoy a hands-on class\, delicious dinner buffet\, and unlimited wine & winter sangria. A perfect holiday night out! 🍷🌿
URL:https://ilovebabylon.com/event/christmas-wreath-decorating-dinner/
LOCATION:345 Deer Park Ave\, Babylon\, NY\, United States\, New York 11702\, 345 Deer Park Ave\, Babylon\, NY\, United States\, New York 11702
CATEGORIES:Arts and Crafts,Christmas,Food & Drink,Holiday
END:VEVENT
BEGIN:VEVENT
DTSTART;TZID=America/New_York:20251208T193000
DTEND;TZID=America/New_York:20251208T230000
DTSTAMP:20260419T194042
CREATED:20251205T200006Z
LAST-MODIFIED:20251205T200006Z
UID:10007247-1765222200-1765234800@ilovebabylon.com
SUMMARY:SuperShow Tournament
DESCRIPTION:Every MondayEntry: $5.00Registration at 7:00PMRound 1 at 7:30PMFull Credit Prize Pool! \nhttps://www.facebook.com/events/1484388959481342/?event_time_id=1484388976148007
URL:https://ilovebabylon.com/event/supershow-tournament/
LOCATION:1883-B Deer Park Avenue\, Deer Park\, NY\, United States\, New York 11729\, 1883-B Deer Park Avenue\, Deer Park\, NY\, United States\, New York 11729
END:VEVENT
BEGIN:VEVENT
DTSTART;TZID=America/New_York:20251209T120000
DTEND;TZID=America/New_York:20251209T150000
DTSTAMP:20260419T194042
CREATED:20251205T125919Z
LAST-MODIFIED:20251205T125919Z
UID:10007107-1765281600-1765292400@ilovebabylon.com
SUMMARY:Ladies Aid - Christmas Luncheon
DESCRIPTION:Tuesday\, December 9 @ 12pm$15.00 per personRSVP 12/1Grab Bag Secret SantaNew items only$10-15Christmas Carol Sing AlongGuests are welcome
URL:https://ilovebabylon.com/event/ladies-aid-christmas-luncheon/
LOCATION:147 Park Ave\, Amityville\, NY\, 147 Park Ave\, Amityville\, NY
CATEGORIES:Christmas,Food & Drink,Holiday,Live Appearances
END:VEVENT
BEGIN:VEVENT
DTSTART;TZID=America/New_York:20251209T183000
DTEND;TZID=America/New_York:20251209T213000
DTSTAMP:20260419T194042
CREATED:20251205T200001Z
LAST-MODIFIED:20251205T200001Z
UID:10007248-1765305000-1765315800@ilovebabylon.com
SUMMARY:Unwrapping the Holidays: Hidden Histories
DESCRIPTION:Did you know the song Jingle Bells was originally written for Thanksgiving or that the Times Square Ball Drop began as a way for ship captains to tell time? Take a journey through the surprising evolution of holiday traditions with a representative from the Cold Spring Harbor Whaling Museum.
URL:https://ilovebabylon.com/event/unwrapping-the-holidays-hidden-histories/
LOCATION:50 Deauville Blvd\, Copiague\, NY\, United States\, New York 11726\, 50 Deauville Blvd\, Copiague\, NY\, United States\, New York 11726
END:VEVENT
END:VCALENDAR