BEGIN:VCALENDAR
VERSION:2.0
PRODID:-//I Love Babylon, NY - ECPv6.15.20//NONSGML v1.0//EN
CALSCALE:GREGORIAN
METHOD:PUBLISH
X-WR-CALNAME:I Love Babylon, NY
X-ORIGINAL-URL:https://ilovebabylon.com
X-WR-CALDESC:Events for I Love Babylon, NY
REFRESH-INTERVAL;VALUE=DURATION:PT1H
X-Robots-Tag:noindex
X-PUBLISHED-TTL:PT1H
BEGIN:VTIMEZONE
TZID:America/New_York
BEGIN:DAYLIGHT
TZOFFSETFROM:-0500
TZOFFSETTO:-0400
TZNAME:EDT
DTSTART:20250309T070000
END:DAYLIGHT
BEGIN:STANDARD
TZOFFSETFROM:-0400
TZOFFSETTO:-0500
TZNAME:EST
DTSTART:20251102T060000
END:STANDARD
BEGIN:DAYLIGHT
TZOFFSETFROM:-0500
TZOFFSETTO:-0400
TZNAME:EDT
DTSTART:20260308T070000
END:DAYLIGHT
BEGIN:STANDARD
TZOFFSETFROM:-0400
TZOFFSETTO:-0500
TZNAME:EST
DTSTART:20261101T060000
END:STANDARD
BEGIN:DAYLIGHT
TZOFFSETFROM:-0500
TZOFFSETTO:-0400
TZNAME:EDT
DTSTART:20270314T070000
END:DAYLIGHT
BEGIN:STANDARD
TZOFFSETFROM:-0400
TZOFFSETTO:-0500
TZNAME:EST
DTSTART:20271107T060000
END:STANDARD
END:VTIMEZONE
BEGIN:VEVENT
DTSTART;TZID=America/New_York:20260207T200000
DTEND;TZID=America/New_York:20260207T230000
DTSTAMP:20260419T234135
CREATED:20260125T214201Z
LAST-MODIFIED:20260204T180130Z
UID:10007550-1770494400-1770505200@ilovebabylon.com
SUMMARY:ZBTB brings the party to Lily's in Babylon NY
DESCRIPTION:The ZBTB Boys are coming to party at Lily’s Babylon 2-7-25! \nFounded in 2012\, ZBTB is the premier tribute to the chart-topping Zac Brown Band. With 15 number-one singles and three GRAMMY wins\, the Zac Brown Band is one of the hottest names in the music business and ZBTB was the first and is still the most authentic tribute to their recorded music and live show in the world. Not only does ZBTB capture the sound and creativity of the Zac Brown Band but they bring a similar atmosphere of family to their shows while engaging the audience in a way that is all their own. \n​From the Zac Brown Band’s 2008 breakout hit “Chicken Fried” to the recent sing-along anthem “Same Boat” and “Tie Up”\, ZBTB plays all the hits any country fan knows and loves. In concert\, the Zac Brown Band is well known for their renditions of a diverse set of covers\, and ZBTB follows suit. With classics like “Enter Sandman” and “Ants Marching”\, as well as\, modern hits like “Baba O’Riley” and “Devil Went Down to Georgia” regularly in their set\, there’s something for everyone at a ZBTB show.
URL:https://ilovebabylon.com/event/zbtb-brings-the-party-to-lilys-in-babylon-ny/
LOCATION:Lily’s Babylon\, 345 Deer Park Ave\, Babylon\, NY\, 11702\, US
END:VEVENT
BEGIN:VEVENT
DTSTART;TZID=America/New_York:20260207T200000
DTEND;TZID=America/New_York:20260207T230000
DTSTAMP:20260419T234135
CREATED:20260125T214038Z
LAST-MODIFIED:20260204T180134Z
UID:10007539-1770494400-1770505200@ilovebabylon.com
SUMMARY:Gotta Wanna at Riptides
DESCRIPTION:Join us to celebrate our bass player Steve for his birthday!
URL:https://ilovebabylon.com/event/gotta-wanna-at-riptides-2/
LOCATION:RipTides Cocktails and Grill\, 168 East Montauk Highway\, Lindenhurst\, NY\, 11757\, US
END:VEVENT
BEGIN:VEVENT
DTSTART;TZID=America/New_York:20260207T193000
DTEND;TZID=America/New_York:20260207T230000
DTSTAMP:20260419T234135
CREATED:20260125T214159Z
LAST-MODIFIED:20260204T180126Z
UID:10007549-1770492600-1770505200@ilovebabylon.com
SUMMARY:The Time Travelers Rock Village Pub!
DESCRIPTION:Check us out at the Village Pub for a great night of fun music spanning SEVEN DECADES! Join us at 7:30! $10 cover charge!
URL:https://ilovebabylon.com/event/the-time-travelers-rock-village-pub/
LOCATION:Village Pub Lindenhurst\, 174 N Wellwood Ave\, Lindenhurst\, NY\, 11757\, US
END:VEVENT
BEGIN:VEVENT
DTSTART;TZID=America/New_York:20260207T193000
DTEND;TZID=America/New_York:20260207T220000
DTSTAMP:20260419T234135
CREATED:20260125T214157Z
LAST-MODIFIED:20260204T180121Z
UID:10007548-1770492600-1770501600@ilovebabylon.com
SUMMARY:Witness for the Prosecution - EastLine Theatre
DESCRIPTION:This February: Agatha Christie’s Witness for the Prosecution. The queen of crime turns her pen to the courtroom. Tickets available now at eastline.ludus.com \n“I didn’t kill her. I’ve never killed anybody.It’s a nightmare. It’s some awful\, evil dream.” \n⚖️ \nA murder\, brutal and bloodthirsty\, has stained the plush carpets of a handsome London townhouse. All the evidence points to Leonard Vole\, a young chancer to whom the heiress left her vast fortune. At least\, this is the story that the prosecution’s witnesses tell. \n⚖️ \nPerformances will take place at the BACCA Arts Center in Lindenhurst starting February 7th and running through March 1st. Tickets are $25 and can be purchased at eastline.ludus.com. More information is available at eastlinetheatre.org or by calling 516-749-5047. \nWitness for the Prosecution by Agatha Christie\, is directed by Paul DeFilippo and presented by EastLine Theatre in partnership with the Babylon Citizens Council on the Arts\, costumes are by Lyn Adler and Wendy Grimm. The cast of Witness for the Prosecution features Amy Benjamin\, Taylor Dunn\, Theresa Fiorito\, Joe Armando Grosso\, Morgan Moffitt\, Stephanie Moreno\, Elizabeth Rowe\, Pam Uruburu\, and Candace Wilkerson. \nStep-free access to the BACCA Arts Center is available via the front door. Feel free to contact us with any access questions at info@eastlinetheatre.org. \nPlease be aware this play includes discussion of violence and death. For more specific content warnings\, feel free to contact us at info@eastlinetheatre.org. The performance is recommended for ages eight and up. \n“One of the boldest\, bravest theatre companies on Long Island\,” according to Fire Island News\, EastLine Theatre aims to create theatre in unlikely spaces while re-examining the canon\, exploring modern plays\, and bringing original works to the attention of the community. \nEastLine returns to the BACCA Arts Center after the Long Island premiere of A Very Expensive Poison. In recent years EastLine has produced a “visceral and intellectually engaging” Long Island premiere of The Hours Are Feminine; a Treasure Island that BroadwayWorld said was “bursting at the seams with imagination”; and a production of In the Next Room by Sarah Ruhl that Long Island Theatre Scene said “raises the bar of creativity for all theaters.” EastLine will return to BACCA Arts Center in April. \nhttps://www.facebook.com/events/2352986041831778/?event_time_id=2352986048498444
URL:https://ilovebabylon.com/event/witness-for-the-prosecution-eastline-theatre/
LOCATION:Babylon Citizens Council on the Arts – bacca\, 149 N Wellwood Ave\, Lindenhurst\, NY\, 11757\, US
END:VEVENT
BEGIN:VEVENT
DTSTART;TZID=America/New_York:20260207T190000
DTEND;TZID=America/New_York:20260207T220000
DTSTAMP:20260419T234135
CREATED:20260125T214155Z
LAST-MODIFIED:20260204T180108Z
UID:10007547-1770490800-1770501600@ilovebabylon.com
SUMMARY:Bloody Sabbath Live at Sand City South
DESCRIPTION:Join us Live for some DEEP cuts with special guests to help us celebrate Dan\, the singer’s\, Birthday!! \nSand City South is located conveniently in the village of Lindenhurst\,a short walk from the train station.
URL:https://ilovebabylon.com/event/bloody-sabbath-live-at-sand-city-south/
LOCATION:Online Event\, West Babylon\, NY\, US
END:VEVENT
BEGIN:VEVENT
DTSTART;TZID=America/New_York:20260207T190000
DTEND;TZID=America/New_York:20260207T220000
DTSTAMP:20260419T234135
CREATED:20260125T214154Z
LAST-MODIFIED:20260204T180103Z
UID:10007546-1770490800-1770501600@ilovebabylon.com
SUMMARY:The Movielife - Celebrating 25 years of This Time Next Year @ AMH
DESCRIPTION:Saturday February 7th 2026 \nThe Movielife celebrating 25 Years of This Time Next Year+ Special guests tba \n@ AMH198 Broadway\, Amityville NY \n$30 ADV / $35 DOS7 PMUnder 16 w/ parent / legal guardianPurchase Tickets: https://www.etix.com/ticket/servlet/s/38220862
URL:https://ilovebabylon.com/event/the-movielife-celebrating-25-years-of-this-time-next-year-amh-2/
LOCATION:198 Broadway Amityville\, NY 11701-2727\, 198 Broadway Amityville\, NY 11701-2727
END:VEVENT
BEGIN:VEVENT
DTSTART;TZID=America/New_York:20260207T190000
DTEND;TZID=America/New_York:20260207T220000
DTSTAMP:20260419T234135
CREATED:20260125T214151Z
LAST-MODIFIED:20260204T180058Z
UID:10007545-1770490800-1770501600@ilovebabylon.com
SUMMARY:The Movielife - Celebrating 25 years of This Time Next Year @ AMH
DESCRIPTION:Saturday February 7th 2026 \nThe Movielife celebrating 25 Years of This Time Next Year+ Special guests tba \n@ AMH198 Broadway\, Amityville NY \n$30 ADV / $35 DOS7 PMUnder 16 w/ parent / legal guardianPurchase Tickets: https://www.etix.com/ticket/servlet/s/38220862
URL:https://ilovebabylon.com/event/the-movielife-celebrating-25-years-of-this-time-next-year-amh/
LOCATION:198 Broadway Amityville\, NY 11701-2727\, 198 Broadway Amityville\, NY 11701-2727
END:VEVENT
BEGIN:VEVENT
DTSTART;TZID=America/New_York:20260207T190000
DTEND;TZID=America/New_York:20260207T214500
DTSTAMP:20260419T234135
CREATED:20260125T214149Z
LAST-MODIFIED:20260204T180054Z
UID:10007544-1770490800-1770500700@ilovebabylon.com
SUMMARY:Saturday Feb 7th @ the Warehouse
DESCRIPTION:Wonderous StoriesSaturday Feb 7th 7PM.The Warehouse 203 Broadway\, Amityville NY631-238-2820We’re back at our old stomping ground playing the best classic hits and deep cuts ever written . This will feel great to be back here shedding all this great music!!
URL:https://ilovebabylon.com/event/saturday-feb-7th-the-warehouse/
LOCATION:The Warehouse Live Music & Events\, The Warehouse Live Music & Events
END:VEVENT
BEGIN:VEVENT
DTSTART;TZID=America/New_York:20260207T190000
DTEND;TZID=America/New_York:20260207T220000
DTSTAMP:20260419T234135
CREATED:20260204T180116Z
LAST-MODIFIED:20260204T180116Z
UID:10007634-1770490800-1770501600@ilovebabylon.com
SUMMARY:Valentine’s Double Feature with Special Guest
DESCRIPTION:Come witness the ultimate serial killer love story ever told\, and chat with the only director brave enough to tell it! \nPSYCHOS IN LOVE! with a special Zoom Q&A with Director Gorman Bechard \nDon’t miss our very first special guest appearance as we celebrate Valentine’s Day the Grindhouse way! \nOnce the Q&A wraps up well begin our second mystery feature. \n(absolutely no grapes permitted on the premises for the duration of this event)
URL:https://ilovebabylon.com/event/valentines-double-feature-with-special-guest/
LOCATION:The Neverending Story\, The Neverending Story
END:VEVENT
BEGIN:VEVENT
DTSTART;TZID=America/New_York:20260207T190000
DTEND;TZID=America/New_York:20260207T220000
DTSTAMP:20260419T234135
CREATED:20260204T180113Z
LAST-MODIFIED:20260204T180113Z
UID:10007633-1770490800-1770501600@ilovebabylon.com
SUMMARY:Half Step at The Nutty Irishman
DESCRIPTION:Join The Nutty Irishman on Saturday\, February 7th at 7:00 PM for Half Step. $10 Cover at the Door.
URL:https://ilovebabylon.com/event/half-step-at-the-nutty-irishman/
LOCATION:323 Main St\, Farmingdale\, NY\, United States\, New York 11735\, 323 Main St\, Farmingdale\, NY\, United States\, New York 11735
END:VEVENT
BEGIN:VEVENT
DTSTART;TZID=America/New_York:20260207T183000
DTEND;TZID=America/New_York:20260207T213000
DTSTAMP:20260419T234135
CREATED:20260125T214049Z
LAST-MODIFIED:20260204T180050Z
UID:10007543-1770489000-1770499800@ilovebabylon.com
SUMMARY:LICMA Dance - Saturday\, February 7th - DJ Only featuring Lyndy
DESCRIPTION:Join us for our monthly dance at the Constantino Brumidi Lodge Sons of Italy Hall in Deer Park which will be a DJ Only night. \nThis month featuring:DJ and Dance Instruction provided by Lyndy. \nDoors open at 6:30 PM. DJ starts at 7:00 PM. \nShow your support for country music and dance by renewing your membership “LICMA 2026” on line at LICMA.ORG or at a dance.
URL:https://ilovebabylon.com/event/licma-dance-saturday-february-7th-dj-only-featuring-lyndy/
LOCATION:Constantino Brumidi Lodge\, 2075 Deer Park Ave\, Deer Park\, NY\, 11729\, US
END:VEVENT
BEGIN:VEVENT
DTSTART;TZID=America/New_York:20260207T183000
DTEND;TZID=America/New_York:20260207T213000
DTSTAMP:20260419T234135
CREATED:20260204T180052Z
LAST-MODIFIED:20260204T180052Z
UID:10007632-1770489000-1770499800@ilovebabylon.com
SUMMARY:Wonderous Stories and The Lucky Stiffs at The Warehouse
DESCRIPTION:Wonderous Stories and The Lucky Stiffs at The Warehouse \nSaturday February 7\, 2026 \nWonderous Stories – Classic and Prog Rock\, Surprise Guests\, and Storytelling \nand  \nThe Lucky Stiffs – Songs you know and love from yesterday and today \nTickets available at: www.thewarehouseli.com/calendar \nWalk-ins welcome \nDoors 6:30pm
URL:https://ilovebabylon.com/event/wonderous-stories-and-the-lucky-stiffs-at-the-warehouse/
LOCATION:The Warehouse Live Music & Events\, The Warehouse Live Music & Events
END:VEVENT
BEGIN:VEVENT
DTSTART;TZID=America/New_York:20260207T180000
DTEND;TZID=America/New_York:20260207T210000
DTSTAMP:20260419T234135
CREATED:20260204T180048Z
LAST-MODIFIED:20260204T180048Z
UID:10007631-1770487200-1770498000@ilovebabylon.com
SUMMARY:Chris Devine Acoustic Live at Tres Palms
DESCRIPTION:Chris Devine is an Acoustic Musician. He plays Classic Rock\, New Rock\, Country\, Originals\, Irish and More \nEnjoy a relaxed dining experience or a few drinks on the Great South Bay at Babylon Villages only waterfront restaurant. Tres Palms is a warm establishment featuring seafood & New American mains\, a surfboard bar top & views of the bay. Warm Hospitality\, Excellent Food and New Everlasting Friendships!!
URL:https://ilovebabylon.com/event/chris-devine-acoustic-live-at-tres-palms-4/
LOCATION:Tres Palms\, 16 East Ct\, Babylon\, NY\, 11702\, US
END:VEVENT
BEGIN:VEVENT
DTSTART;TZID=America/New_York:20260207T150000
DTEND;TZID=America/New_York:20260207T180000
DTSTAMP:20260419T234135
CREATED:20260125T214046Z
LAST-MODIFIED:20260204T180046Z
UID:10007542-1770476400-1770487200@ilovebabylon.com
SUMMARY:Babylon Breast Cancer Coaliation presents "SUPER SATURDAY!
DESCRIPTION:$25 donation includes: One Free Drink and One Free Raffle Ticket \nRegular Menu Available for PurchaseGreat Raffle Baskets\, Lots of Laughs and More! \n@RK_MUSIC_KREUDER \nPurchase your tickets in advance or at the door! \nBabylon Breast Cancer Coalition – 631-893-4110218 N. Wellwood Ave.\, Suite #2Lindenhurst\, NY 11757www.BabylonBreastCancer.org \nMoney Raised in Our Community Stays in Our Community!
URL:https://ilovebabylon.com/event/babylon-breast-cancer-coaliation-presents-super-saturday/
LOCATION:Mary Carroll’s Irish Pub\, Mary Carroll's Irish Pub
END:VEVENT
BEGIN:VEVENT
DTSTART;TZID=America/New_York:20260207T130000
DTEND;TZID=America/New_York:20260207T160000
DTSTAMP:20260419T234135
CREATED:20260125T214042Z
LAST-MODIFIED:20260204T180044Z
UID:10007541-1770469200-1770480000@ilovebabylon.com
SUMMARY:Souper Bowl of Caring - Connected Community Day!
DESCRIPTION:Giving back just got SOUPER fun\, Lindenhurst!Join Lindenhurst Senior High School\, Lindenhurst Community Cares\, and our amazing community partners for the SOUPER Bowl of Caring — an inspired day filled with service\, food\, and connection.This event is open to the entire community. Come donate\, eat\, pick up a coat or food\, connect with neighbors\, and celebrate what makes Lindenhurst strong. \nQuestions? Email lindycareslcc@gmail.comWatch highlights from past years by scanning the QR code.Please be sure to register children in advance so we have enough supplies\, using the QR code provided. \nHere are the details:✔️ Coat and non-perishable food drive\, including pick-up — come on down and take what you need✔️ Chili Cook-Off and Bake-Off featuring Lindenhurst High School staff and student clubs\, judged by the Culinary Institute✔️ All participants are welcome to sample the food\, vote\, and cheer on their favorite entries✔️ Any donation — food\, funds\, or coats — earns a raffle entry for a chance to win a BIG-SCREEN TV donated by our friends at Belfast GastroPub (additional raffle tickets can be earned by visiting tables and attending workshops)✔️ Family-friendly activities\, community tables\, and more \nFamilies with younger children are encouraged to register using the link for our Connected Community Camp\, held in the gym. The camp will feature hands-on activities for kids while parents explore workshops and community resources.
URL:https://ilovebabylon.com/event/souper-bowl-of-caring-connected-community-day/
LOCATION:Lindenhurst Senior High School\, 300 Charles St\, Lindenhurst\, NY\, 11757-3547\, US
END:VEVENT
BEGIN:VEVENT
DTSTART;TZID=America/New_York:20260207T120000
DTEND;TZID=America/New_York:20260207T150000
DTSTAMP:20260419T234135
CREATED:20260204T180042Z
LAST-MODIFIED:20260204T180042Z
UID:10007630-1770465600-1770476400@ilovebabylon.com
SUMMARY:5th Annual P. S. I Love You Pop Up
DESCRIPTION:Mark Your Calendars! 5th Annual @psiloveyouday Retail Pop Up & Party 💜 Is Saturday 2/7 12-3pm!This year it will be the 16th Annual P. S. I Love You Day Celebration 💜 PS I Love Your Day is held every second Friday of February making our next celebration February 13\, 2026. On this day we ask everyone to wear purple\, to stand up against bullying\, help end depression\, and ultimately prevent suicide. We hope that on this day you walk around your community\, school\, or work office and see a sea of purple. We hope that you hear nothing but positive messages that make you feel special\, loved\, and remind you\, that you are never alonexoxo
URL:https://ilovebabylon.com/event/5th-annual-p-s-i-love-you-pop-up/
LOCATION:220 Deer Park Ave\, Babylon\, NY\, United States\, New York 11702\, 220 Deer Park Ave\, Babylon\, NY\, United States\, New York 11702
END:VEVENT
BEGIN:VEVENT
DTSTART;TZID=America/New_York:20260207T120000
DTEND;TZID=America/New_York:20260207T130000
DTSTAMP:20260419T234135
CREATED:20260130T190842Z
LAST-MODIFIED:20260204T180040Z
UID:10007624-1770465600-1770469200@ilovebabylon.com
SUMMARY:Faith & Fitness
DESCRIPTION:Join us for Faith & Fitness\, a class designed to help you move your body\, build strength\, and nourish your faith no matter your age or fitness level.  \nhttps://www.facebook.com/events/1180365027603522/?event_time_id=1180365037603521
URL:https://ilovebabylon.com/event/faith-fitness/
LOCATION:79 East Main Street\, Babylon\, NY\, United States\, New York 11702\, 79 East Main Street\, Babylon\, NY\, United States\, New York 11702
END:VEVENT
BEGIN:VEVENT
DTSTART;TZID=America/New_York:20260207T090000
DTEND;TZID=America/New_York:20260207T120000
DTSTAMP:20260419T234135
CREATED:20260125T214040Z
LAST-MODIFIED:20260204T180038Z
UID:10007540-1770454800-1770465600@ilovebabylon.com
SUMMARY:Beginner's Photography Class
DESCRIPTION:Ready to learn more about your camera and get out of automatic exposure? Now is your chance! \nJoin us as we break down your camera to help you learn about shutter speed\, aperture\, ISO\, and how these settings affect your exposure. \nWe will then put your new knowledge to the test with the guidance of a professional photographer.
URL:https://ilovebabylon.com/event/beginners-photography-class-3/
LOCATION:Amityville\, NY\, Amityville\, NY
END:VEVENT
BEGIN:VEVENT
DTSTART;TZID=America/New_York:20260206T220000
DTEND;TZID=America/New_York:20260207T010000
DTSTAMP:20260419T234135
CREATED:20260125T214034Z
LAST-MODIFIED:20260204T180036Z
UID:10007538-1770415200-1770426000@ilovebabylon.com
SUMMARY:Unbound at Whiskey Rocks
DESCRIPTION:Hey friends 🧡UNBOUND is playing at Whiskey Rocks February 6th!
URL:https://ilovebabylon.com/event/unbound-at-whiskey-rocks/
LOCATION:Babylon \, New York
END:VEVENT
BEGIN:VEVENT
DTSTART;TZID=America/New_York:20260206T210000
DTEND;TZID=America/New_York:20260207T020000
DTSTAMP:20260419T234135
CREATED:20260125T214033Z
LAST-MODIFIED:20260204T180034Z
UID:10007537-1770411600-1770429600@ilovebabylon.com
SUMMARY:Olympics Party at Belfast
DESCRIPTION:Get ready to cheer on Team USA in style! 🇺🇸 \nJoin us February 6th for our Olympics Party with DJ K Step spinning all night\, and plenty of drink specials to keep the energy up! \nParty starts at 9 and goes till close—don’t miss it!
URL:https://ilovebabylon.com/event/olympics-party-at-belfast/
LOCATION:101 North Wellwood Avenue\, Lindenhurst\, NY\, United States\, New York 11757\, 101 North Wellwood Avenue\, Lindenhurst\, NY\, United States\, New York 11757
ORGANIZER;CN="Belfast Gastropub":MAILTO:noreply@facebookmail.com
END:VEVENT
BEGIN:VEVENT
DTSTART;TZID=America/New_York:20260206T210000
DTEND;TZID=America/New_York:20260207T000000
DTSTAMP:20260419T234135
CREATED:20260204T180032Z
LAST-MODIFIED:20260204T180032Z
UID:10007629-1770411600-1770422400@ilovebabylon.com
SUMMARY:Bonjourney: The Best of Journey & Bon Jovi
DESCRIPTION:Rockin’ the Night Away at 317 Main Street on Friday\, February 6th with Bonjourney: A Tribute to Bon Jovi and Journey! \nYou don’t want to miss this live show that combines the best arena rock anthems that define our American music culture! \nDoors open at 8:30 PM | Show begins at 9:00 PM \nJoin 317 Main Street for dinner & drinks beforehand. Make your reservations on OpenTable.com!  \nPlease note ALL concerts at Stage 317 are 21+
URL:https://ilovebabylon.com/event/bonjourney-the-best-of-journey-bon-jovi/
LOCATION:317 Main Street\, Farmingdale\, NY\, United States\, New York 11735\, 317 Main Street\, Farmingdale\, NY\, United States\, New York 11735
END:VEVENT
BEGIN:VEVENT
DTSTART;TZID=America/New_York:20260206T203000
DTEND;TZID=America/New_York:20260206T233000
DTSTAMP:20260419T234135
CREATED:20260125T214031Z
LAST-MODIFIED:20260204T180030Z
UID:10007536-1770409800-1770420600@ilovebabylon.com
SUMMARY:Karaoke Friday
DESCRIPTION:Come on down and sing your favorite songs.Always a good time at the 50 Yardline!!!
URL:https://ilovebabylon.com/event/karaoke-friday/
LOCATION:50 Yardline Sports Bar\, 371 Little East Neck Rd\, West Babylon\, NY\, 11704\, US
END:VEVENT
BEGIN:VEVENT
DTSTART;TZID=America/New_York:20260206T200000
DTEND;TZID=America/New_York:20260206T230000
DTSTAMP:20260419T234135
CREATED:20260204T180025Z
LAST-MODIFIED:20260204T180025Z
UID:10007628-1770408000-1770418800@ilovebabylon.com
SUMMARY:LI Rewind Live at The Nutty Irishman
DESCRIPTION:Join The Nutty Irishman on Friday\, February 6th at 8:00 PM for LI Rewind. $10 Cover at the Door.
URL:https://ilovebabylon.com/event/li-rewind-live-at-the-nutty-irishman/
LOCATION:323 Main St\, Farmingdale\, NY\, United States\, New York 11735\, 323 Main St\, Farmingdale\, NY\, United States\, New York 11735
END:VEVENT
BEGIN:VEVENT
DTSTART;TZID=America/New_York:20260206T200000
DTEND;TZID=America/New_York:20260206T230000
DTSTAMP:20260419T234135
CREATED:20260130T190817Z
LAST-MODIFIED:20260204T180022Z
UID:10007623-1770408000-1770418800@ilovebabylon.com
SUMMARY:Voices Carry LI Making Our Debut At RipTides
DESCRIPTION:Bringing you the best songs from the 80’s and 90’s. Come out and celebrate our debut at this awesome place. Great food great drinks great vibe.
URL:https://ilovebabylon.com/event/voices-carry-li-making-our-debut-at-riptides/
LOCATION:RipTides Cocktails and Grill\, 168 East Montauk Highway\, Lindenhurst\, NY\, 11757\, US
END:VEVENT
BEGIN:VEVENT
DTSTART;TZID=America/New_York:20260206T183000
DTEND;TZID=America/New_York:20260206T213000
DTSTAMP:20260419T234135
CREATED:20260204T180012Z
LAST-MODIFIED:20260204T180012Z
UID:10007627-1770402600-1770413400@ilovebabylon.com
SUMMARY:Dave and Diane - Back at Palmers!
DESCRIPTION:JUST IN ; Back Again at one of the Most Elegant and Tasty Spots; PALMER’S! With the Golden Voice of Diane Fogarty\, All Types of Music from 6:30 – 9;30 and you can call for Reservations.
URL:https://ilovebabylon.com/event/dave-and-diane-back-at-palmers/
LOCATION:Palmer’s American Grille\, Palmer's American Grille
END:VEVENT
BEGIN:VEVENT
DTSTART;TZID=America/New_York:20260206T183000
DTEND;TZID=America/New_York:20260206T213000
DTSTAMP:20260419T234135
CREATED:20260125T214029Z
LAST-MODIFIED:20260204T180017Z
UID:10007535-1770402600-1770413400@ilovebabylon.com
SUMMARY:Pump and Moving Pictures at The Warehouse
DESCRIPTION:Pump and Moving Pictures at The Warehouse \nFriday February 6\, 2026 \nPump – Aerosmith Tribute \nand \nMoving Pictures – Rush Tribute \nTickets available at: www.thewarehouseli.com/calebdar \nWalk-ins welcome \nDoors 6:30pm
URL:https://ilovebabylon.com/event/pump-and-moving-pictures-at-the-warehouse/
LOCATION:The Warehouse Live Music & Events\, The Warehouse Live Music & Events
END:VEVENT
BEGIN:VEVENT
DTSTART;TZID=America/New_York:20260206T183000
DTEND;TZID=America/New_York:20260206T213000
DTSTAMP:20260419T234135
CREATED:20260125T214025Z
LAST-MODIFIED:20260204T180009Z
UID:10007534-1770402600-1770413400@ilovebabylon.com
SUMMARY:LIHNPC Pubmoot
DESCRIPTION:Monthly Pubmoot — a low-key social gathering for local Heathens and Norse Pagans. Come join us for good conversation\, laughter\, music\, tasty drinks\, and plenty of fun. \nNon-alcoholic beverages are available as well\, so whether you drink or not\, all are welcome—come share in the good company! \nIf you plan on attending\, please be sure to select “Going” on the event post. This helps us know you’ll be there—if it’s not marked as “Going\,” it won’t show that you’re attending. So click “Going” and come join us for the fun!
URL:https://ilovebabylon.com/event/lihnpc-pubmoot/
LOCATION:16 W Hoffman Ave\, Lindenhurst\, NY 11757-4008\, United States\, 16 W Hoffman Ave\, Lindenhurst\, NY 11757-4008\, United States
END:VEVENT
BEGIN:VEVENT
DTSTART;TZID=America/New_York:20260206T183000
DTEND;TZID=America/New_York:20260206T213000
DTSTAMP:20260419T234135
CREATED:20260130T190815Z
LAST-MODIFIED:20260204T180020Z
UID:10007622-1770402600-1770413400@ilovebabylon.com
SUMMARY:NLNY HEADS UP CHAMPIONSHIP / SHOOTOUT EVENT
DESCRIPTION:Our HEADS UP CHAMPIONSHIP is rescheduled and coming BACK! And we also having a SHOOTOUT EVENT alongside the Heads Up! 🥳🥳 \n🎉 2 BIG EVENTS….1 NIGHT! 🎉 \n📍Knights of Columbus Deer Park 📍 \n📆 Friday\, Feb 6th\, Bracket kicks off at 6:30pm\, late entry until 7:30pm! 📆 \n⏰ Shootout Event kicks off at 5pm! ⏰ \n📄 Format / Rules of Heads Up Event 📄 \n– Monthly Event open to all!– Double Elimination Bracket 1 on 1 competition– 10 win cards can be used for the event total.– Max of 5 win cards can be used per heads up match– Prize Pool # of BPO seats to depends on turnout\, Guaranteed 1 $400 seat to winner! \n📄 Format / Rules of Shootout Event 📄 \n– Single table sit & go’s– Winner of each advances to a final playoff at 10:30pm– Final Playoff winner receives a $400 seat to BPO Vegas / No Limit Cruise \n🍹Cash Bar🍹 🍕 Ordering Pizzas 🍕 \n****Pre-register online for 500 extra chips under our special events link on the site!****(https://npptpoker.com/new_event.php?vid=1025)
URL:https://ilovebabylon.com/event/nlny-heads-up-championship-shootout-event/
LOCATION:Knights of Columbus\, Deer Park\, NY\, US
END:VEVENT
BEGIN:VEVENT
DTSTART;TZID=America/New_York:20260206T180000
DTEND;TZID=America/New_York:20260206T210000
DTSTAMP:20260419T234135
CREATED:20260204T180006Z
LAST-MODIFIED:20260204T180006Z
UID:10007626-1770400800-1770411600@ilovebabylon.com
SUMMARY:UnWined at Village Lantern
DESCRIPTION:Great food drinks and Music played from the heart.
URL:https://ilovebabylon.com/event/unwined-at-village-lantern-2/
LOCATION:The Village Lanterne Restaurant\, The Village Lanterne Restaurant
END:VEVENT
BEGIN:VEVENT
DTSTART;TZID=America/New_York:20260206T180000
DTEND;TZID=America/New_York:20260206T210000
DTSTAMP:20260419T234135
CREATED:20260125T214023Z
LAST-MODIFIED:20260204T180004Z
UID:10007533-1770400800-1770411600@ilovebabylon.com
SUMMARY:Delusions of Granduer returns to Cebollines
DESCRIPTION:Delusions of Granduer returns to Cebollines Restaurant.A great place to have a meal and relax to music from the 50s to today. Reservations are recommended 631-592-9845. Tell them you are coming for the music.
URL:https://ilovebabylon.com/event/delusions-of-granduer-returns-to-cebollines/
LOCATION:Cebollines Grill\, 170 E Montauk hwy\, Lindenhurst\, NY\, 11757\, US
END:VEVENT
END:VCALENDAR