BEGIN:VCALENDAR
VERSION:2.0
PRODID:-//I Love Babylon, NY - ECPv6.15.20//NONSGML v1.0//EN
CALSCALE:GREGORIAN
METHOD:PUBLISH
X-ORIGINAL-URL:https://ilovebabylon.com
X-WR-CALDESC:Events for I Love Babylon, NY
REFRESH-INTERVAL;VALUE=DURATION:PT1H
X-Robots-Tag:noindex
X-PUBLISHED-TTL:PT1H
BEGIN:VTIMEZONE
TZID:America/New_York
BEGIN:DAYLIGHT
TZOFFSETFROM:-0500
TZOFFSETTO:-0400
TZNAME:EDT
DTSTART:20250309T070000
END:DAYLIGHT
BEGIN:STANDARD
TZOFFSETFROM:-0400
TZOFFSETTO:-0500
TZNAME:EST
DTSTART:20251102T060000
END:STANDARD
BEGIN:DAYLIGHT
TZOFFSETFROM:-0500
TZOFFSETTO:-0400
TZNAME:EDT
DTSTART:20260308T070000
END:DAYLIGHT
BEGIN:STANDARD
TZOFFSETFROM:-0400
TZOFFSETTO:-0500
TZNAME:EST
DTSTART:20261101T060000
END:STANDARD
BEGIN:DAYLIGHT
TZOFFSETFROM:-0500
TZOFFSETTO:-0400
TZNAME:EDT
DTSTART:20270314T070000
END:DAYLIGHT
BEGIN:STANDARD
TZOFFSETFROM:-0400
TZOFFSETTO:-0500
TZNAME:EST
DTSTART:20271107T060000
END:STANDARD
END:VTIMEZONE
BEGIN:VEVENT
DTSTART;TZID=America/New_York:20260221T120000
DTEND;TZID=America/New_York:20260221T140000
DTSTAMP:20260420T000740
CREATED:20260217T190144Z
LAST-MODIFIED:20260217T190144Z
UID:10007711-1771675200-1771682400@ilovebabylon.com
SUMMARY:Sourdough 101
DESCRIPTION:I’m going to teach you how to make real food for your family with minimal effort. Sourdough doesn’t have to be complicated! My method eliminates hands-on time & extra steps while giving you delicious results. I’ll show you how to make easy recipes that require minimal prep\, ingredients & clean up. Perfect for our busy lives! Included in this class price is continued support throughout building & maintaining your starter. Please use the link to sign up! Contact me for alternative payment methods. Looking forward to baking together! \nhttps://pp.events/bX93V6y8
URL:https://ilovebabylon.com/event/sourdough-101/
LOCATION:West Babylon\, LI\, NY
END:VEVENT
BEGIN:VEVENT
DTSTART;TZID=America/New_York:20260221T130000
DTEND;TZID=America/New_York:20260221T160000
DTSTAMP:20260420T000740
CREATED:20260217T190148Z
LAST-MODIFIED:20260217T190148Z
UID:10007712-1771678800-1771689600@ilovebabylon.com
SUMMARY:Magic The Gathering 2-Slot STANDARD RCQ
DESCRIPTION:RipNShip Gaming – US RCQ | 2025-26 Round 3 2-Slot Standard TournamentFormat: STANDARDWe will be open for check-ins starting at 12:00 pm** Decklists to be submitted electronically to: events@ripnshiparena.comMoxfield or similarRound 1 @ 1:00PMSTANDARD FORMAT RCQ• Competitive REL• Entry Fee: $45.00Pre-Register on our website for $5.00 off!• Tournament Structure: Swiss rounds based on attendance + Cut to Top 8·Tournament Structure and Prizing will adhere to guidelines set by Star City Games and Wizards Eventlink Tournament Software·• Prize Structure:– 1st Place: 20%* Store Credit\, FOIL Flowerfoot Swordmaster\, Non-Foil Manifold Mouse\, Top 8 Pin & Lanyard\, Regional Championship Invitation– 2nd Place: 15% Store Credit\, FOIL Flowerfoot Swordmaster\, Non-Foil Flowerfoot Swordmaster\, Top 8 Pin\, Regional Championship Invitation– 3rd & 4th Place: 10% Store Credit\, Top 8 Pin\, Non-Foil Flowerfoot Swordmaster– 5th – 8th Place: 5% Store Credit\, Top 8 Pin \, Non-Foil Flowerfoot Swordmaster*Percent for Store Credit Prizing based on Attendance and will be confirmed at the start of the Tournament.
URL:https://ilovebabylon.com/event/magic-the-gathering-2-slot-standard-rcq/
LOCATION:1883-B Deer Park Avenue\, Deer Park\, NY\, United States\, New York 11729\, 1883-B Deer Park Avenue\, Deer Park\, NY\, United States\, New York 11729
END:VEVENT
BEGIN:VEVENT
DTSTART;TZID=America/New_York:20260221T130000
DTEND;TZID=America/New_York:20260221T160000
DTSTAMP:20260420T000740
CREATED:20260217T190150Z
LAST-MODIFIED:20260217T190150Z
UID:10007713-1771678800-1771689600@ilovebabylon.com
SUMMARY:Holiday Cheer Bus Awards Ceremony
DESCRIPTION:Calling all Holiday Cheer Bus elves 🚌✨ \nWe’re celebrating the season\, the stories\, and the people who made it all happen at our Holiday Cheer Bus Awards. Food\, fun\, awards\, and lots of cheer — come ready to laugh and reconnect. \n📍 Carney’s | Amityville🗓 Saturday\, February 21 | 1–4 PM \nRSVP here so we can save you a spot 👇https://givebutter.com/Cheerbusawards
URL:https://ilovebabylon.com/event/holiday-cheer-bus-awards-ceremony/
LOCATION:Carney’s Irish Pub & Restaurant\, 136 Broadway\, Amityville\, NY\, 11701\, US
END:VEVENT
BEGIN:VEVENT
DTSTART;TZID=America/New_York:20260221T180000
DTEND;TZID=America/New_York:20260221T210000
DTSTAMP:20260420T000740
CREATED:20260125T214455Z
LAST-MODIFIED:20260302T135316Z
UID:10007597-1771696800-1771707600@ilovebabylon.com
SUMMARY:Chris Devine Acoustic Live at Tres Palms
DESCRIPTION:Chris Devine is an Acoustic Musician. He plays Classic Rock\, New Rock\, Country\, Originals\, Irish and More \nEnjoy a relaxed dining experience or a few drinks on the Great South Bay at Babylon Villages only waterfront restaurant. Tres Palms is a warm establishment featuring seafood & New American mains\, a surfboard bar top & views of the bay. Warm Hospitality\, Excellent Food and New Everlasting Friendships!!
URL:https://ilovebabylon.com/event/chris-devine-acoustic-live-at-tres-palms-3/
LOCATION:Tres Palms\, 16 East Ct\, Babylon\, NY\, 11702\, US
CATEGORIES:Music
END:VEVENT
BEGIN:VEVENT
DTSTART;TZID=America/New_York:20260221T183000
DTEND;TZID=America/New_York:20260221T213000
DTSTAMP:20260420T000740
CREATED:20260125T214457Z
LAST-MODIFIED:20260302T135314Z
UID:10007598-1771698600-1771709400@ilovebabylon.com
SUMMARY:Acoustic Rewind - February at Cebollines!
DESCRIPTION:Dinner and music at an amazing venue!
URL:https://ilovebabylon.com/event/acoustic-rewind-february-at-cebollines/
LOCATION:Cebollines Grill\, 170 E Montauk hwy\, Lindenhurst\, NY\, 11757\, US
CATEGORIES:Music
END:VEVENT
BEGIN:VEVENT
DTSTART;TZID=America/New_York:20260221T190000
DTEND;TZID=America/New_York:20260221T223000
DTSTAMP:20260420T000740
CREATED:20260217T190155Z
LAST-MODIFIED:20260217T190155Z
UID:10007714-1771700400-1771713000@ilovebabylon.com
SUMMARY:Chaotica at Sand City South
DESCRIPTION:Two new sets. One night. All Metal! Sand City South — Lindenhurst.
URL:https://ilovebabylon.com/event/chaotica-at-sand-city-south/
LOCATION:Online Event\, West Babylon\, NY\, US
END:VEVENT
BEGIN:VEVENT
DTSTART;TZID=America/New_York:20260221T200000
DTEND;TZID=America/New_York:20260221T230000
DTSTAMP:20260420T000740
CREATED:20260125T215200Z
LAST-MODIFIED:20260302T135312Z
UID:10007599-1771704000-1771714800@ilovebabylon.com
SUMMARY:The Warehouse\, Amityville NY presents:Foreign Journey & Radio Flashback!
DESCRIPTION:The Warehouse\, Amityville NY presents:Foreign Journey & Radio Flashback! Two of the area’s most popular bands together for 1 night!Opened in October 2018\, within the heart of beautiful & historic Amityville Village. THE WAREHOUSE is Long Island’s newest & most exciting Live Music Venue\, Bar & Event Space offering you a chance to listen to the very best local & regional bands/artists We possess a state-of-the-art sound system\, professional lighting\, over 50 beers to choose from\, a well-balanced liquor selection including signature cocktails/martinis and a delicious kitchen menu! Information and tickets for events can found online.”
URL:https://ilovebabylon.com/event/the-warehouse-amityville-ny-presentsforeign-journey-radio-flashback/
LOCATION:The Warehouse Live Music Pub & Grub\, The Warehouse Live Music Pub & Grub
CATEGORIES:Music
END:VEVENT
BEGIN:VEVENT
DTSTART;TZID=America/New_York:20260221T200000
DTEND;TZID=America/New_York:20260221T230000
DTSTAMP:20260420T000740
CREATED:20260217T190201Z
LAST-MODIFIED:20260302T135308Z
UID:10007715-1771704000-1771714800@ilovebabylon.com
SUMMARY:Dave Christian Acoustic Trio at Riptides\, Saturday FEBRUARY 21st
DESCRIPTION:DCP3 will be playing 3 acoustic sets of music starting 8PM\, Saturday FEBRUARY 21st. Playing some new tunes. Hoping you can make it out!
URL:https://ilovebabylon.com/event/dave-christian-acoustic-trio-at-riptides-saturday-february-21st/
LOCATION:RipTides Cocktails and Grill\, 168 East Montauk Highway\, Lindenhurst\, NY\, 11757\, US
CATEGORIES:Music
END:VEVENT
BEGIN:VEVENT
DTSTART;TZID=America/New_York:20260221T210000
DTEND;TZID=America/New_York:20260221T220000
DTSTAMP:20260420T000740
CREATED:20260217T190203Z
LAST-MODIFIED:20260217T190203Z
UID:10007716-1771707600-1771711200@ilovebabylon.com
SUMMARY:The 516seven performs at  Whiskey Rocks in West Babylon
DESCRIPTION:The 516seven debuts at Whiskey Rocks 419 Great East Neck Road West Babylon\, Saturday\, February 21 at 9 PM.Come on down\, shake off the work week and have a few drinks while enjoying some Classic Rock ‘n’ Roll!$10 cover at door
URL:https://ilovebabylon.com/event/the-516seven-performs-at-whiskey-rocks-in-west-babylon/
LOCATION:West Babylon\, LI\, NY
END:VEVENT
BEGIN:VEVENT
DTSTART;TZID=America/New_York:20260222T090000
DTEND;TZID=America/New_York:20260222T120000
DTSTAMP:20260420T000740
CREATED:20260125T215204Z
LAST-MODIFIED:20260217T190207Z
UID:10007600-1771750800-1771761600@ilovebabylon.com
SUMMARY:MBS Pancake Breakfast
DESCRIPTION:Breakfast served until 11am \n$12 Adults and $10 Seniors (60+) & children under 12 \nMany raffles plus 50/50 \nJoin us for a wonderful time! See photo / flyer for additional details\, Thank you for your support.
URL:https://ilovebabylon.com/event/mbs-pancake-breakfast/
LOCATION:Fireman’s Pavilion\, 555 Heiling Boulevard\, Lindenhurst\, NY\, 11757\, US
END:VEVENT
BEGIN:VEVENT
DTSTART;TZID=America/New_York:20260222T110000
DTEND;TZID=America/New_York:20260222T140000
DTSTAMP:20260420T000740
CREATED:20260217T190211Z
LAST-MODIFIED:20260302T135305Z
UID:10007717-1771758000-1771768800@ilovebabylon.com
SUMMARY:Beatles Brunch with Beyond Fab at The Warehouse
DESCRIPTION:Please join us for this spcial brunch as we play music from the Beatles as well as other related rock tunes!!  \nTickets available at: www.thewarehousel.com/calendar
URL:https://ilovebabylon.com/event/beatles-brunch-with-beyond-fab-at-the-warehouse/
LOCATION:The Warehouse Live Music & Events\, The Warehouse Live Music & Events
CATEGORIES:Music
END:VEVENT
BEGIN:VEVENT
DTSTART;TZID=America/New_York:20260222T120000
DTEND;TZID=America/New_York:20260222T150000
DTSTAMP:20260420T000740
CREATED:20260125T215206Z
LAST-MODIFIED:20260217T190212Z
UID:10007601-1771761600-1771772400@ilovebabylon.com
SUMMARY:Old School Hip Hop Brunch
DESCRIPTION:$50 Buffet. Bottomless Brunch Cocktails.Classic Hip Hop all day with a live DJTimeless brunch vibes only.
URL:https://ilovebabylon.com/event/old-school-hip-hop-brunch-2/
LOCATION:345 Deer Park Ave\, Babylon\, NY\, United States\, New York 11702\, 345 Deer Park Ave\, Babylon\, NY\, United States\, New York 11702
END:VEVENT
BEGIN:VEVENT
DTSTART;TZID=America/New_York:20260222T130000
DTEND;TZID=America/New_York:20260222T140000
DTSTAMP:20260420T000740
CREATED:20260217T190216Z
LAST-MODIFIED:20260302T135755Z
UID:10007718-1771765200-1771768800@ilovebabylon.com
SUMMARY:Puppy Love Yoga Fundraiser
DESCRIPTION:Puppy Love Yoga is a joyful experience that combines gentle movement\, mindfulness\, and the playful charm of adoptable puppies. As you flow through poses\, pups wander freely with snuggles\, kisses\, and laughter\, filling the practice with wagging tails and love. Whether you join for stress relief\, a sense of calm\, or the chance to meet your future furry friend\, you are sure to leave feeling lighter and happier. \nAdmission: $40  \nThis is a fundraiser to support Pawsitive Possibilities non-profit mission of rescuing puppies from being euthanized. Please help support this wonderful mission.
URL:https://ilovebabylon.com/event/puppy-love-yoga-fundraiser/
LOCATION:180 Great East Neck Rd\, West Babylon\, NY\, United States\, New York 11704\, 180 Great East Neck Rd\, West Babylon\, NY\, United States\, New York 11704
CATEGORIES:Community,Fundraiser
END:VEVENT
BEGIN:VEVENT
DTSTART;TZID=America/New_York:20260222T130000
DTEND;TZID=America/New_York:20260222T160000
DTSTAMP:20260420T000740
CREATED:20260217T190218Z
LAST-MODIFIED:20260217T190218Z
UID:10007719-1771765200-1771776000@ilovebabylon.com
SUMMARY:Flesh and Blood ProQuest : Vegas
DESCRIPTION:Rip N Ship Gaming is Hosting ProQuest Yokohama! \n$35 Entry to the EventSign up in store or on our website at www.ripnshiparena.com \nPre-Register and Save $5! \nEvent will start at 1PM \nPlease be at Rip N Ship Gaming by 12:45pm with a deck list filled out. \nWe will be checking deck list at the Top 8! \nhttps://gem.fabtcg.com/gem/join/?query=mighty-goat
URL:https://ilovebabylon.com/event/flesh-and-blood-proquest-vegas/
LOCATION:1883-B Deer Park Avenue\, Deer Park\, NY\, United States\, New York 11729\, 1883-B Deer Park Avenue\, Deer Park\, NY\, United States\, New York 11729
END:VEVENT
BEGIN:VEVENT
DTSTART;TZID=America/New_York:20260222T170000
DTEND;TZID=America/New_York:20260222T200000
DTSTAMP:20260420T000740
CREATED:20260217T190220Z
LAST-MODIFIED:20260217T190220Z
UID:10007720-1771779600-1771790400@ilovebabylon.com
SUMMARY:Gundam 2v2 Battles
DESCRIPTION:5:00pm Start Time$10.00 Entry – 8 player cap*Full Store Credit Prize Pool + Local Tournament prizing \nWe will also be giving out unique promo cards this event. \nThese are 2v2 Team Battles. New players are encouraged and welcomed. This event will be casual\, with all players receiving 2 GD-03 booster packs in addition to promos.  \n*We will run additional 2v2 battles as time\, space\, and interest allows.
URL:https://ilovebabylon.com/event/gundam-2v2-battles/
LOCATION:1883-B Deer Park Avenue\, Deer Park\, NY\, United States\, New York 11729\, 1883-B Deer Park Avenue\, Deer Park\, NY\, United States\, New York 11729
END:VEVENT
BEGIN:VEVENT
DTSTART;TZID=America/New_York:20260222T180000
DTEND;TZID=America/New_York:20260222T210000
DTSTAMP:20260420T000740
CREATED:20260217T190221Z
LAST-MODIFIED:20260217T190221Z
UID:10007721-1771783200-1771794000@ilovebabylon.com
SUMMARY:SUNDAY FUNDAY KARAOKE
DESCRIPTION:JOIN US FOR A NIGHT OF GREAT FOOD\, AMAZING COCKTAILS\, & GOOD VIBES FOR RESERVATIONS CALL 631-450-4692
URL:https://ilovebabylon.com/event/sunday-funday-karaoke-3/
LOCATION:143 N Wellwood Avenue\, Lindenhurst\, NY\, 143 N Wellwood Avenue\, Lindenhurst\, NY
END:VEVENT
BEGIN:VEVENT
DTSTART;TZID=America/New_York:20260224T170000
DTEND;TZID=America/New_York:20260224T180000
DTSTAMP:20260420T000740
CREATED:20260217T190227Z
LAST-MODIFIED:20260217T190227Z
UID:10007722-1771952400-1771956000@ilovebabylon.com
SUMMARY:Feb/March Kids Mixed Media - 2 times
DESCRIPTION:2 times to join the fun! Kids Mixed Media is a mix of all art for kids ages 4-8. – all levels welcome Choose Tuesday or Wednesdays from 5-6pm \nClass includes all supplies and instruction with Ms Liz and Ms Taylor. Runs 6 weeksTuesdays – Feb 24th – March 31stWednesdays – Feb 25th – April 1stONLY $140 \nhttps://www.facebook.com/events/898684896357601/?event_time_id=898684903024267
URL:https://ilovebabylon.com/event/feb-march-kids-mixed-media-2-times/
LOCATION:The Color Palette Lindenhurst\, 51 West Hoffman Ave.\, Lindenhurst\, NY\, 11757\, US
END:VEVENT
BEGIN:VEVENT
DTSTART;TZID=America/New_York:20260224T181500
DTEND;TZID=America/New_York:20260224T191500
DTSTAMP:20260420T000740
CREATED:20260217T190228Z
LAST-MODIFIED:20260217T190228Z
UID:10007723-1771956900-1771960500@ilovebabylon.com
SUMMARY:Tuesday Tween/Teen Drawing
DESCRIPTION:A more advanced drawing class for tweens/teens that are more advanced. Tuesdays at 6:15pmExplore Drawing techniques\, charcoal\, pencil\, pastels and more.Still Life\, portraits\, and their own creations.Runs Feb 24- March 31st1 hourAges 9 and upOnly $140 \nhttps://www.facebook.com/events/871283549237286/?event_time_id=871283555903952
URL:https://ilovebabylon.com/event/tuesday-tween-teen-drawing/
LOCATION:The Color Palette Lindenhurst\, 51 West Hoffman Ave.\, Lindenhurst\, NY\, 11757\, US
END:VEVENT
BEGIN:VEVENT
DTSTART;TZID=America/New_York:20260224T183000
DTEND;TZID=America/New_York:20260224T213000
DTSTAMP:20260420T000740
CREATED:20260217T190230Z
LAST-MODIFIED:20260217T190230Z
UID:10007724-1771957800-1771968600@ilovebabylon.com
SUMMARY:New Beginnings
DESCRIPTION:If you are divorced or widowed\, single\, aged 50 plus who would like a new beginning\, come and be inspired to make new friends and learn new skills towards reinventing yourself. Social worker and life coach Marla Matthews will lead this discussion.
URL:https://ilovebabylon.com/event/new-beginnings/
LOCATION:50 Deauville Blvd\, Copiague\, NY\, United States\, New York 11726\, 50 Deauville Blvd\, Copiague\, NY\, United States\, New York 11726
END:VEVENT
BEGIN:VEVENT
DTSTART;TZID=America/New_York:20260225T113000
DTEND;TZID=America/New_York:20260225T123000
DTSTAMP:20260420T000740
CREATED:20260217T190232Z
LAST-MODIFIED:20260302T140130Z
UID:10007725-1772019000-1772022600@ilovebabylon.com
SUMMARY:Home School Art Classes Wednesdays at 11:30am
DESCRIPTION:Come in and paint with us! Home School / Grade School Age Art Class Wed at 11:30am1 hour – $20 per class \nMix of painting\, art history\, drawing\, crafts\, science and more!Please sign up online or call for a spot. \nhttps://www.facebook.com/events/1369785751290133/?event_time_id=1369785817956793
URL:https://ilovebabylon.com/event/home-school-art-classes-wednesdays-at-1130am/
LOCATION:The Color Palette Lindenhurst\, 51 West Hoffman Ave.\, Lindenhurst\, NY\, 11757\, US
CATEGORIES:Arts and Crafts
END:VEVENT
BEGIN:VEVENT
DTSTART;TZID=America/New_York:20260225T160000
DTEND;TZID=America/New_York:20260225T190000
DTSTAMP:20260420T000740
CREATED:20260217T190234Z
LAST-MODIFIED:20260217T190234Z
UID:10007726-1772035200-1772046000@ilovebabylon.com
SUMMARY:Bruno Mars "The Romantic" Listening Party
DESCRIPTION:Join us on Wednesday\, February 25th at 4pm as we celebrate the release of Bruno Mars new album\, “The Romantic!” Prizes\, giveaways\, playing the album early front to back + more! #ListenToBrunoMars #ListenTogether
URL:https://ilovebabylon.com/event/bruno-mars-the-romantic-listening-party/
LOCATION:31 Brookvale Ave\, West Babylon\, NY\, United States\, New York 11704\, 31 Brookvale Ave\, West Babylon\, NY\, United States\, New York 11704
ORGANIZER;CN="Looney Tunes Music and More":MAILTO:noreply@facebookmail.com
END:VEVENT
BEGIN:VEVENT
DTSTART;TZID=America/New_York:20260225T183000
DTEND;TZID=America/New_York:20260225T213000
DTSTAMP:20260420T000740
CREATED:20260217T190236Z
LAST-MODIFIED:20260302T140134Z
UID:10007727-1772044200-1772055000@ilovebabylon.com
SUMMARY:Everyday AI: Get Started with ChatGPT
DESCRIPTION:AI isn’t the future—it’s the now! Learn how to use ChatGPT\, a powerful AI tool that can help you write\, research\, brainstorm\, and more. In this workshop\, led by Lindsay Citrano from Nassau BOCES\, you’ll practice crafting prompts and explore creative\, personal\, and professional uses for AI in your everyday life. No tech experience needed—just curiosity and an open mind.
URL:https://ilovebabylon.com/event/everyday-ai-get-started-with-chatgpt/
LOCATION:50 Deauville Blvd\, Copiague\, NY\, United States\, New York 11726\, 50 Deauville Blvd\, Copiague\, NY\, United States\, New York 11726
CATEGORIES:Arts and Crafts
END:VEVENT
BEGIN:VEVENT
DTSTART;TZID=America/New_York:20260225T190000
DTEND;TZID=America/New_York:20260225T220000
DTSTAMP:20260420T000740
CREATED:20260125T215210Z
LAST-MODIFIED:20260302T135759Z
UID:10007603-1772046000-1772056800@ilovebabylon.com
SUMMARY:Mat Pilates Fundraiser for Cycle For Survival
DESCRIPTION:2nd Annual Mat Pilates Fundraiser for Rare Cancer Research \nIf you’ve ever wanted to do something meaningful with your workout\, this is your moment. \nJoin In Motion Physical Therapy for our 2nd Annual Mat Pilates Fundraiser—a beginner-friendly class where every movement supports the fight against rare cancers. \n100% of proceeds directly benefit Cycle for Survival and Memorial Sloan Kettering\, honoring two members of our own community currently battling rare cancer diagnoses. This isn’t just a class. It’s personal. \nEvent Details:📅 Wednesday\, February 25th🕖 7:00 PM 📍 In Motion Physical Therapy\, 210 Sea Lane\, Farmingdale\, NY💜 Suggested Donation: $30 \nWhat to Expect:Led by our Doctor of Physical Therapy\, this one-hour mat Pilates class is designed for ALL fitness levels. Whether you’ve never tried Pilates or practice regularly\, you’ll leave feeling stronger\, stretched\, and connected to something bigger than yourself. \nNo experience necessary. Just bring yourself\, water\, and an open heart. \nSpace is limited. Text or call (516) 659-1087 to reserve your spot today. \nCan’t attend? Donations are welcome at our front desk. \nMove with purpose. Move for a cause. Move with us.
URL:https://ilovebabylon.com/event/mat-pilates-fundraiser-for-cycle-for-survival/
LOCATION:210 Sea Lane\, Farmingdale\, NY\, United States\, New York 11735\, 210 Sea Lane\, Farmingdale\, NY\, United States\, New York 11735
CATEGORIES:Community,Fundraiser
END:VEVENT
BEGIN:VEVENT
DTSTART;TZID=America/New_York:20260226T110000
DTEND;TZID=America/New_York:20260228T200000
DTSTAMP:20260420T000740
CREATED:20260226T184319Z
LAST-MODIFIED:20260301T074744Z
UID:10007739-1772103600-1772308800@ilovebabylon.com
SUMMARY:Tanger Deal Days Early Access
DESCRIPTION:🎉 Tanger Deal Days Early Access Starts NOW! 🎉 \nBe the first to shop our BIGGEST sale of the season with exclusive Tanger Deal Days offers – available only for TangerClub members now through 2/28. \nUnlock unbeatable savings from top brands like Under Armour\, Old Navy\, Gap Factory\, and more. \nNot a member yet? Don’t miss out – join TangerClub today to access these limited-time insider deals before anyone else. Link here: https://bit.ly/3OA8YpK
URL:https://ilovebabylon.com/event/tanger-deal-days-early-access/
LOCATION:152 The Arches Cir\, Deer Park\, NY\, United States\, New York 11729\, 152 The Arches Cir\, Deer Park\, NY\, United States\, New York 11729
END:VEVENT
BEGIN:VEVENT
DTSTART;TZID=America/New_York:20260226T180000
DTEND;TZID=America/New_York:20260226T210000
DTSTAMP:20260420T000740
CREATED:20260217T190242Z
LAST-MODIFIED:20260302T135303Z
UID:10007728-1772128800-1772139600@ilovebabylon.com
SUMMARY:The Fenians at Pino
DESCRIPTION:Join Barbara & Joe for a fun night of Live Music and amazing food & drinks. Pino is a fantastic place with a great vibe…
URL:https://ilovebabylon.com/event/the-fenians-at-pino-5/
LOCATION:Pino Wine Bar & Bistro\, 143 N Wellwood Avenue\, Lindenhurst\, NY\, 11757\, US
CATEGORIES:Music
END:VEVENT
BEGIN:VEVENT
DTSTART;TZID=America/New_York:20260226T183000
DTEND;TZID=America/New_York:20260226T213000
DTSTAMP:20260420T000740
CREATED:20260125T215216Z
LAST-MODIFIED:20260302T140138Z
UID:10007604-1772130600-1772141400@ilovebabylon.com
SUMMARY:Mosaic Sea Glass Tray & Leprechaun Gnome Craft Workshop at Hurricane Grill & Wings in Lindenhurst
DESCRIPTION:Join us for a fun evening of crafting at Hurricane Grill & Wings in Lindenhurst! \nSea Glass mosaics trays. $55-$65 Round or rectangle. Includes Tray & all craft supplies. Choose a design or freestyle it.Rectangle: 12” 14” 16”Round: 10” 12” \nSea Glass Leprechaun$45-$60 \nPlease note a food/bev purchase is required for this event. We will be crafting first hour & then dining.to dine before the event please arrive early. \nPLEASE REGISTER EACH PERSON SEPERATELY \nNo refunds will be given\, if you cannot attend your supplies will be packaged as a To Go kit.
URL:https://ilovebabylon.com/event/mosaic-sea-glass-tray-leprechaun-gnome-craft-workshop-at-hurricane-grill-wings-in-lindenhurst/
LOCATION:Hurricane Grill & Wings (127 East Montauk Highway\, Lindenhurst\, NY)
CATEGORIES:Arts and Crafts
END:VEVENT
BEGIN:VEVENT
DTSTART;TZID=America/New_York:20260226T183000
DTEND;TZID=America/New_York:20260226T213000
DTSTAMP:20260420T000740
CREATED:20260226T184315Z
LAST-MODIFIED:20260302T135258Z
UID:10007737-1772130600-1772141400@ilovebabylon.com
SUMMARY:Divas of Music Television at The Warehouse
DESCRIPTION:Divas of Music Television at The Warehouse \nThursday February 26\, 2026 \nDivas of Music Television – The Divas of Music Television are back transporting you on a musical journey back in time to one of the best decades\, the iconic 80’s\, with some of your favorites ranging from Whitney Houston\, Cyndi Lauper\, Madonna\, and more!  \nDon’t miss this hot throwback Thursday event!  \nTickets available at: www.thewarehouseli.com/calendar \nWalk-ins welcome \nDoors 6:30pm
URL:https://ilovebabylon.com/event/divas-of-music-television-at-the-warehouse/
LOCATION:The Warehouse Live Music & Events\, The Warehouse Live Music & Events
CATEGORIES:Music
END:VEVENT
BEGIN:VEVENT
DTSTART;TZID=America/New_York:20260226T190000
DTEND;TZID=America/New_York:20260226T220000
DTSTAMP:20260420T000740
CREATED:20260226T184318Z
LAST-MODIFIED:20260226T184318Z
UID:10007738-1772132400-1772143200@ilovebabylon.com
SUMMARY:Designer Purse BINGO
DESCRIPTION:Admission $30 includes three boards per gameBy Reservation only. No walk-ins.Doors open 5:30 PMRaffle baskets and door prizesChips\, coffee\, tea\, and dessert will be providedContact Karen @ 631-943-3622
URL:https://ilovebabylon.com/event/designer-purse-bingo/
LOCATION:Deer Park\, Long Island\, New York. USA\, Deer Park\, Long Island\, New York. USA
END:VEVENT
BEGIN:VEVENT
DTSTART;TZID=America/New_York:20260226T193000
DTEND;TZID=America/New_York:20260226T223000
DTSTAMP:20260420T000740
CREATED:20260125T215218Z
LAST-MODIFIED:20260302T135256Z
UID:10007605-1772134200-1772145000@ilovebabylon.com
SUMMARY:Diva’s of Music Television
DESCRIPTION:***SNOWSTORM SPECIAL 48 HOUR FLASH SALE******50% OFF ALL TICKETS******USE PROMO CODE DIVASOFMTV AT CHECKOUT*** \nFreeze the Weather\, Heat Up Your Plans! \nThursday February 26\, 2026 \nThe Diva’s Of Music Televisionare back at The Warehouse Live Music & Events! \nThey will transport you on a musical journey back in time to one of the best decades\, the iconic 80’s\, with some of your favorites ranging from Whitney Houston\, Cyndi Lauper\, Madonna\, and more! Don’t miss this hot throwback Thursday event! \nTickets available at: www.thewarehouseli.com/calendar \nDoors 7pm \n#TheWarehouseLI #Amityville #LongIsland #LiveMusic #DivasOfMusicTelevision #DivasOfMTV #MusicTelevision #MTV #VideoKilledTheRadioStar #Madonna #JanetJackson #CyndiLauper #PaulaAbdul #WhitneyHouston #80s #80sLadies #ladiesOfThe80s #80sMusic #80sFans #DivasToTheDancefloor #LongIslandDivas #LongIslandMusicians #LongIslandBands #LongIslandMusicScene #LongIslandNightlife #LongIslandConcerts #LongIslandEvents #SupportLocalMusic Kevin Sheehan’s Live Music/Events/Club Info
URL:https://ilovebabylon.com/event/divas-of-music-television/
LOCATION:The Warehouse Live Music & Events\, The Warehouse Live Music & Events
CATEGORIES:Music
END:VEVENT
BEGIN:VEVENT
DTSTART;TZID=America/New_York:20260226T193000
DTEND;TZID=America/New_York:20260226T223000
DTSTAMP:20260420T000740
CREATED:20260226T184325Z
LAST-MODIFIED:20260226T184325Z
UID:10007740-1772134200-1772145000@ilovebabylon.com
SUMMARY:Pokemon TCG League Challenge
DESCRIPTION:Rip N Ship Gaming Pokémon League Challenge!​There will be no change from the usual Weekly Evening Pokemon League Tournament\, except this special night top players will earn Champion Points!​ Start Time: 7:00PM Signups\, 7:30PM Start​Entry: $10​Format: Standard\, best of 1\, full swiss with NO top cut.​This is a competitive event where trainers can earn Championship points. Deck lists are required and must be e-mailed to events@ripnshiparena.com. ​Players MUST show up with their play IDs. If you do not have one\, we can assign you a new one. If you will need a new ID\, please plan to show up early\, as we will be starting promptly at 7:30pm​Prize Support:​1st: 15 Challenge Points​2nd: 12 Challenge Points​3rd-4th: 10 Challenge Points​5-8th: 8 Challenge (with 24+ participants)​9th -16th: 6 Challenge Points (with 48+ participants)​17th-32nd: 4 Challenge Points (with 100+ participants). Prize Support subject to change based on the Pokemon guidelines.
URL:https://ilovebabylon.com/event/pokemon-tcg-league-challenge/
LOCATION:1883-B Deer Park Avenue\, Deer Park\, NY\, United States\, New York 11729\, 1883-B Deer Park Avenue\, Deer Park\, NY\, United States\, New York 11729
END:VEVENT
END:VCALENDAR