BEGIN:VCALENDAR
VERSION:2.0
PRODID:-//I Love Babylon, NY - ECPv6.15.20//NONSGML v1.0//EN
CALSCALE:GREGORIAN
METHOD:PUBLISH
X-ORIGINAL-URL:https://ilovebabylon.com
X-WR-CALDESC:Events for I Love Babylon, NY
REFRESH-INTERVAL;VALUE=DURATION:PT1H
X-Robots-Tag:noindex
X-PUBLISHED-TTL:PT1H
BEGIN:VTIMEZONE
TZID:America/New_York
BEGIN:DAYLIGHT
TZOFFSETFROM:-0500
TZOFFSETTO:-0400
TZNAME:EDT
DTSTART:20240310T070000
END:DAYLIGHT
BEGIN:STANDARD
TZOFFSETFROM:-0400
TZOFFSETTO:-0500
TZNAME:EST
DTSTART:20241103T060000
END:STANDARD
BEGIN:DAYLIGHT
TZOFFSETFROM:-0500
TZOFFSETTO:-0400
TZNAME:EDT
DTSTART:20250309T070000
END:DAYLIGHT
BEGIN:STANDARD
TZOFFSETFROM:-0400
TZOFFSETTO:-0500
TZNAME:EST
DTSTART:20251102T060000
END:STANDARD
BEGIN:DAYLIGHT
TZOFFSETFROM:-0500
TZOFFSETTO:-0400
TZNAME:EDT
DTSTART:20260308T070000
END:DAYLIGHT
BEGIN:STANDARD
TZOFFSETFROM:-0400
TZOFFSETTO:-0500
TZNAME:EST
DTSTART:20261101T060000
END:STANDARD
END:VTIMEZONE
BEGIN:VEVENT
DTSTART;TZID=America/New_York:20251214T130000
DTEND;TZID=America/New_York:20251214T160000
DTSTAMP:20260420T080117
CREATED:20251215T002249Z
LAST-MODIFIED:20251215T002249Z
UID:10007283-1765717200-1765728000@ilovebabylon.com
SUMMARY:Holiday Caroling
DESCRIPTION:You are cordially invited to join us on December 14 for a festive day of caroling. We will convene at the hall at 1:00pm\, distribute lyric sheets\, and proceed to East Neck Nursing facility at 2:00pm to bring holiday cheer to the residents and dedicated staff. Rumor has it that Santa will make an appearance! Afterwards\, we will reconvene in the lounge for hot toddies and holiday cocktails.
URL:https://ilovebabylon.com/event/holiday-caroling-2/
LOCATION:27 Locust Ave\, Babylon\, NY\, 27 Locust Ave\, Babylon\, NY
CATEGORIES:Christmas,Holiday
END:VEVENT
BEGIN:VEVENT
DTSTART;TZID=America/New_York:20251214T130000
DTEND;TZID=America/New_York:20251214T160000
DTSTAMP:20260420T080117
CREATED:20251215T002247Z
LAST-MODIFIED:20251215T002247Z
UID:10007282-1765717200-1765728000@ilovebabylon.com
SUMMARY:Holiday Caroling
DESCRIPTION:You are cordially invited to join us on December 14 for a festive day of caroling. We will convene at the hall at 1:00pm\, distribute lyric sheets\, and proceed to East Neck Nursing facility at 2:00pm to bring holiday cheer to the residents and dedicated staff. Rumor has it that Santa will make an appearance! Afterwards\, we will reconvene in the lounge for hot toddies and holiday cocktails.
URL:https://ilovebabylon.com/event/holiday-caroling/
LOCATION:AOH Division 2 Babylon NY\, AOH Division 2 Babylon NY
CATEGORIES:Christmas,Holiday
END:VEVENT
END:VCALENDAR